BEGIN:VCALENDAR
VERSION:2.0
PRODID:-//Iz Prve Ruke - Koncerti u Americi i Kanadi | Lokalna Dešavanja - ECPv6.15.20//NONSGML v1.0//EN
CALSCALE:GREGORIAN
METHOD:PUBLISH
X-WR-CALNAME:Iz Prve Ruke - Koncerti u Americi i Kanadi | Lokalna Dešavanja
X-ORIGINAL-URL:https://izprveruke.com
X-WR-CALDESC:Events for Iz Prve Ruke - Koncerti u Americi i Kanadi | Lokalna Dešavanja
REFRESH-INTERVAL;VALUE=DURATION:PT1H
X-Robots-Tag:noindex
X-PUBLISHED-TTL:PT1H
BEGIN:VTIMEZONE
TZID:America/Los_Angeles
BEGIN:DAYLIGHT
TZOFFSETFROM:-0800
TZOFFSETTO:-0700
TZNAME:PDT
DTSTART:20220313T100000
END:DAYLIGHT
BEGIN:STANDARD
TZOFFSETFROM:-0700
TZOFFSETTO:-0800
TZNAME:PST
DTSTART:20221106T090000
END:STANDARD
BEGIN:DAYLIGHT
TZOFFSETFROM:-0800
TZOFFSETTO:-0700
TZNAME:PDT
DTSTART:20230312T100000
END:DAYLIGHT
BEGIN:STANDARD
TZOFFSETFROM:-0700
TZOFFSETTO:-0800
TZNAME:PST
DTSTART:20231105T090000
END:STANDARD
BEGIN:DAYLIGHT
TZOFFSETFROM:-0800
TZOFFSETTO:-0700
TZNAME:PDT
DTSTART:20240310T100000
END:DAYLIGHT
BEGIN:STANDARD
TZOFFSETFROM:-0700
TZOFFSETTO:-0800
TZNAME:PST
DTSTART:20241103T090000
END:STANDARD
BEGIN:DAYLIGHT
TZOFFSETFROM:-0800
TZOFFSETTO:-0700
TZNAME:PDT
DTSTART:20250309T100000
END:DAYLIGHT
BEGIN:STANDARD
TZOFFSETFROM:-0700
TZOFFSETTO:-0800
TZNAME:PST
DTSTART:20251102T090000
END:STANDARD
BEGIN:DAYLIGHT
TZOFFSETFROM:-0800
TZOFFSETTO:-0700
TZNAME:PDT
DTSTART:20260308T100000
END:DAYLIGHT
BEGIN:STANDARD
TZOFFSETFROM:-0700
TZOFFSETTO:-0800
TZNAME:PST
DTSTART:20261101T090000
END:STANDARD
BEGIN:DAYLIGHT
TZOFFSETFROM:-0800
TZOFFSETTO:-0700
TZNAME:PDT
DTSTART:20270314T100000
END:DAYLIGHT
BEGIN:STANDARD
TZOFFSETFROM:-0700
TZOFFSETTO:-0800
TZNAME:PST
DTSTART:20271107T090000
END:STANDARD
END:VTIMEZONE
BEGIN:VEVENT
DTSTART;TZID=America/Los_Angeles:20260404T203000
DTEND;TZID=America/Los_Angeles:20260404T235900
DTSTAMP:20260423T133319
CREATED:20260105T020644Z
LAST-MODIFIED:20260124T033525Z
UID:10001573-1775334600-1775347140@izprveruke.com
SUMMARY:Dragana Mirkovic - Atlanta
DESCRIPTION:Dragana Mirkovic & Band live in Atlanta. Vise informacija 770-743-5234
URL:https://izprveruke.com/event/dragana-mirkovic-atlanta-2/
LOCATION:Sahara Lounge\, 2077 Beaver Ruin Rd #140\, Nocross\, Georgia\, United States
CATEGORIES:Koncerti
ATTACH;FMTTYPE=image/png:https://izprveruke.com/wp-content/uploads/2026/01/draganamirkovic.png
GEO:33.93347;-84.18224
X-APPLE-STRUCTURED-LOCATION;VALUE=URI;X-ADDRESS=Sahara Lounge 2077 Beaver Ruin Rd #140 Nocross Georgia United States;X-APPLE-RADIUS=500;X-TITLE=2077 Beaver Ruin Rd #140:geo:-84.18224,33.93347
END:VEVENT
BEGIN:VEVENT
DTSTART;TZID=America/Los_Angeles:20260403T203000
DTEND;TZID=America/Los_Angeles:20260403T235900
DTSTAMP:20260423T133319
CREATED:20260124T025342Z
LAST-MODIFIED:20260124T033505Z
UID:10001583-1775248200-1775260740@izprveruke.com
SUMMARY:Dragana Mirkovic - St. Louis
DESCRIPTION:Dragana Mirkovic & Band live in St. Louis. Vise informacija 314-518-5826 & 314-210-3665 (VIP)
URL:https://izprveruke.com/event/dragana-mirkovic-st-louis-2/
LOCATION:Red Flag\, 3040 Locust St.\, St. Louis\, Missouri\, United States
CATEGORIES:Koncerti
ATTACH;FMTTYPE=image/png:https://izprveruke.com/wp-content/uploads/2026/01/draganamirkovic.png
GEO:38.6358526;-90.2233303
X-APPLE-STRUCTURED-LOCATION;VALUE=URI;X-ADDRESS=Red Flag 3040 Locust St. St. Louis Missouri United States;X-APPLE-RADIUS=500;X-TITLE=3040 Locust St.:geo:-90.2233303,38.6358526
END:VEVENT
BEGIN:VEVENT
DTSTART;TZID=America/Los_Angeles:20260401T213000
DTEND;TZID=America/Los_Angeles:20260401T235900
DTSTAMP:20260423T133319
CREATED:20260216T030947Z
LAST-MODIFIED:20260301T224428Z
UID:10001585-1775079000-1775087940@izprveruke.com
SUMMARY:Dragana Mirkovic - Las Vegas
DESCRIPTION:Dragana Mirkovic & Band live in Las Vegas. Vise informacija 702-807-8658
URL:https://izprveruke.com/event/dragana-mirkovic-las-vegas/
LOCATION:Villa Medusa Nightclub\, 3355 S Procyon St.\, Las Vegas\, Nevada\, United States
CATEGORIES:Koncerti
ATTACH;FMTTYPE=image/png:https://izprveruke.com/wp-content/uploads/2026/01/draganamirkovic.png
GEO:36.0972613;-115.1877997
X-APPLE-STRUCTURED-LOCATION;VALUE=URI;X-ADDRESS=Villa Medusa Nightclub 3355 S Procyon St. Las Vegas Nevada United States;X-APPLE-RADIUS=500;X-TITLE=3355 S Procyon St.:geo:-115.1877997,36.0972613
END:VEVENT
BEGIN:VEVENT
DTSTART;TZID=America/Los_Angeles:20260328T203000
DTEND;TZID=America/Los_Angeles:20260328T235900
DTSTAMP:20260423T133319
CREATED:20260105T021205Z
LAST-MODIFIED:20260124T033446Z
UID:10001575-1774729800-1774742340@izprveruke.com
SUMMARY:Dragana Mirkovic - Detroit
DESCRIPTION:Dragana Mirkovic & Band live in Detroit. Vise informacija 586-822-3278
URL:https://izprveruke.com/event/dragana-mirkovic-detroit-2/
LOCATION:Macedonian Cultural Center\, 43133 Ryan Rd.\, Sterling Heights\, MI\, United States
CATEGORIES:Koncerti
ATTACH;FMTTYPE=image/png:https://izprveruke.com/wp-content/uploads/2026/01/draganamirkovic.png
GEO:42.6089531;-83.0729681
X-APPLE-STRUCTURED-LOCATION;VALUE=URI;X-ADDRESS=Macedonian Cultural Center 43133 Ryan Rd. Sterling Heights MI United States;X-APPLE-RADIUS=500;X-TITLE=43133 Ryan Rd.:geo:-83.0729681,42.6089531
END:VEVENT
BEGIN:VEVENT
DTSTART;TZID=America/Los_Angeles:20260327T203000
DTEND;TZID=America/Los_Angeles:20260327T235900
DTSTAMP:20260423T133319
CREATED:20260105T021724Z
LAST-MODIFIED:20260124T033429Z
UID:10001576-1774643400-1774655940@izprveruke.com
SUMMARY:Dragana Mirkovic - Chicago
DESCRIPTION:Dragana Mirkovic & Band live in Chicago. Vise informacija 773-425-3911
URL:https://izprveruke.com/event/dragana-mirkovic-chicago-2/
LOCATION:Holiday Inn\, 5300 W Touhy Ave.\, Skokie\, Illinois\, United States
CATEGORIES:Koncerti
ATTACH;FMTTYPE=image/png:https://izprveruke.com/wp-content/uploads/2026/01/draganamirkovic.png
GEO:42.012648;-87.7608039
X-APPLE-STRUCTURED-LOCATION;VALUE=URI;X-ADDRESS=Holiday Inn 5300 W Touhy Ave. Skokie Illinois United States;X-APPLE-RADIUS=500;X-TITLE=5300 W Touhy Ave.:geo:-87.7608039,42.012648
END:VEVENT
BEGIN:VEVENT
DTSTART;TZID=America/Los_Angeles:20260321T203000
DTEND;TZID=America/Los_Angeles:20260321T235900
DTSTAMP:20260423T133319
CREATED:20260124T025151Z
LAST-MODIFIED:20260124T033407Z
UID:10001582-1774125000-1774137540@izprveruke.com
SUMMARY:Dragana Mirkovic - Jacksonville
DESCRIPTION:Dragana Mirkovic & Band live in Jacksonville. Vise informacija 904-866-2732
URL:https://izprveruke.com/event/dragana-mirkovic-jacksonville/
LOCATION:Decca Live\, 323 E Bay St.\, Jacksonville\, Florida\, United States
CATEGORIES:Koncerti
ATTACH;FMTTYPE=image/png:https://izprveruke.com/wp-content/uploads/2026/01/draganamirkovic.png
GEO:30.325537;-81.653601
X-APPLE-STRUCTURED-LOCATION;VALUE=URI;X-ADDRESS=Decca Live 323 E Bay St. Jacksonville Florida United States;X-APPLE-RADIUS=500;X-TITLE=323 E Bay St.:geo:-81.653601,30.325537
END:VEVENT
BEGIN:VEVENT
DTSTART;TZID=America/Los_Angeles:20260320T203000
DTEND;TZID=America/Los_Angeles:20260320T235900
DTSTAMP:20260423T133319
CREATED:20260105T021004Z
LAST-MODIFIED:20260124T033349Z
UID:10001574-1774038600-1774051140@izprveruke.com
SUMMARY:Dragana Mirkovic - New York
DESCRIPTION:Dragana Mirkovic & Band live in New York. Vise informacija 917-568-3496
URL:https://izprveruke.com/event/dragana-mirkovic-new-york-2/
LOCATION:Melrose Ballroom\, 36-08 33rd St.\, New York\, NY\, United States
CATEGORIES:Koncerti
ATTACH;FMTTYPE=image/png:https://izprveruke.com/wp-content/uploads/2026/01/draganamirkovic.png
GEO:40.7555992;-73.9286147
X-APPLE-STRUCTURED-LOCATION;VALUE=URI;X-ADDRESS=Melrose Ballroom 36-08 33rd St. New York NY United States;X-APPLE-RADIUS=500;X-TITLE=36-08 33rd St.:geo:-73.9286147,40.7555992
END:VEVENT
BEGIN:VEVENT
DTSTART;TZID=America/Los_Angeles:20260314T203000
DTEND;TZID=America/Los_Angeles:20260314T235900
DTSTAMP:20260423T133319
CREATED:20260105T183225Z
LAST-MODIFIED:20260124T033603Z
UID:10001577-1773520200-1773532740@izprveruke.com
SUMMARY:Dragana Mirkovic - Cleveland
DESCRIPTION:Dragana Mirkovic & Band live in Cleveland. Vise informacija 440-667-5734
URL:https://izprveruke.com/event/dragana-mirkovic-cleveland/
LOCATION:Sherwin-Gilmour Party Center\, 5947 Mayfield Rd.\, Mayfield Heights\, OH\, United States
CATEGORIES:Koncerti
ATTACH;FMTTYPE=image/png:https://izprveruke.com/wp-content/uploads/2026/01/draganamirkovic.png
GEO:41.5212684;-81.4650012
X-APPLE-STRUCTURED-LOCATION;VALUE=URI;X-ADDRESS=Sherwin-Gilmour Party Center 5947 Mayfield Rd. Mayfield Heights OH United States;X-APPLE-RADIUS=500;X-TITLE=5947 Mayfield Rd.:geo:-81.4650012,41.5212684
END:VEVENT
BEGIN:VEVENT
DTSTART;TZID=America/Los_Angeles:20260313T203000
DTEND;TZID=America/Los_Angeles:20260313T235900
DTSTAMP:20260423T133319
CREATED:20260124T024933Z
LAST-MODIFIED:20260124T033544Z
UID:10001581-1773433800-1773446340@izprveruke.com
SUMMARY:Dragana Mirkovic - Indiana
DESCRIPTION:Dragana Mirkovic & Band live in Indiana. Vise informacija 847-489-6236
URL:https://izprveruke.com/event/dragana-mirkovic-indiana/
LOCATION:Macedonian Cultural Center\, 9660 Broadway Crown Point\, Crown Point\, IN\, United States
CATEGORIES:Koncerti
ATTACH;FMTTYPE=image/png:https://izprveruke.com/wp-content/uploads/2026/01/draganamirkovic.png
GEO:41.4426919;-87.3364322
X-APPLE-STRUCTURED-LOCATION;VALUE=URI;X-ADDRESS=Macedonian Cultural Center 9660 Broadway Crown Point Crown Point IN United States;X-APPLE-RADIUS=500;X-TITLE=9660 Broadway Crown Point:geo:-87.3364322,41.4426919
END:VEVENT
BEGIN:VEVENT
DTSTART;TZID=America/Los_Angeles:20241231T200000
DTEND;TZID=America/Los_Angeles:20241231T235900
DTSTAMP:20260423T133319
CREATED:20241115T015933Z
LAST-MODIFIED:20241115T015935Z
UID:10001426-1735675200-1735689540@izprveruke.com
SUMMARY:Dzenan Loncarevic - Docek Nove 2025. - Chicago
DESCRIPTION:Dzenan Loncarevic & Dragana Rakcevic live in Chicago. Vise informacija i rezervacije 708-522-7481\, 630-504-4282\, 773-644-0600
URL:https://izprveruke.com/event/dzenan-loncarevic-docek-nove-2025-chicago/
LOCATION:Compass Arena\, 625 Joliet Rd\, Wilowbrook\, IL\, United States
CATEGORIES:Koncerti
ATTACH;FMTTYPE=image/jpeg:https://izprveruke.com/wp-content/uploads/2022/02/dzenan.jpg
GEO:41.7453652;-87.9396252
X-APPLE-STRUCTURED-LOCATION;VALUE=URI;X-ADDRESS=Compass Arena 625 Joliet Rd Wilowbrook IL United States;X-APPLE-RADIUS=500;X-TITLE=625 Joliet Rd:geo:-87.9396252,41.7453652
END:VEVENT
BEGIN:VEVENT
DTSTART;TZID=America/Los_Angeles:20241224T200000
DTEND;TZID=America/Los_Angeles:20241224T235900
DTSTAMP:20260423T133319
CREATED:20241115T020923Z
LAST-MODIFIED:20241115T020925Z
UID:10001430-1735070400-1735084740@izprveruke.com
SUMMARY:Dzenan Loncarevic - Washington\, DC
DESCRIPTION:Dzenan Loncarevic and Dragana Rakcevic live in Washington\, DC. Vise informacija 703-537-5700 & 202-235-0055
URL:https://izprveruke.com/event/dzenan-loncarevic-washington-dc-2/
LOCATION:Greenhouse Bistro\, 2070 Chain Bridge Rd\, Vienna\, District of Columbia\, United States
CATEGORIES:Koncerti
ATTACH;FMTTYPE=image/jpeg:https://izprveruke.com/wp-content/uploads/2022/02/dzenan.jpg
GEO:38.9232098;-77.103146
X-APPLE-STRUCTURED-LOCATION;VALUE=URI;X-ADDRESS=Greenhouse Bistro 2070 Chain Bridge Rd Vienna District of Columbia United States;X-APPLE-RADIUS=500;X-TITLE=2070 Chain Bridge Rd:geo:-77.103146,38.9232098
END:VEVENT
BEGIN:VEVENT
DTSTART;TZID=America/Los_Angeles:20240921T210000
DTEND;TZID=America/Los_Angeles:20240921T235900
DTSTAMP:20260423T133319
CREATED:20240901T021917Z
LAST-MODIFIED:20240905T211920Z
UID:10001391-1726952400-1726963140@izprveruke.com
SUMMARY:Davor Badrov - Cleveland
DESCRIPTION:Noc kafanse muzike (21+). Davor Badrov\, Dragana Jovic w/ beats by DJ Spaz. Vise informacija i rezervacije 440-667-5734
URL:https://izprveruke.com/event/davor-badrov-cleveland/
LOCATION:Tricky Tortoise\, Erie Street\, Willoughby\, Ohio\, 44094\, United States
CATEGORIES:Koncerti
ATTACH;FMTTYPE=image/jpeg:https://izprveruke.com/wp-content/uploads/2023/06/davorbadrov.jpg
GEO:41.6415379;-81.4055032
X-APPLE-STRUCTURED-LOCATION;VALUE=URI;X-ADDRESS=Tricky Tortoise Erie Street Willoughby Ohio 44094 United States;X-APPLE-RADIUS=500;X-TITLE=Erie Street:geo:-81.4055032,41.6415379
END:VEVENT
BEGIN:VEVENT
DTSTART;TZID=America/Los_Angeles:20240913T210000
DTEND;TZID=America/Los_Angeles:20240913T235900
DTSTAMP:20260423T133319
CREATED:20240901T021627Z
LAST-MODIFIED:20240905T211920Z
UID:10001390-1726261200-1726271940@izprveruke.com
SUMMARY:Davor Badrov - Detroit
DESCRIPTION:Noc kafanse muzike . Davor Badrov\, Dragana Jovic w/ beats by DJ Alex & DJ Borce. Vise informacija i rezervacije 586-524-0753
URL:https://izprveruke.com/event/davor-badrov-detroit/
LOCATION:Stevan Decanski\, East Eleven Mile Road\, Warren\, Michigan\, 48088\, United States
CATEGORIES:Koncerti
ATTACH;FMTTYPE=image/jpeg:https://izprveruke.com/wp-content/uploads/2023/06/davorbadrov.jpg
GEO:42.4942602;-82.9781442
X-APPLE-STRUCTURED-LOCATION;VALUE=URI;X-ADDRESS=Stevan Decanski East Eleven Mile Road Warren Michigan 48088 United States;X-APPLE-RADIUS=500;X-TITLE=East Eleven Mile Road:geo:-82.9781442,42.4942602
END:VEVENT
BEGIN:VEVENT
DTSTART;TZID=America/Los_Angeles:20240906T210000
DTEND;TZID=America/Los_Angeles:20240906T235900
DTSTAMP:20260423T133319
CREATED:20240901T022317Z
LAST-MODIFIED:20240905T211920Z
UID:10001392-1725656400-1725667140@izprveruke.com
SUMMARY:Davor Badrov - Chicago
DESCRIPTION:Noc kafanse muzike. Davor Badrov\, Dragana Jovic w/ beats by DJ Spaz. Vise informacija i rezervacije 519-567-8984
URL:https://izprveruke.com/event/davor-badrov-chicago-2/
LOCATION:Playbook\, 6913 N Milwaukee Ave\, Niles\, IL\, United States
CATEGORIES:Koncerti
ATTACH;FMTTYPE=image/jpeg:https://izprveruke.com/wp-content/uploads/2023/06/davorbadrov.jpg
GEO:42.0073514;-87.7966717
X-APPLE-STRUCTURED-LOCATION;VALUE=URI;X-ADDRESS=Playbook 6913 N Milwaukee Ave Niles IL United States;X-APPLE-RADIUS=500;X-TITLE=6913 N Milwaukee Ave:geo:-87.7966717,42.0073514
END:VEVENT
BEGIN:VEVENT
DTSTART;TZID=America/Los_Angeles:20231124T203000
DTEND;TZID=America/Los_Angeles:20231124T235900
DTSTAMP:20260423T133319
CREATED:20231021T022615Z
LAST-MODIFIED:20231118T054728Z
UID:10001248-1700857800-1700870340@izprveruke.com
SUMMARY:Zeljko Samardzic - Chicago
DESCRIPTION:Zeljko Samardzic live in Chicago! Ages 21+ \n\n\n\nSpecial guests: Romano Kings – Winners of 2019 & 2022 Guča\, Dragana Rakcevic\, DJ Spaz & DJ Sick Nick
URL:https://izprveruke.com/event/zeljko-samardzic-chicago-2/
LOCATION:Joe’s Live\, 5441 Park Pl.\, Rosemont\, Illinois\, United States
CATEGORIES:Koncerti
ATTACH;FMTTYPE=image/jpeg:https://izprveruke.com/wp-content/uploads/2023/02/zeljkosamardzic.jpg
ORGANIZER;CN="Pure Live Music":MAILTO:info@purelivemusic.com
GEO:41.9780701;-87.8673276
X-APPLE-STRUCTURED-LOCATION;VALUE=URI;X-ADDRESS=Joe’s Live 5441 Park Pl. Rosemont Illinois United States;X-APPLE-RADIUS=500;X-TITLE=5441 Park Pl.:geo:-87.8673276,41.9780701
END:VEVENT
BEGIN:VEVENT
DTSTART;TZID=America/Los_Angeles:20231006T203000
DTEND;TZID=America/Los_Angeles:20231006T235900
DTSTAMP:20260423T133319
CREATED:20230823T024118Z
LAST-MODIFIED:20230823T024126Z
UID:10001219-1696624200-1696636740@izprveruke.com
SUMMARY:Dragana Mirkovic - Calgary
DESCRIPTION:Dragana Mirkovic Live in Calgary. More information 403-607-2113
URL:https://izprveruke.com/event/dragana-mirkovic-calgary/
LOCATION:The Back Alley\, 4630 Macleod Trail\, Calgary\, AB\, Canada
CATEGORIES:Koncerti
ATTACH;FMTTYPE=image/png:https://izprveruke.com/wp-content/uploads/2023/01/draganamirkovic-e1673429271253.png
GEO:51.0120541;-114.064381
X-APPLE-STRUCTURED-LOCATION;VALUE=URI;X-ADDRESS=The Back Alley 4630 Macleod Trail Calgary AB Canada;X-APPLE-RADIUS=500;X-TITLE=4630 Macleod Trail:geo:-114.064381,51.0120541
END:VEVENT
BEGIN:VEVENT
DTSTART;TZID=America/Los_Angeles:20230930T203000
DTEND;TZID=America/Los_Angeles:20230930T235900
DTSTAMP:20260423T133319
CREATED:20230909T165336Z
LAST-MODIFIED:20230909T165341Z
UID:10001223-1696105800-1696118340@izprveruke.com
SUMMARY:Dragana Mirkovic - Vancouver
DESCRIPTION:Dragana Mirkovic Live in Vancouver\, BC.
URL:https://izprveruke.com/event/dragana-mirkovic-vancouver/
LOCATION:Hellenic Community of Vancouver\, 4500 Arbutus St.\, Vancouver\, BC\, Canada
CATEGORIES:Koncerti
ATTACH;FMTTYPE=image/png:https://izprveruke.com/wp-content/uploads/2023/01/draganamirkovic-e1673429271253.png
GEO:49.2451661;-123.1526031
X-APPLE-STRUCTURED-LOCATION;VALUE=URI;X-ADDRESS=Hellenic Community of Vancouver 4500 Arbutus St. Vancouver BC Canada;X-APPLE-RADIUS=500;X-TITLE=4500 Arbutus St.:geo:-123.1526031,49.2451661
END:VEVENT
BEGIN:VEVENT
DTSTART;TZID=America/Los_Angeles:20230929T203000
DTEND;TZID=America/Los_Angeles:20230929T235900
DTSTAMP:20260423T133319
CREATED:20230812T235221Z
LAST-MODIFIED:20230812T235225Z
UID:10001211-1696019400-1696031940@izprveruke.com
SUMMARY:Dragana Mirkovic - Toronto
DESCRIPTION:Dragana Mirkovic Live in Toronto.  \n\n\n\nAges 19+
URL:https://izprveruke.com/event/dragana-mirkovic-toronto/
LOCATION:Rebel\, 11 Polson St.\, Toronto\, ON\, Canada
CATEGORIES:Koncerti
ATTACH;FMTTYPE=image/png:https://izprveruke.com/wp-content/uploads/2023/01/draganamirkovic-e1673429271253.png
GEO:43.6407774;-79.3545752
X-APPLE-STRUCTURED-LOCATION;VALUE=URI;X-ADDRESS=Rebel 11 Polson St. Toronto ON Canada;X-APPLE-RADIUS=500;X-TITLE=11 Polson St.:geo:-79.3545752,43.6407774
END:VEVENT
BEGIN:VEVENT
DTSTART;TZID=America/Los_Angeles:20230218T203000
DTEND;TZID=America/Los_Angeles:20230218T235900
DTSTAMP:20260423T133319
CREATED:20230105T071140Z
LAST-MODIFIED:20230105T071146Z
UID:10001045-1676752200-1676764740@izprveruke.com
SUMMARY:Dragana Mirkovic - St. Louis
DESCRIPTION:Dragana Mirkovic & Band live in St. Louis. \n\n\n\nInfo: 314-489-4404 & 314-366-0449
URL:https://izprveruke.com/event/dragana-mirkovic-st-louis/
LOCATION:Orlando’s\, 4300 Hoffmeister Ave.\, St. Louis\, MO\, United States
CATEGORIES:Koncerti
ATTACH;FMTTYPE=image/png:https://izprveruke.com/wp-content/uploads/2023/01/draganamirkovic-e1673429271253.png
GEO:38.5428234;-90.2968619
X-APPLE-STRUCTURED-LOCATION;VALUE=URI;X-ADDRESS=Orlando’s 4300 Hoffmeister Ave. St. Louis MO United States;X-APPLE-RADIUS=500;X-TITLE=4300 Hoffmeister Ave.:geo:-90.2968619,38.5428234
END:VEVENT
BEGIN:VEVENT
DTSTART;TZID=America/Los_Angeles:20230217T203000
DTEND;TZID=America/Los_Angeles:20230217T235900
DTSTAMP:20260423T133319
CREATED:20230105T071026Z
LAST-MODIFIED:20230105T173805Z
UID:10001044-1676665800-1676678340@izprveruke.com
SUMMARY:Dragana Mirkovic - Detroit
DESCRIPTION:Dragana Mirkovic & Band live in Detroit. \n\n\n\nInfo: 586-822-3278
URL:https://izprveruke.com/event/dragana-mirkovic-detroit/
LOCATION:Macedonian Cultural Center\, 43133 Ryan Rd.\, Sterling Heights\, MI\, United States
CATEGORIES:Koncerti
ATTACH;FMTTYPE=image/png:https://izprveruke.com/wp-content/uploads/2023/01/draganamirkovic-e1673429271253.png
GEO:42.6089531;-83.0729681
X-APPLE-STRUCTURED-LOCATION;VALUE=URI;X-ADDRESS=Macedonian Cultural Center 43133 Ryan Rd. Sterling Heights MI United States;X-APPLE-RADIUS=500;X-TITLE=43133 Ryan Rd.:geo:-83.0729681,42.6089531
END:VEVENT
BEGIN:VEVENT
DTSTART;TZID=America/Los_Angeles:20230211T203000
DTEND;TZID=America/Los_Angeles:20230211T235900
DTSTAMP:20260423T133319
CREATED:20230105T070825Z
LAST-MODIFIED:20230105T070831Z
UID:10001043-1676147400-1676159940@izprveruke.com
SUMMARY:Dragana Mirkovic - Chicago
DESCRIPTION:Dragana Mirkovic & Band live in Chicago. \n\n\n\nInfo: 708-860-4832 & 313-900-7817
URL:https://izprveruke.com/event/dragana-mirkovic-chicago/
LOCATION:Compass Arena\, 625 Joliet Rd\, Wilowbrook\, IL\, United States
CATEGORIES:Koncerti
ATTACH;FMTTYPE=image/png:https://izprveruke.com/wp-content/uploads/2023/01/draganamirkovic-e1673429271253.png
GEO:41.7453652;-87.9396252
X-APPLE-STRUCTURED-LOCATION;VALUE=URI;X-ADDRESS=Compass Arena 625 Joliet Rd Wilowbrook IL United States;X-APPLE-RADIUS=500;X-TITLE=625 Joliet Rd:geo:-87.9396252,41.7453652
END:VEVENT
BEGIN:VEVENT
DTSTART;TZID=America/Los_Angeles:20230210T203000
DTEND;TZID=America/Los_Angeles:20230210T235900
DTSTAMP:20260423T133319
CREATED:20230105T070648Z
LAST-MODIFIED:20230105T070655Z
UID:10001042-1676061000-1676073540@izprveruke.com
SUMMARY:Dragana Mirkovic - Atlanta
DESCRIPTION:Dragana Mirkovic & Band live in Atlanta. \n\n\n\nInfo: 770-743-5234
URL:https://izprveruke.com/event/dragana-mirkovic-atlanta/
LOCATION:Royal Ballroom\, 6185 Buford hwy Bldg C\, Peachtree Corners\, GA\, United States
CATEGORIES:Koncerti
ATTACH;FMTTYPE=image/png:https://izprveruke.com/wp-content/uploads/2023/01/draganamirkovic-e1673429271253.png
GEO:33.9320852;-84.2245905
X-APPLE-STRUCTURED-LOCATION;VALUE=URI;X-ADDRESS=Royal Ballroom 6185 Buford hwy Bldg C Peachtree Corners GA United States;X-APPLE-RADIUS=500;X-TITLE=6185 Buford hwy Bldg C:geo:-84.2245905,33.9320852
END:VEVENT
BEGIN:VEVENT
DTSTART;TZID=America/Los_Angeles:20230204T203000
DTEND;TZID=America/Los_Angeles:20230204T235900
DTSTAMP:20260423T133319
CREATED:20230105T070531Z
LAST-MODIFIED:20230109T064356Z
UID:10001041-1675542600-1675555140@izprveruke.com
SUMMARY:Dragana Mirkovic - New York
DESCRIPTION:Dragana Mirkovic & Band live in New York. \n\n\n\nInfo: 917-568-3496 & 646-261-3252
URL:https://izprveruke.com/event/dragana-mirkovic-new-york/
LOCATION:Melrose Ballroom\, 36-08 33rd St.\, New York\, NY\, United States
CATEGORIES:Koncerti
ATTACH;FMTTYPE=image/png:https://izprveruke.com/wp-content/uploads/2023/01/draganamirkovic-e1673429271253.png
GEO:40.7555992;-73.9286147
X-APPLE-STRUCTURED-LOCATION;VALUE=URI;X-ADDRESS=Melrose Ballroom 36-08 33rd St. New York NY United States;X-APPLE-RADIUS=500;X-TITLE=36-08 33rd St.:geo:-73.9286147,40.7555992
END:VEVENT
BEGIN:VEVENT
DTSTART;TZID=America/Los_Angeles:20230203T203000
DTEND;TZID=America/Los_Angeles:20230203T235900
DTSTAMP:20260423T133319
CREATED:20230105T070332Z
LAST-MODIFIED:20230105T071308Z
UID:10001040-1675456200-1675468740@izprveruke.com
SUMMARY:Dragana Mirkovic - Phoenix
DESCRIPTION:Dragana Mirkovic & Band live in Phoenix. \n\n\n\nSpecial guest: DJ Deki \n\n\n\nInfo: 480-433-5505
URL:https://izprveruke.com/event/dragana-mirkovic-phoenix/
LOCATION:CB Live\, 21001 N Tatum Blvd.\, Phoenix\, AZ\, United States
CATEGORIES:Koncerti
ATTACH;FMTTYPE=image/png:https://izprveruke.com/wp-content/uploads/2023/01/draganamirkovic-e1673429271253.png
GEO:33.6765082;-111.9761103
X-APPLE-STRUCTURED-LOCATION;VALUE=URI;X-ADDRESS=CB Live 21001 N Tatum Blvd. Phoenix AZ United States;X-APPLE-RADIUS=500;X-TITLE=21001 N Tatum Blvd.:geo:-111.9761103,33.6765082
END:VEVENT
END:VCALENDAR