BEGIN:VCALENDAR
VERSION:2.0
PRODID:-//Iz Prve Ruke - Koncerti u Americi i Kanadi | Lokalna Dešavanja - ECPv6.15.20//NONSGML v1.0//EN
CALSCALE:GREGORIAN
METHOD:PUBLISH
X-WR-CALNAME:Iz Prve Ruke - Koncerti u Americi i Kanadi | Lokalna Dešavanja
X-ORIGINAL-URL:https://izprveruke.com
X-WR-CALDESC:Events for Iz Prve Ruke - Koncerti u Americi i Kanadi | Lokalna Dešavanja
REFRESH-INTERVAL;VALUE=DURATION:PT1H
X-Robots-Tag:noindex
X-PUBLISHED-TTL:PT1H
BEGIN:VTIMEZONE
TZID:America/Los_Angeles
BEGIN:DAYLIGHT
TZOFFSETFROM:-0800
TZOFFSETTO:-0700
TZNAME:PDT
DTSTART:20240310T100000
END:DAYLIGHT
BEGIN:STANDARD
TZOFFSETFROM:-0700
TZOFFSETTO:-0800
TZNAME:PST
DTSTART:20241103T090000
END:STANDARD
BEGIN:DAYLIGHT
TZOFFSETFROM:-0800
TZOFFSETTO:-0700
TZNAME:PDT
DTSTART:20250309T100000
END:DAYLIGHT
BEGIN:STANDARD
TZOFFSETFROM:-0700
TZOFFSETTO:-0800
TZNAME:PST
DTSTART:20251102T090000
END:STANDARD
BEGIN:DAYLIGHT
TZOFFSETFROM:-0800
TZOFFSETTO:-0700
TZNAME:PDT
DTSTART:20260308T100000
END:DAYLIGHT
BEGIN:STANDARD
TZOFFSETFROM:-0700
TZOFFSETTO:-0800
TZNAME:PST
DTSTART:20261101T090000
END:STANDARD
BEGIN:DAYLIGHT
TZOFFSETFROM:-0800
TZOFFSETTO:-0700
TZNAME:PDT
DTSTART:20270314T100000
END:DAYLIGHT
BEGIN:STANDARD
TZOFFSETFROM:-0700
TZOFFSETTO:-0800
TZNAME:PST
DTSTART:20271107T090000
END:STANDARD
END:VTIMEZONE
BEGIN:VEVENT
DTSTART;TZID=America/Los_Angeles:20260116T203000
DTEND;TZID=America/Los_Angeles:20260116T235900
DTSTAMP:20260423T172313
CREATED:20251212T052952Z
LAST-MODIFIED:20251212T052954Z
UID:10001563-1768595400-1768607940@izprveruke.com
SUMMARY:Mitar Miric - Cleveland
DESCRIPTION:Mitar Miric\, Dijana Antonijevic & Agisa Domic live in Cleveland. Vise informacija 440-667-5734
URL:https://izprveruke.com/event/mitar-miric-cleveland/
LOCATION:Sherwin-Gilmour Party Center\, 5947 Mayfield Rd.\, Mayfield Heights\, OH\, United States
ATTACH;FMTTYPE=image/jpeg:https://izprveruke.com/wp-content/uploads/2025/12/mitarmiric.jpg
GEO:41.5212684;-81.4650012
X-APPLE-STRUCTURED-LOCATION;VALUE=URI;X-ADDRESS=Sherwin-Gilmour Party Center 5947 Mayfield Rd. Mayfield Heights OH United States;X-APPLE-RADIUS=500;X-TITLE=5947 Mayfield Rd.:geo:-81.4650012,41.5212684
END:VEVENT
BEGIN:VEVENT
DTSTART;TZID=America/Los_Angeles:20260113T203000
DTEND;TZID=America/Los_Angeles:20260113T235900
DTSTAMP:20260423T172313
CREATED:20260105T013235Z
LAST-MODIFIED:20260105T013346Z
UID:10001567-1768336200-1768348740@izprveruke.com
SUMMARY:Boban Rajovic - Docek Pravoslavne Nove 2026. - Miami
DESCRIPTION:Docek pravoslavne nove godine. Boban Rajovic i gosti Lambe Alabakovski\, Ana Maric\, DJ Detla\, DJ Crazy Slave. Vise informacija i rezervacije 954-240-5890 \n\n\n\n\n\n\nRegister on Eventbrite
URL:https://izprveruke.com/event/boban-rajovic-docek-pravoslavne-nove-2026-miami/
LOCATION:Hard Rock Daer Nightclub\, 1 Lucky St\, Hollywood\, Florida\, United States
CATEGORIES:Koncerti
ATTACH;FMTTYPE=image/jpeg:https://izprveruke.com/wp-content/uploads/2025/09/bobanrajovic.jpg
GEO:26.0537283;-80.2095341
X-APPLE-STRUCTURED-LOCATION;VALUE=URI;X-ADDRESS=Hard Rock Daer Nightclub 1 Lucky St Hollywood Florida United States;X-APPLE-RADIUS=500;X-TITLE=1 Lucky St:geo:-80.2095341,26.0537283
END:VEVENT
BEGIN:VEVENT
DTSTART;TZID=America/Los_Angeles:20260101T203000
DTEND;TZID=America/Los_Angeles:20260101T235900
DTSTAMP:20260423T172313
CREATED:20251125T015846Z
LAST-MODIFIED:20251203T065659Z
UID:10001554-1767299400-1767311940@izprveruke.com
SUMMARY:Haris\, Dada & Lejla - Chicago
DESCRIPTION:Haris Berkovic\, Dada Mesaljic & Lejla Zahirovic live in Chicago. Specijalni gost Dusan Mijailovic.
URL:https://izprveruke.com/event/haris-dada-lejla-chicago/
LOCATION:Skadarliya\, 9237 West Ogden Ave.\, Brookfield\, IL\, United States
CATEGORIES:Koncerti
ATTACH;FMTTYPE=image/jpeg:https://izprveruke.com/wp-content/uploads/2025/11/haris_dada_lejla.jpg
GEO:41.8167634;-87.8534024
X-APPLE-STRUCTURED-LOCATION;VALUE=URI;X-ADDRESS=Skadarliya 9237 West Ogden Ave. Brookfield IL United States;X-APPLE-RADIUS=500;X-TITLE=9237 West Ogden Ave.:geo:-87.8534024,41.8167634
END:VEVENT
BEGIN:VEVENT
DTSTART;TZID=America/Los_Angeles:20251231T210000
DTEND;TZID=America/Los_Angeles:20251231T235900
DTSTAMP:20260423T172313
CREATED:20251212T052730Z
LAST-MODIFIED:20251212T052732Z
UID:10001562-1767214800-1767225540@izprveruke.com
SUMMARY:Mitar Miric - Docek Nove 2026. - Chicago
DESCRIPTION:Mitar Miric\, Agisa Domic\, Marija Ivanova & Goran Stanimirovic.Open bar\, dinner\, dessert\, photobooth. Rezervacije i vise informacija 312-975-4531
URL:https://izprveruke.com/event/mitar-miric-docek-nove-2026-chicago/
LOCATION:220 Venue\, 7021 W Higgins Ave.\, Chicago\, Illinois\, United States
ATTACH;FMTTYPE=image/jpeg:https://izprveruke.com/wp-content/uploads/2025/12/mitarmiric.jpg
GEO:41.9800797;-87.8033436
X-APPLE-STRUCTURED-LOCATION;VALUE=URI;X-ADDRESS=220 Venue 7021 W Higgins Ave. Chicago Illinois United States;X-APPLE-RADIUS=500;X-TITLE=7021 W Higgins Ave.:geo:-87.8033436,41.9800797
END:VEVENT
BEGIN:VEVENT
DTSTART;TZID=America/Los_Angeles:20251231T203000
DTEND;TZID=America/Los_Angeles:20251231T235900
DTSTAMP:20260423T172313
CREATED:20251208T055401Z
LAST-MODIFIED:20251208T055403Z
UID:10001559-1767213000-1767225540@izprveruke.com
SUMMARY:Osman Hadzic - Docek Nove 2026. - Bowling Green
DESCRIPTION:Osman Hadzic\, Sanja Grahovac & Sanel Bajrami. Docek Nove 2026. u Bowling Green. Vise informacija i rezervacije 270-320-2180 & 986-210-4262
URL:https://izprveruke.com/event/osman-hadzic-docek-nove-2026-bowling-green/
LOCATION:Holiday Inn\, Wilkinson Trace 1021\, Bowling Green\, Kentucky\, 42103\, United States
ATTACH;FMTTYPE=image/jpeg:https://izprveruke.com/wp-content/uploads/2025/12/osmanhadzic_sanjagrahovac.jpg
GEO:36.9693835;-86.4288274
X-APPLE-STRUCTURED-LOCATION;VALUE=URI;X-ADDRESS=Holiday Inn Wilkinson Trace 1021 Bowling Green Kentucky 42103 United States;X-APPLE-RADIUS=500;X-TITLE=Wilkinson Trace 1021:geo:-86.4288274,36.9693835
END:VEVENT
BEGIN:VEVENT
DTSTART;TZID=America/Los_Angeles:20251231T203000
DTEND;TZID=America/Los_Angeles:20251231T235900
DTSTAMP:20260423T172313
CREATED:20251208T054925Z
LAST-MODIFIED:20251208T054926Z
UID:10001558-1767213000-1767225540@izprveruke.com
SUMMARY:Lejla Zahirovic - Docek Nove 2026. - Des Moines
DESCRIPTION:Lejla Zahirovic – Docek nove godine u Des Moines. Vise informacija i rezervacije 515-867-8012
URL:https://izprveruke.com/event/lejla-zahirovic-docek-nove-2026-des-moines/
LOCATION:Stoney Creek Hotel\, 5291 Stoney Creek\, Johnston\, Iowa\, United States
ATTACH;FMTTYPE=image/jpeg:https://izprveruke.com/wp-content/uploads/2025/12/lejlazahirovic.jpg
GEO:41.6570545;-93.7324811
X-APPLE-STRUCTURED-LOCATION;VALUE=URI;X-ADDRESS=Stoney Creek Hotel 5291 Stoney Creek Johnston Iowa United States;X-APPLE-RADIUS=500;X-TITLE=5291 Stoney Creek:geo:-93.7324811,41.6570545
END:VEVENT
BEGIN:VEVENT
DTSTART;TZID=America/Los_Angeles:20251231T203000
DTEND;TZID=America/Los_Angeles:20251231T235900
DTSTAMP:20260423T172313
CREATED:20251116T055233Z
LAST-MODIFIED:20251117T032218Z
UID:10001537-1767213000-1767225540@izprveruke.com
SUMMARY:Haris\, Dada & Dusan - Docek Nove 2026. - Dallas
DESCRIPTION:Docek Nove godine u Dallas. Haris Berkovic\, Dada Mesaljic & Dusan Mijailovic. Vise informacija i rezervacije 713-336-3605 & 469-314-6626
URL:https://izprveruke.com/event/haris-berkovic-dada-mesaljic-docek-nove-2026-dallas/
LOCATION:Garland Convention Center\, 1931 E Centerville Rd.\, Garland\, Texas\, United States
CATEGORIES:Koncerti
ATTACH;FMTTYPE=image/jpeg:https://izprveruke.com/wp-content/uploads/2025/11/haris_dada_dusan.jpg
GEO:32.8931731;-96.6046196
X-APPLE-STRUCTURED-LOCATION;VALUE=URI;X-ADDRESS=Garland Convention Center 1931 E Centerville Rd. Garland Texas United States;X-APPLE-RADIUS=500;X-TITLE=1931 E Centerville Rd.:geo:-96.6046196,32.8931731
END:VEVENT
BEGIN:VEVENT
DTSTART;TZID=America/Los_Angeles:20251231T203000
DTEND;TZID=America/Los_Angeles:20251231T235900
DTSTAMP:20260423T172313
CREATED:20250923T013319Z
LAST-MODIFIED:20250923T013707Z
UID:10001515-1767213000-1767225540@izprveruke.com
SUMMARY:Docek Nove 2026. - Chicago
DESCRIPTION:Davor Badrov\, Adnan Babajic & Samanta Malkoc.  \n\n\n\nLuxury New Year Eve. Premium Open Bar\, Dinner & Free Parking. RSVP 773-863-2620
URL:https://izprveruke.com/event/docek-nove-2026-chicago/
LOCATION:Villa Bella\, 9755 W Grand Ave.\, Franklin Park\, Illinois\, United States
CATEGORIES:Koncerti
ATTACH;FMTTYPE=image/jpeg:https://izprveruke.com/wp-content/uploads/2025/09/badrov_andana_samanta.jpg
GEO:41.9296194;-87.8693198
X-APPLE-STRUCTURED-LOCATION;VALUE=URI;X-ADDRESS=Villa Bella 9755 W Grand Ave. Franklin Park Illinois United States;X-APPLE-RADIUS=500;X-TITLE=9755 W Grand Ave.:geo:-87.8693198,41.9296194
END:VEVENT
BEGIN:VEVENT
DTSTART;TZID=America/Los_Angeles:20251227T203000
DTEND;TZID=America/Los_Angeles:20251227T235900
DTSTAMP:20260423T172313
CREATED:20251116T062518Z
LAST-MODIFIED:20251119T025457Z
UID:10001547-1766867400-1766879940@izprveruke.com
SUMMARY:Devito - St. Louis
DESCRIPTION:Devito live in St. Louis. Vise informacija 678-517-0001 \n\n\n\n\nRegister on Eventbrite
URL:https://izprveruke.com/event/devito-st-louis/
LOCATION:Falls Convention Center\, 300 Admiral Weinel Blvd.\, Columbia\, Illinois\, United States
ATTACH;FMTTYPE=image/jpeg:https://izprveruke.com/wp-content/uploads/2025/11/devito.jpg
GEO:38.4388745;-90.2114976
X-APPLE-STRUCTURED-LOCATION;VALUE=URI;X-ADDRESS=Falls Convention Center 300 Admiral Weinel Blvd. Columbia Illinois United States;X-APPLE-RADIUS=500;X-TITLE=300 Admiral Weinel Blvd.:geo:-90.2114976,38.4388745
END:VEVENT
BEGIN:VEVENT
DTSTART;TZID=America/Los_Angeles:20251227T203000
DTEND;TZID=America/Los_Angeles:20251227T235900
DTSTAMP:20260423T172313
CREATED:20251116T060406Z
LAST-MODIFIED:20251116T060824Z
UID:10001543-1766867400-1766879940@izprveruke.com
SUMMARY:Haris\, Dada & Lejla - New Hartford
DESCRIPTION:Haris Berkovic\, Dada Mesaljic & Lejla Zahirovic live in New Hartford. Vise informacija 315-527-3856
URL:https://izprveruke.com/event/haris-dada-lejla-new-hartford/
LOCATION:Valentino’s Banquet Hall\, 3899 Oneida St.\, New Hartford\, NY\, United States
CATEGORIES:Koncerti
ATTACH;FMTTYPE=image/jpeg:https://izprveruke.com/wp-content/uploads/2025/11/haris_dada_lejla.jpg
GEO:43.051199;-75.2737
X-APPLE-STRUCTURED-LOCATION;VALUE=URI;X-ADDRESS=Valentino’s Banquet Hall 3899 Oneida St. New Hartford NY United States;X-APPLE-RADIUS=500;X-TITLE=3899 Oneida St.:geo:-75.2737,43.051199
END:VEVENT
BEGIN:VEVENT
DTSTART;TZID=America/Los_Angeles:20251226T203000
DTEND;TZID=America/Los_Angeles:20251226T235900
DTSTAMP:20260423T172313
CREATED:20251208T053611Z
LAST-MODIFIED:20251208T053612Z
UID:10001557-1766781000-1766793540@izprveruke.com
SUMMARY:Adnan Nezirov - Detroit
DESCRIPTION:Adnan Nezirov live in Detroit. Vise informacija i rezervacije 586-676-8061
URL:https://izprveruke.com/event/adnan-nezirov-detroit/
LOCATION:Club 54\, 37722 Van Dyke Ave.\, Sterling Heights\, Michigan\, United States
CATEGORIES:Koncerti
ATTACH;FMTTYPE=image/jpeg:https://izprveruke.com/wp-content/uploads/2025/12/adnannezirov.jpg
GEO:42.5710919;-83.0291199
X-APPLE-STRUCTURED-LOCATION;VALUE=URI;X-ADDRESS=Club 54 37722 Van Dyke Ave. Sterling Heights Michigan United States;X-APPLE-RADIUS=500;X-TITLE=37722 Van Dyke Ave.:geo:-83.0291199,42.5710919
END:VEVENT
BEGIN:VEVENT
DTSTART;TZID=America/Los_Angeles:20251226T203000
DTEND;TZID=America/Los_Angeles:20251226T235900
DTSTAMP:20260423T172313
CREATED:20251116T062429Z
LAST-MODIFIED:20251122T004806Z
UID:10001546-1766781000-1766793540@izprveruke.com
SUMMARY:Devito - New York
DESCRIPTION:Devito live in New York. Vise informacija 678-517-0001 \n\n\n\n\n\n\nRegister on Eventbrite
URL:https://izprveruke.com/event/devito-new-york/
LOCATION:Melrose Ballroom\, 36-08 33rd St.\, New York\, NY\, United States
ATTACH;FMTTYPE=image/jpeg:https://izprveruke.com/wp-content/uploads/2025/11/devito.jpg
GEO:40.7555992;-73.9286147
X-APPLE-STRUCTURED-LOCATION;VALUE=URI;X-ADDRESS=Melrose Ballroom 36-08 33rd St. New York NY United States;X-APPLE-RADIUS=500;X-TITLE=36-08 33rd St.:geo:-73.9286147,40.7555992
END:VEVENT
BEGIN:VEVENT
DTSTART;TZID=America/Los_Angeles:20251226T203000
DTEND;TZID=America/Los_Angeles:20251226T235900
DTSTAMP:20260423T172313
CREATED:20251116T060301Z
LAST-MODIFIED:20251116T060803Z
UID:10001542-1766781000-1766793540@izprveruke.com
SUMMARY:Haris\, Dada & Lejla - New Britain
DESCRIPTION:Haris Berkovic\, Dada Mesaljic & Lejla Zahirovic live in New Britain. Vise informacija 860-296-7923 & 860-296-1177
URL:https://izprveruke.com/event/haris-dada-lejla-new-britain/
LOCATION:Grand Alure Ballroom\, 1375 E Street\, New Britain\, Connecticut\, United States
CATEGORIES:Koncerti
ATTACH;FMTTYPE=image/jpeg:https://izprveruke.com/wp-content/uploads/2025/11/haris_dada_lejla.jpg
GEO:41.6900603;-72.7593573
X-APPLE-STRUCTURED-LOCATION;VALUE=URI;X-ADDRESS=Grand Alure Ballroom 1375 E Street New Britain Connecticut United States;X-APPLE-RADIUS=500;X-TITLE=1375 E Street:geo:-72.7593573,41.6900603
END:VEVENT
BEGIN:VEVENT
DTSTART;TZID=America/Los_Angeles:20251225T203000
DTEND;TZID=America/Los_Angeles:20251225T235900
DTSTAMP:20260423T172313
CREATED:20251212T053505Z
LAST-MODIFIED:20251212T053507Z
UID:10001564-1766694600-1766707140@izprveruke.com
SUMMARY:Dragi & Agisa Domic - Chicago
DESCRIPTION:Dragi & Agisa Domic live in Chicago. Vise informacija 773-677-0247
URL:https://izprveruke.com/event/dragi-agisa-domic-chicago/
LOCATION:220 Venue\, 7021 W Higgins Ave.\, Chicago\, Illinois\, United States
ATTACH;FMTTYPE=image/jpeg:https://izprveruke.com/wp-content/uploads/2025/12/dragi_agisa_domic.jpg
GEO:41.9800797;-87.8033436
X-APPLE-STRUCTURED-LOCATION;VALUE=URI;X-ADDRESS=220 Venue 7021 W Higgins Ave. Chicago Illinois United States;X-APPLE-RADIUS=500;X-TITLE=7021 W Higgins Ave.:geo:-87.8033436,41.9800797
END:VEVENT
BEGIN:VEVENT
DTSTART;TZID=America/Los_Angeles:20251225T203000
DTEND;TZID=America/Los_Angeles:20251225T235900
DTSTAMP:20260423T172313
CREATED:20251116T062348Z
LAST-MODIFIED:20251209T171745Z
UID:10001545-1766694600-1766707140@izprveruke.com
SUMMARY:Devito - Chicago
DESCRIPTION:Devito live in Chicago. Vise informacija 678-517-0001. Hard copy tickets are available in Bosna Grill and Lucky Cafe. Online tickets are sold out.
URL:https://izprveruke.com/event/devito-chicago/
LOCATION:Holiday Inn\, 5300 W Touhy Ave.\, Skokie\, Illinois\, United States
ATTACH;FMTTYPE=image/jpeg:https://izprveruke.com/wp-content/uploads/2025/11/devito.jpg
GEO:42.012648;-87.7608039
X-APPLE-STRUCTURED-LOCATION;VALUE=URI;X-ADDRESS=Holiday Inn 5300 W Touhy Ave. Skokie Illinois United States;X-APPLE-RADIUS=500;X-TITLE=5300 W Touhy Ave.:geo:-87.7608039,42.012648
END:VEVENT
BEGIN:VEVENT
DTSTART;TZID=America/Los_Angeles:20251224T203000
DTEND;TZID=America/Los_Angeles:20251224T235900
DTSTAMP:20260423T172313
CREATED:20251212T051812Z
LAST-MODIFIED:20251212T051814Z
UID:10001561-1766608200-1766620740@izprveruke.com
SUMMARY:Haris\, Dada\, Lejla & Dusan - Chicago
DESCRIPTION:Haris Berkovic\, Dada Mesaljic\, Lejla Zahirovic & Dusan Mijailovic live in Chicago. Vise informacija 312-975-4531
URL:https://izprveruke.com/event/haris-dada-lejla-dusan-chicago/
LOCATION:220 Venue\, 7021 W Higgins Ave.\, Chicago\, Illinois\, United States
CATEGORIES:Koncerti
ATTACH;FMTTYPE=image/jpeg:https://izprveruke.com/wp-content/uploads/2025/11/haris_dada_lejla.jpg
GEO:41.9800797;-87.8033436
X-APPLE-STRUCTURED-LOCATION;VALUE=URI;X-ADDRESS=220 Venue 7021 W Higgins Ave. Chicago Illinois United States;X-APPLE-RADIUS=500;X-TITLE=7021 W Higgins Ave.:geo:-87.8033436,41.9800797
END:VEVENT
BEGIN:VEVENT
DTSTART;TZID=America/Los_Angeles:20251224T203000
DTEND;TZID=America/Los_Angeles:20251224T235900
DTSTAMP:20260423T172313
CREATED:20251116T062252Z
LAST-MODIFIED:20251119T025256Z
UID:10001544-1766608200-1766620740@izprveruke.com
SUMMARY:Devito - Atlanta
DESCRIPTION:Devito live in Atlanta. Vise informacija 678-517-0001 \n\n\n\n\nRegister on Eventbrite
URL:https://izprveruke.com/event/devito-atlanta/
LOCATION:Ehall Music Lounge\, 1550 Beaver Ruin Rd.\, Norcross\, GA\, United States
ATTACH;FMTTYPE=image/jpeg:https://izprveruke.com/wp-content/uploads/2025/11/devito.jpg
GEO:33.6088617;-84.3451015
X-APPLE-STRUCTURED-LOCATION;VALUE=URI;X-ADDRESS=Ehall Music Lounge 1550 Beaver Ruin Rd. Norcross GA United States;X-APPLE-RADIUS=500;X-TITLE=1550 Beaver Ruin Rd.:geo:-84.3451015,33.6088617
END:VEVENT
BEGIN:VEVENT
DTSTART;TZID=America/Los_Angeles:20251220T203000
DTEND;TZID=America/Los_Angeles:20251220T235900
DTSTAMP:20260423T172313
CREATED:20251212T053654Z
LAST-MODIFIED:20251212T053656Z
UID:10001565-1766262600-1766275140@izprveruke.com
SUMMARY:Dragi & Agisa Domic - St. Petersburg
DESCRIPTION:Dragi & Agisa Domic live in St. Petersburg. Vise informacija 727-280-3317
URL:https://izprveruke.com/event/dragi-agisa-domic-st-petersburg/
LOCATION:DMG Cafe Bar\, 9031 DR. MLK Jr. Sreet N\, St. Petersbrug\, Florida\, United States
ATTACH;FMTTYPE=image/jpeg:https://izprveruke.com/wp-content/uploads/2025/12/dragi_agisa_domic.jpg
GEO:27.8548659;-82.6465237
X-APPLE-STRUCTURED-LOCATION;VALUE=URI;X-ADDRESS=DMG Cafe Bar 9031 DR. MLK Jr. Sreet N St. Petersbrug Florida United States;X-APPLE-RADIUS=500;X-TITLE=9031 DR. MLK Jr. Sreet N:geo:-82.6465237,27.8548659
END:VEVENT
BEGIN:VEVENT
DTSTART;TZID=America/Los_Angeles:20251220T203000
DTEND;TZID=America/Los_Angeles:20251220T235900
DTSTAMP:20260423T172313
CREATED:20251116T060142Z
LAST-MODIFIED:20251116T060742Z
UID:10001541-1766262600-1766275140@izprveruke.com
SUMMARY:Haris\, Dada & Lejla - Grand Rapids
DESCRIPTION:Haris Berkovic\, Dada Mesaljic & Lejla Zahirovic live in Grand Rapids. Vise informacija 616-890-6016
URL:https://izprveruke.com/event/haris-dada-lejla-grand-rapids/
LOCATION:Sheraton Grand Rapids Airport\, 5700 28th St. SE\, Grand Rapids\, Michigan\, United States
CATEGORIES:Koncerti
ATTACH;FMTTYPE=image/jpeg:https://izprveruke.com/wp-content/uploads/2025/11/haris_dada_lejla.jpg
GEO:42.9120103;-85.5257567
X-APPLE-STRUCTURED-LOCATION;VALUE=URI;X-ADDRESS=Sheraton Grand Rapids Airport 5700 28th St. SE Grand Rapids Michigan United States;X-APPLE-RADIUS=500;X-TITLE=5700 28th St. SE:geo:-85.5257567,42.9120103
END:VEVENT
BEGIN:VEVENT
DTSTART;TZID=America/Los_Angeles:20251219T203000
DTEND;TZID=America/Los_Angeles:20251219T235900
DTSTAMP:20260423T172313
CREATED:20251116T193303Z
LAST-MODIFIED:20251129T223354Z
UID:10001548-1766176200-1766188740@izprveruke.com
SUMMARY:Haris\, Dada & Dusan - Des Moines
DESCRIPTION:Haris Berkovic\, Dada Mesaljic & Dusan Mijailovic live in Des Moines. Vise informacija 515-778-8348
URL:https://izprveruke.com/event/haris-berkovic-dada-mesaljic-des-moines/
LOCATION:Stoney Creek Hotel\, 5291 Stoney Creek\, Johnston\, Iowa\, United States
CATEGORIES:Koncerti
ATTACH;FMTTYPE=image/jpeg:https://izprveruke.com/wp-content/uploads/2025/11/haris_dada_dusan.jpg
GEO:41.6570545;-93.7324811
X-APPLE-STRUCTURED-LOCATION;VALUE=URI;X-ADDRESS=Stoney Creek Hotel 5291 Stoney Creek Johnston Iowa United States;X-APPLE-RADIUS=500;X-TITLE=5291 Stoney Creek:geo:-93.7324811,41.6570545
END:VEVENT
BEGIN:VEVENT
DTSTART;TZID=America/Los_Angeles:20251213T203000
DTEND;TZID=America/Los_Angeles:20251213T235900
DTSTAMP:20260423T172313
CREATED:20251212T054014Z
LAST-MODIFIED:20251212T054016Z
UID:10001566-1765657800-1765670340@izprveruke.com
SUMMARY:Dragi & Agisa Domic - St. Louis
DESCRIPTION:Dragi & Agisa Domic live in St. Louis. Vise informacija 314-260-9369
URL:https://izprveruke.com/event/dragi-agisa-domic-st-louis/
LOCATION:Hollywood Restaurant\, 4640 Gravois Ave.\, St. Louis\, Missouri\, United States
ATTACH;FMTTYPE=image/jpeg:https://izprveruke.com/wp-content/uploads/2025/12/dragi_agisa_domic.jpg
GEO:38.5829946;-90.2646266
X-APPLE-STRUCTURED-LOCATION;VALUE=URI;X-ADDRESS=Hollywood Restaurant 4640 Gravois Ave. St. Louis Missouri United States;X-APPLE-RADIUS=500;X-TITLE=4640 Gravois Ave.:geo:-90.2646266,38.5829946
END:VEVENT
BEGIN:VEVENT
DTSTART;TZID=America/Los_Angeles:20251213T203000
DTEND;TZID=America/Los_Angeles:20251213T235900
DTSTAMP:20260423T172313
CREATED:20251116T060047Z
LAST-MODIFIED:20251116T060710Z
UID:10001540-1765657800-1765670340@izprveruke.com
SUMMARY:Haris\, Dada & Lejla - St. Petersburg
DESCRIPTION:Haris Berkovic\, Dada Mesaljic & Lejla Zahirovic live in St. Petersburg. Vise informacija 727-452-3215
URL:https://izprveruke.com/event/haris-dada-lejla-st-petersburg/
LOCATION:Magic Dance Club\, 2100 E Bay Dr.\, Largo\, Florida\, United States
CATEGORIES:Koncerti
ATTACH;FMTTYPE=image/jpeg:https://izprveruke.com/wp-content/uploads/2025/11/haris_dada_lejla.jpg
GEO:27.9171756;-82.7651986
X-APPLE-STRUCTURED-LOCATION;VALUE=URI;X-ADDRESS=Magic Dance Club 2100 E Bay Dr. Largo Florida United States;X-APPLE-RADIUS=500;X-TITLE=2100 E Bay Dr.:geo:-82.7651986,27.9171756
END:VEVENT
BEGIN:VEVENT
DTSTART;TZID=America/Los_Angeles:20251212T203000
DTEND;TZID=America/Los_Angeles:20251212T235900
DTSTAMP:20260423T172313
CREATED:20251116T055918Z
LAST-MODIFIED:20251116T060649Z
UID:10001539-1765571400-1765583940@izprveruke.com
SUMMARY:Haris\, Dada & Lejla - Jacksonville
DESCRIPTION:Haris Berkovic\, Dada Mesaljic & Lejla Zahirovic live in Jacksonville. Vise informacija 904-866-2732
URL:https://izprveruke.com/event/haris-dada-lejla-jacksonville/
LOCATION:Jax Restaurant & Grill\, Atlantic Boulevard 8136\, Jacksonville\, Florida\, 32211\, United States
CATEGORIES:Koncerti
ATTACH;FMTTYPE=image/jpeg:https://izprveruke.com/wp-content/uploads/2025/11/haris_dada_lejla.jpg
GEO:30.3134828;-81.5708671
X-APPLE-STRUCTURED-LOCATION;VALUE=URI;X-ADDRESS=Jax Restaurant & Grill Atlantic Boulevard 8136 Jacksonville Florida 32211 United States;X-APPLE-RADIUS=500;X-TITLE=Atlantic Boulevard 8136:geo:-81.5708671,30.3134828
END:VEVENT
BEGIN:VEVENT
DTSTART;TZID=America/Los_Angeles:20251207T170000
DTEND;TZID=America/Los_Angeles:20251207T235900
DTSTAMP:20260423T172313
CREATED:20251121T031536Z
LAST-MODIFIED:20251121T032514Z
UID:10001553-1765126800-1765151940@izprveruke.com
SUMMARY:Serbian Film Festival - Chicago
DESCRIPTION:AUDITORIUM 15:00 ČOVJEK LAVINA6:30 POVRATAK ŽIKINE DINASTIJE8:00 Svečano zatvaranje Festivala9:00 BRATE \n\n\n\nAUDITORIUM 25:30 POVRATAK ŽIKINE DINASTIJE7:15 DRAVA SE NE PREDAJE9:00 Svečano zatvaranje Festivala
URL:https://izprveruke.com/event/serbian-film-festival-chicago-3/
LOCATION:AMC Dine-In 12\, 9701 W Bryn Mawr Ave.\, Rosemont\, Illinois\, United States
CATEGORIES:Filmovi
ATTACH;FMTTYPE=image/jpeg:https://izprveruke.com/wp-content/uploads/2025/11/chicagoserbianfilmfestival.jpg
GEO:41.9798777;-87.8675459
X-APPLE-STRUCTURED-LOCATION;VALUE=URI;X-ADDRESS=AMC Dine-In 12 9701 W Bryn Mawr Ave. Rosemont Illinois United States;X-APPLE-RADIUS=500;X-TITLE=9701 W Bryn Mawr Ave.:geo:-87.8675459,41.9798777
END:VEVENT
BEGIN:VEVENT
DTSTART;TZID=America/Los_Angeles:20251206T203000
DTEND;TZID=America/Los_Angeles:20251206T235900
DTSTAMP:20260423T172313
CREATED:20251116T055725Z
LAST-MODIFIED:20251116T060628Z
UID:10001538-1765053000-1765065540@izprveruke.com
SUMMARY:Haris\, Dada & Lejla - Denver
DESCRIPTION:Haris Berkovic\, Dada Mesaljic & Lejla Zahirovic live in Denver. Vise informacija 303-875-8757
URL:https://izprveruke.com/event/haris-dada-lejla-denver/
LOCATION:Gaval Event Center\, 5312 Sheridan Blvd.\, Arvada\, Colorado\, United States
CATEGORIES:Koncerti
ATTACH;FMTTYPE=image/jpeg:https://izprveruke.com/wp-content/uploads/2025/11/haris_dada_lejla.jpg
GEO:39.7930576;-105.0520008
X-APPLE-STRUCTURED-LOCATION;VALUE=URI;X-ADDRESS=Gaval Event Center 5312 Sheridan Blvd. Arvada Colorado United States;X-APPLE-RADIUS=500;X-TITLE=5312 Sheridan Blvd.:geo:-105.0520008,39.7930576
END:VEVENT
BEGIN:VEVENT
DTSTART;TZID=America/Los_Angeles:20251206T150000
DTEND;TZID=America/Los_Angeles:20251206T235900
DTSTAMP:20260423T172313
CREATED:20251121T031431Z
LAST-MODIFIED:20251121T032814Z
UID:10001552-1765033200-1765065540@izprveruke.com
SUMMARY:Serbian Film Festival - Chicago
DESCRIPTION:AUDITORIUM 13:30 EVO GOLA4:45 RESTITUCIJA\, ILI SAN I JAVA STARE GRADE7:00 SVEMU DOĐE KRAJ9:00 ŽIVI I ZDRAVI \n\n\n\nAUDITORIUM 23:00 BRAĆA PO ZASTAVI3:30 DŽO4:00 RATNI HIRURG5:15 TAČKA PUCANJA5:30 KAJMAKČALAN6:35 TOXIC NATO7:15 LJUDI HRISTOVI – NAŠE VREME9:15 REČI O SVEČOVEKU
URL:https://izprveruke.com/event/serbian-film-festival-chicago-2/
LOCATION:AMC Dine-In 12\, 9701 W Bryn Mawr Ave.\, Rosemont\, Illinois\, United States
CATEGORIES:Filmovi
ATTACH;FMTTYPE=image/jpeg:https://izprveruke.com/wp-content/uploads/2025/11/chicagoserbianfilmfestival.jpg
GEO:41.9798777;-87.8675459
X-APPLE-STRUCTURED-LOCATION;VALUE=URI;X-ADDRESS=AMC Dine-In 12 9701 W Bryn Mawr Ave. Rosemont Illinois United States;X-APPLE-RADIUS=500;X-TITLE=9701 W Bryn Mawr Ave.:geo:-87.8675459,41.9798777
END:VEVENT
BEGIN:VEVENT
DTSTART;TZID=America/Los_Angeles:20251205T203000
DTEND;TZID=America/Los_Angeles:20251205T235900
DTSTAMP:20260423T172313
CREATED:20251116T193549Z
LAST-MODIFIED:20251116T193550Z
UID:10001550-1764966600-1764979140@izprveruke.com
SUMMARY:Haris\, Dada & Lejla - Minneapolis
DESCRIPTION:Haris Berkovic\, Dada Mesaljic & Lejla Zahirovic live in Minneapolis. Vise informacija 763-670-5712
URL:https://izprveruke.com/event/haris-dada-lejla-minneapolis/
LOCATION:DoubleTree by Hilton\, 2020 American Blvd E.\, Minneapolis\, Minnesota\, United States
CATEGORIES:Koncerti
ATTACH;FMTTYPE=image/jpeg:https://izprveruke.com/wp-content/uploads/2025/11/haris_dada_lejla.jpg
GEO:44.8610942;-93.243091
X-APPLE-STRUCTURED-LOCATION;VALUE=URI;X-ADDRESS=DoubleTree by Hilton 2020 American Blvd E. Minneapolis Minnesota United States;X-APPLE-RADIUS=500;X-TITLE=2020 American Blvd E.:geo:-93.243091,44.8610942
END:VEVENT
BEGIN:VEVENT
DTSTART;TZID=America/Los_Angeles:20251205T173000
DTEND;TZID=America/Los_Angeles:20251205T235900
DTSTAMP:20260423T172313
CREATED:20251121T031321Z
LAST-MODIFIED:20251121T032548Z
UID:10001551-1764955800-1764979140@izprveruke.com
SUMMARY:Serbian Film Festival - Chicago
DESCRIPTION:AUDITORIUM 16:00 LJUDI HRISTOVI – NAŠE VREME7:30 Svečano otvaranje Festivala8:00 SEDEF MAGLA \n\n\n\nAUDITORIUM 25:30 VETRE PRIČAJ SA MNOM7:15 OD IZGNANSTVA DO POVRATKA8:30 Svečano otvaranje Festivala9:15 REČI O SVEČOVEKU
URL:https://izprveruke.com/event/serbian-film-festival-chicago/
LOCATION:AMC Dine-In 12\, 9701 W Bryn Mawr Ave.\, Rosemont\, Illinois\, United States
CATEGORIES:Filmovi
ATTACH;FMTTYPE=image/jpeg:https://izprveruke.com/wp-content/uploads/2025/11/chicagoserbianfilmfestival.jpg
GEO:41.9798777;-87.8675459
X-APPLE-STRUCTURED-LOCATION;VALUE=URI;X-ADDRESS=AMC Dine-In 12 9701 W Bryn Mawr Ave. Rosemont Illinois United States;X-APPLE-RADIUS=500;X-TITLE=9701 W Bryn Mawr Ave.:geo:-87.8675459,41.9798777
END:VEVENT
BEGIN:VEVENT
DTSTART;TZID=America/Los_Angeles:20251201T203000
DTEND;TZID=America/Los_Angeles:20251201T235900
DTSTAMP:20260423T172313
CREATED:20251108T043528Z
LAST-MODIFIED:20251108T043658Z
UID:10001533-1764621000-1764633540@izprveruke.com
SUMMARY:Sasa Matic - Naples
DESCRIPTION:Sasa Matic & Bend live in Naples. Vise informacija 609-233-7711
URL:https://izprveruke.com/event/sasa-matic-naples/
LOCATION:Dogtooth Sports and Music Bar\, 5310 Shirley St.\, Naples\, Florida\, United States
CATEGORIES:Koncerti
ATTACH;FMTTYPE=image/jpeg:https://izprveruke.com/wp-content/uploads/2022/06/sasamatic.jpg
GEO:26.2121381;-81.7810518
X-APPLE-STRUCTURED-LOCATION;VALUE=URI;X-ADDRESS=Dogtooth Sports and Music Bar 5310 Shirley St. Naples Florida United States;X-APPLE-RADIUS=500;X-TITLE=5310 Shirley St.:geo:-81.7810518,26.2121381
END:VEVENT
BEGIN:VEVENT
DTSTART;TZID=America/Los_Angeles:20251130T203000
DTEND;TZID=America/Los_Angeles:20251130T235900
DTSTAMP:20260423T172313
CREATED:20251125T021128Z
LAST-MODIFIED:20251125T021130Z
UID:10001556-1764534600-1764547140@izprveruke.com
SUMMARY:Marko Bulat - Washington\, DC
DESCRIPTION:Marko Bulat live in Washington\, DC. Gost: DJ Spaz. Vise informacija i rezervacije 347-497-0006
URL:https://izprveruke.com/event/marko-bulat-washington-dc/
LOCATION:Ambar Clarendon\, 2901 Wilson Blvd.\, Arlington\, Virginia\, United States
CATEGORIES:Koncerti
ATTACH;FMTTYPE=image/jpeg:https://izprveruke.com/wp-content/uploads/2025/11/markobulat.jpg
GEO:38.8888028;-77.0935505
X-APPLE-STRUCTURED-LOCATION;VALUE=URI;X-ADDRESS=Ambar Clarendon 2901 Wilson Blvd. Arlington Virginia United States;X-APPLE-RADIUS=500;X-TITLE=2901 Wilson Blvd.:geo:-77.0935505,38.8888028
END:VEVENT
END:VCALENDAR