BEGIN:VCALENDAR
VERSION:2.0
PRODID:-//Iz Prve Ruke - Koncerti u Americi i Kanadi | Lokalna Dešavanja - ECPv6.15.20//NONSGML v1.0//EN
CALSCALE:GREGORIAN
METHOD:PUBLISH
X-WR-CALNAME:Iz Prve Ruke - Koncerti u Americi i Kanadi | Lokalna Dešavanja
X-ORIGINAL-URL:https://izprveruke.com
X-WR-CALDESC:Events for Iz Prve Ruke - Koncerti u Americi i Kanadi | Lokalna Dešavanja
REFRESH-INTERVAL;VALUE=DURATION:PT1H
X-Robots-Tag:noindex
X-PUBLISHED-TTL:PT1H
BEGIN:VTIMEZONE
TZID:America/Los_Angeles
BEGIN:DAYLIGHT
TZOFFSETFROM:-0800
TZOFFSETTO:-0700
TZNAME:PDT
DTSTART:20210314T100000
END:DAYLIGHT
BEGIN:STANDARD
TZOFFSETFROM:-0700
TZOFFSETTO:-0800
TZNAME:PST
DTSTART:20211107T090000
END:STANDARD
BEGIN:DAYLIGHT
TZOFFSETFROM:-0800
TZOFFSETTO:-0700
TZNAME:PDT
DTSTART:20220313T100000
END:DAYLIGHT
BEGIN:STANDARD
TZOFFSETFROM:-0700
TZOFFSETTO:-0800
TZNAME:PST
DTSTART:20221106T090000
END:STANDARD
BEGIN:DAYLIGHT
TZOFFSETFROM:-0800
TZOFFSETTO:-0700
TZNAME:PDT
DTSTART:20230312T100000
END:DAYLIGHT
BEGIN:STANDARD
TZOFFSETFROM:-0700
TZOFFSETTO:-0800
TZNAME:PST
DTSTART:20231105T090000
END:STANDARD
END:VTIMEZONE
BEGIN:VEVENT
DTSTART;TZID=America/Los_Angeles:20220318T203000
DTEND;TZID=America/Los_Angeles:20220318T235900
DTSTAMP:20260423T154602
CREATED:20220309T064504Z
LAST-MODIFIED:20220309T072800Z
UID:10000822-1647635400-1647647940@izprveruke.com
SUMMARY:Bosanac\, Dzidza\, Sanel - Grand Rapids
DESCRIPTION:Dragan Stojkovic Bosanac\, Dzidza Stojkovic\, Sanel Smolo & Velid Nukicic.
URL:https://izprveruke.com/event/bosanac-dzidza-sanel-grand-rapids/
LOCATION:Caledonia Events Ballroom\, 9818 Cherry Valley Ave. SE\, Caledonia\, Michigan\, United States
CATEGORIES:Koncerti
ATTACH;FMTTYPE=image/jpeg:https://izprveruke.com/wp-content/uploads/2022/03/bosanacdzidzasanel.jpg
GEO:42.7861688;-85.5054263
X-APPLE-STRUCTURED-LOCATION;VALUE=URI;X-ADDRESS=Caledonia Events Ballroom 9818 Cherry Valley Ave. SE Caledonia Michigan United States;X-APPLE-RADIUS=500;X-TITLE=9818 Cherry Valley Ave. SE:geo:-85.5054263,42.7861688
END:VEVENT
BEGIN:VEVENT
DTSTART;TZID=America/Los_Angeles:20220318T203000
DTEND;TZID=America/Los_Angeles:20220318T235900
DTSTAMP:20260423T154602
CREATED:20220307T070845Z
LAST-MODIFIED:20220307T070850Z
UID:10000815-1647635400-1647647940@izprveruke.com
SUMMARY:Emina\, Fatmir\, Marina - Houston
DESCRIPTION:Vise informacija 281-989-0092
URL:https://izprveruke.com/event/emina-fatmir-marina-houston/
LOCATION:Emmanuel Reception Hall\, 9403 Richmond Ave.\, Houston\, TX\, United States
CATEGORIES:Koncerti
ATTACH;FMTTYPE=image/jpeg:https://izprveruke.com/wp-content/uploads/2022/02/emina_fatmir_marina.jpg
GEO:29.7277945;-95.5315696
X-APPLE-STRUCTURED-LOCATION;VALUE=URI;X-ADDRESS=Emmanuel Reception Hall 9403 Richmond Ave. Houston TX United States;X-APPLE-RADIUS=500;X-TITLE=9403 Richmond Ave.:geo:-95.5315696,29.7277945
END:VEVENT
BEGIN:VEVENT
DTSTART;TZID=America/Los_Angeles:20220318T203000
DTEND;TZID=America/Los_Angeles:20220318T235900
DTSTAMP:20260423T154602
CREATED:20220211T053914Z
LAST-MODIFIED:20220307T062201Z
UID:10000784-1647635400-1647647940@izprveruke.com
SUMMARY:Dzenan Loncarevic - Atlanta
DESCRIPTION:
URL:https://izprveruke.com/event/dzenan-loncarevic-atlanta/
LOCATION:Royal Ballroom\, 6185 Buford hwy Bldg C\, Peachtree Corners\, GA\, United States
CATEGORIES:Koncerti
ATTACH;FMTTYPE=image/jpeg:https://izprveruke.com/wp-content/uploads/2022/02/dzenan.jpg
GEO:33.9320852;-84.2245905
X-APPLE-STRUCTURED-LOCATION;VALUE=URI;X-ADDRESS=Royal Ballroom 6185 Buford hwy Bldg C Peachtree Corners GA United States;X-APPLE-RADIUS=500;X-TITLE=6185 Buford hwy Bldg C:geo:-84.2245905,33.9320852
END:VEVENT
BEGIN:VEVENT
DTSTART;TZID=America/Los_Angeles:20220318T203000
DTEND;TZID=America/Los_Angeles:20220318T235900
DTSTAMP:20260423T154602
CREATED:20220204T070329Z
LAST-MODIFIED:20220208T083134Z
UID:10000771-1647635400-1647647940@izprveruke.com
SUMMARY:Mladen Cvetanovic - Chicago
DESCRIPTION:Mladen Cvetanovic svakog petka i subote u Premier Lounge @ Compass Arena
URL:https://izprveruke.com/event/mladen-cvetanovic-chicago/2022-03-18/
LOCATION:Compass Arena\, 625 Joliet Rd\, Wilowbrook\, IL\, United States
CATEGORIES:Žurke
ATTACH;FMTTYPE=image/jpeg:https://izprveruke.com/wp-content/uploads/2022/02/mladencvetanovic.jpg
GEO:41.7453652;-87.9396252
X-APPLE-STRUCTURED-LOCATION;VALUE=URI;X-ADDRESS=Compass Arena 625 Joliet Rd Wilowbrook IL United States;X-APPLE-RADIUS=500;X-TITLE=625 Joliet Rd:geo:-87.9396252,41.7453652
END:VEVENT
BEGIN:VEVENT
DTSTART;TZID=America/Los_Angeles:20220319T203000
DTEND;TZID=America/Los_Angeles:20220319T235900
DTSTAMP:20260423T154602
CREATED:20220309T073825Z
LAST-MODIFIED:20220309T073830Z
UID:10000828-1647721800-1647734340@izprveruke.com
SUMMARY:Ibro Bublin - Manchester
DESCRIPTION:Vise informacija 603-365-7451
URL:https://izprveruke.com/event/ibro-bublin-manchester/
LOCATION:The Bungalov Bar & Grill\, 333 Valley Street\, Manchester\, NH\, United States
CATEGORIES:Koncerti
ATTACH;FMTTYPE=image/png:https://izprveruke.com/wp-content/uploads/2022/03/ibrobublin.png
GEO:42.9810401;-71.4546575
X-APPLE-STRUCTURED-LOCATION;VALUE=URI;X-ADDRESS=The Bungalov Bar & Grill 333 Valley Street Manchester NH United States;X-APPLE-RADIUS=500;X-TITLE=333 Valley Street:geo:-71.4546575,42.9810401
END:VEVENT
BEGIN:VEVENT
DTSTART;TZID=America/Los_Angeles:20220319T203000
DTEND;TZID=America/Los_Angeles:20220319T235900
DTSTAMP:20260423T154602
CREATED:20220309T065402Z
LAST-MODIFIED:20220309T073132Z
UID:10000823-1647721800-1647734340@izprveruke.com
SUMMARY:Bosanac\, Dzidza\, Sanel - Utica
DESCRIPTION:Dragan Stojkovic Bosanac\, Dzidza Stojkovic\, Sanel Smolo\, Denis Kadric & Velid Nukicic.
URL:https://izprveruke.com/event/bosanac-dzidza-sanel-utica/
LOCATION:Valentino’s Banquet Hall\, 3899 Oneida St.\, New Hartford\, NY\, United States
CATEGORIES:Koncerti
ATTACH;FMTTYPE=image/jpeg:https://izprveruke.com/wp-content/uploads/2022/03/bosanacdzidzasanel.jpg
GEO:43.051199;-75.2737
X-APPLE-STRUCTURED-LOCATION;VALUE=URI;X-ADDRESS=Valentino’s Banquet Hall 3899 Oneida St. New Hartford NY United States;X-APPLE-RADIUS=500;X-TITLE=3899 Oneida St.:geo:-75.2737,43.051199
END:VEVENT
BEGIN:VEVENT
DTSTART;TZID=America/Los_Angeles:20220319T203000
DTEND;TZID=America/Los_Angeles:20220319T235900
DTSTAMP:20260423T154602
CREATED:20220307T071427Z
LAST-MODIFIED:20220307T071431Z
UID:10000816-1647721800-1647734340@izprveruke.com
SUMMARY:Emina\, Fatmir\, Marina - Dallas
DESCRIPTION:Vise informacija 214-908-1608
URL:https://izprveruke.com/event/emina-fatmir-marina-dallas/
LOCATION:Bavarian Bakery & Cafe\, 3000 SE Loop 820\, Fort Worth\, TX\, United States
CATEGORIES:Koncerti
ATTACH;FMTTYPE=image/jpeg:https://izprveruke.com/wp-content/uploads/2022/02/emina_fatmir_marina.jpg
GEO:32.6609093;-97.2842963
X-APPLE-STRUCTURED-LOCATION;VALUE=URI;X-ADDRESS=Bavarian Bakery & Cafe 3000 SE Loop 820 Fort Worth TX United States;X-APPLE-RADIUS=500;X-TITLE=3000 SE Loop 820:geo:-97.2842963,32.6609093
END:VEVENT
BEGIN:VEVENT
DTSTART;TZID=America/Los_Angeles:20220319T203000
DTEND;TZID=America/Los_Angeles:20220319T235900
DTSTAMP:20260423T154602
CREATED:20220211T054008Z
LAST-MODIFIED:20220307T062418Z
UID:10000785-1647721800-1647734340@izprveruke.com
SUMMARY:Dzenan Loncarevic - Chicago
DESCRIPTION:Vise informacija 773-644-0600
URL:https://izprveruke.com/event/dzenan-loncarevic-chicago/
LOCATION:Alhambra Palace\, 1240 W Randolph St.\, Chicago\, IL\, United States
CATEGORIES:Koncerti
ATTACH;FMTTYPE=image/jpeg:https://izprveruke.com/wp-content/uploads/2022/02/dzenan.jpg
GEO:41.8846083;-87.6581905
X-APPLE-STRUCTURED-LOCATION;VALUE=URI;X-ADDRESS=Alhambra Palace 1240 W Randolph St. Chicago IL United States;X-APPLE-RADIUS=500;X-TITLE=1240 W Randolph St.:geo:-87.6581905,41.8846083
END:VEVENT
BEGIN:VEVENT
DTSTART;TZID=America/Los_Angeles:20220319T203000
DTEND;TZID=America/Los_Angeles:20220319T235900
DTSTAMP:20260423T154602
CREATED:20220204T070329Z
LAST-MODIFIED:20220208T083134Z
UID:10000772-1647721800-1647734340@izprveruke.com
SUMMARY:Mladen Cvetanovic - Chicago
DESCRIPTION:Mladen Cvetanovic svakog petka i subote u Premier Lounge @ Compass Arena
URL:https://izprveruke.com/event/mladen-cvetanovic-chicago/2022-03-19/
LOCATION:Compass Arena\, 625 Joliet Rd\, Wilowbrook\, IL\, United States
CATEGORIES:Žurke
ATTACH;FMTTYPE=image/jpeg:https://izprveruke.com/wp-content/uploads/2022/02/mladencvetanovic.jpg
GEO:41.7453652;-87.9396252
X-APPLE-STRUCTURED-LOCATION;VALUE=URI;X-ADDRESS=Compass Arena 625 Joliet Rd Wilowbrook IL United States;X-APPLE-RADIUS=500;X-TITLE=625 Joliet Rd:geo:-87.9396252,41.7453652
END:VEVENT
BEGIN:VEVENT
DTSTART;TZID=America/Los_Angeles:20220320T203000
DTEND;TZID=America/Los_Angeles:20220320T235900
DTSTAMP:20260423T154602
CREATED:20220309T065816Z
LAST-MODIFIED:20220309T073208Z
UID:10000824-1647808200-1647820740@izprveruke.com
SUMMARY:Bosanac\, Dzidza\, Sanel - Richmond
DESCRIPTION:Dragan Stojkovic Bosanac\, Dzidza Stojkovic\, Sanel Smolo & Velid Nukicic. \n\n\n\nVise informacija 804-239-5573
URL:https://izprveruke.com/event/bosanac-dzidza-sanel-richmond/
LOCATION:Ricks Rock Cafe\, 1500 Eastridge Rd. Suite A\, Richmond\, VA\, United States
CATEGORIES:Koncerti
ATTACH;FMTTYPE=image/jpeg:https://izprveruke.com/wp-content/uploads/2022/03/bosanacdzidzasanel.jpg
GEO:37.6027034;-77.5626795
X-APPLE-STRUCTURED-LOCATION;VALUE=URI;X-ADDRESS=Ricks Rock Cafe 1500 Eastridge Rd. Suite A Richmond VA United States;X-APPLE-RADIUS=500;X-TITLE=1500 Eastridge Rd. Suite A:geo:-77.5626795,37.6027034
END:VEVENT
BEGIN:VEVENT
DTSTART;TZID=America/Los_Angeles:20220323T193000
DTEND;TZID=America/Los_Angeles:20220323T235900
DTSTAMP:20260423T154602
CREATED:20220320T171020Z
LAST-MODIFIED:20220320T171024Z
UID:10000833-1648063800-1648079940@izprveruke.com
SUMMARY:Dzenan Loncarevic - Chicago
DESCRIPTION:Dzenan Loncarevic i bend uzivo u Moskva Caffe
URL:https://izprveruke.com/event/dzenan-loncarevic-chicago-2/
LOCATION:Moskva Caffe\, 13 N Cass Ave.\, Westmont\, IL\, United States
CATEGORIES:Koncerti
ATTACH;FMTTYPE=image/jpeg:https://izprveruke.com/wp-content/uploads/2022/02/dzenan.jpg
GEO:41.7964253;-87.974996
X-APPLE-STRUCTURED-LOCATION;VALUE=URI;X-ADDRESS=Moskva Caffe 13 N Cass Ave. Westmont IL United States;X-APPLE-RADIUS=500;X-TITLE=13 N Cass Ave.:geo:-87.974996,41.7964253
END:VEVENT
BEGIN:VEVENT
DTSTART;TZID=America/Los_Angeles:20220325T203000
DTEND;TZID=America/Los_Angeles:20220325T235900
DTSTAMP:20260423T154602
CREATED:20220309T074826Z
LAST-MODIFIED:20220309T074831Z
UID:10000829-1648240200-1648252740@izprveruke.com
SUMMARY:Ibro Bublin & Denis Kadric - Phoenix
DESCRIPTION:Ibro Bublin & Denis Kadric \n\n\n\nVise informacija 602-405-5587
URL:https://izprveruke.com/event/ibro-bublin-denis-kadric-phoenix/
LOCATION:MoonLight Restaurant 2\, 5686 W Bell Rd.\, Glendale\, AZ\, United States
CATEGORIES:Koncerti
ATTACH;FMTTYPE=image/png:https://izprveruke.com/wp-content/uploads/2022/03/ibrobublin.png
GEO:33.6402549;-112.1817237
X-APPLE-STRUCTURED-LOCATION;VALUE=URI;X-ADDRESS=MoonLight Restaurant 2 5686 W Bell Rd. Glendale AZ United States;X-APPLE-RADIUS=500;X-TITLE=5686 W Bell Rd.:geo:-112.1817237,33.6402549
END:VEVENT
BEGIN:VEVENT
DTSTART;TZID=America/Los_Angeles:20220325T203000
DTEND;TZID=America/Los_Angeles:20220325T235900
DTSTAMP:20260423T154602
CREATED:20220309T070013Z
LAST-MODIFIED:20220309T073252Z
UID:10000825-1648240200-1648252740@izprveruke.com
SUMMARY:Bosanac\, Dzidza\, Sanel - Bowling Green
DESCRIPTION:Dragan Stojkovic Bosanac\, Dzidza Stojkovic\, Sanel Smolo & Velid Nukicic. \n\n\n\nVise informacija 270-320-2180
URL:https://izprveruke.com/event/bosanac-dzidza-sanel-bowling-green/
LOCATION:La Gala\, 601 State St.\, Bowling Green\, KY\, United States
CATEGORIES:Koncerti
ATTACH;FMTTYPE=image/jpeg:https://izprveruke.com/wp-content/uploads/2022/03/bosanacdzidzasanel.jpg
GEO:36.9955127;-86.4372742
X-APPLE-STRUCTURED-LOCATION;VALUE=URI;X-ADDRESS=La Gala 601 State St. Bowling Green KY United States;X-APPLE-RADIUS=500;X-TITLE=601 State St.:geo:-86.4372742,36.9955127
END:VEVENT
BEGIN:VEVENT
DTSTART;TZID=America/Los_Angeles:20220325T203000
DTEND;TZID=America/Los_Angeles:20220325T235900
DTSTAMP:20260423T154602
CREATED:20220211T054119Z
LAST-MODIFIED:20220307T062725Z
UID:10000786-1648240200-1648252740@izprveruke.com
SUMMARY:Dzenan Loncarevic - Utica
DESCRIPTION:Vise informacija 315-269-8447
URL:https://izprveruke.com/event/dzenan-loncarevic-utica/
LOCATION:Cafe Milano\, 1711 Bleecker Street\, Utica\, NY\, United States
CATEGORIES:Koncerti
ATTACH;FMTTYPE=image/jpeg:https://izprveruke.com/wp-content/uploads/2022/02/dzenan.jpg
GEO:43.093138;-75.199899
X-APPLE-STRUCTURED-LOCATION;VALUE=URI;X-ADDRESS=Cafe Milano 1711 Bleecker Street Utica NY United States;X-APPLE-RADIUS=500;X-TITLE=1711 Bleecker Street:geo:-75.199899,43.093138
END:VEVENT
BEGIN:VEVENT
DTSTART;TZID=America/Los_Angeles:20220325T203000
DTEND;TZID=America/Los_Angeles:20220325T235900
DTSTAMP:20260423T154602
CREATED:20220204T070329Z
LAST-MODIFIED:20220208T083134Z
UID:10000773-1648240200-1648252740@izprveruke.com
SUMMARY:Mladen Cvetanovic - Chicago
DESCRIPTION:Mladen Cvetanovic svakog petka i subote u Premier Lounge @ Compass Arena
URL:https://izprveruke.com/event/mladen-cvetanovic-chicago/2022-03-25/
LOCATION:Compass Arena\, 625 Joliet Rd\, Wilowbrook\, IL\, United States
CATEGORIES:Žurke
ATTACH;FMTTYPE=image/jpeg:https://izprveruke.com/wp-content/uploads/2022/02/mladencvetanovic.jpg
GEO:41.7453652;-87.9396252
X-APPLE-STRUCTURED-LOCATION;VALUE=URI;X-ADDRESS=Compass Arena 625 Joliet Rd Wilowbrook IL United States;X-APPLE-RADIUS=500;X-TITLE=625 Joliet Rd:geo:-87.9396252,41.7453652
END:VEVENT
BEGIN:VEVENT
DTSTART;TZID=America/Los_Angeles:20220326T203000
DTEND;TZID=America/Los_Angeles:20220326T235900
DTSTAMP:20260423T154602
CREATED:20220309T070452Z
LAST-MODIFIED:20220309T073342Z
UID:10000826-1648326600-1648339140@izprveruke.com
SUMMARY:Bosanac\, Dzidza\, Sanel - Atlanta
DESCRIPTION:Dragan Stojkovic Bosanac\, Dzidza Stojkovic\, Sanel Smolo & Velid Nukicic.
URL:https://izprveruke.com/event/bosanac-dzidza-sanel-atlanta/
LOCATION:VIP Room Restaurant & Lounge Inc.\, 745 Beaver Ruin Rd. Ste 200\, Liburn\, GA\, United States
CATEGORIES:Koncerti
ATTACH;FMTTYPE=image/jpeg:https://izprveruke.com/wp-content/uploads/2022/03/bosanacdzidzasanel.jpg
GEO:33.9108428;-84.132165
X-APPLE-STRUCTURED-LOCATION;VALUE=URI;X-ADDRESS=VIP Room Restaurant & Lounge Inc. 745 Beaver Ruin Rd. Ste 200 Liburn GA United States;X-APPLE-RADIUS=500;X-TITLE=745 Beaver Ruin Rd. Ste 200:geo:-84.132165,33.9108428
END:VEVENT
BEGIN:VEVENT
DTSTART;TZID=America/Los_Angeles:20220326T203000
DTEND;TZID=America/Los_Angeles:20220326T235900
DTSTAMP:20260423T154602
CREATED:20220212T074207Z
LAST-MODIFIED:20220212T074210Z
UID:10000800-1648326600-1648339140@izprveruke.com
SUMMARY:Rock Ko Fol - Toronto
DESCRIPTION:
URL:https://izprveruke.com/event/rock-ko-fol-toronto/
LOCATION:The Rockpile\, 5555 Dundas St. W\, Etobicoke\, ON\, Canada
CATEGORIES:Koncerti
ATTACH;FMTTYPE=image/jpeg:https://izprveruke.com/wp-content/uploads/2022/02/rkf.jpg
GEO:43.6294549;-79.5489727
X-APPLE-STRUCTURED-LOCATION;VALUE=URI;X-ADDRESS=The Rockpile 5555 Dundas St. W Etobicoke ON Canada;X-APPLE-RADIUS=500;X-TITLE=5555 Dundas St. W:geo:-79.5489727,43.6294549
END:VEVENT
BEGIN:VEVENT
DTSTART;TZID=America/Los_Angeles:20220326T203000
DTEND;TZID=America/Los_Angeles:20220326T235900
DTSTAMP:20260423T154602
CREATED:20220211T054215Z
LAST-MODIFIED:20220309T063921Z
UID:10000787-1648326600-1648339140@izprveruke.com
SUMMARY:Dzenan Loncarevic - New York
DESCRIPTION:21+ \n\n\n\nProof of vaccination required.
URL:https://izprveruke.com/event/dzenan-loncarevic-new-york/
LOCATION:Melrose Ballroom\, 36-08 33rd St.\, New York\, NY\, United States
CATEGORIES:Koncerti
ATTACH;FMTTYPE=image/jpeg:https://izprveruke.com/wp-content/uploads/2022/02/dzenan.jpg
GEO:40.7555992;-73.9286147
X-APPLE-STRUCTURED-LOCATION;VALUE=URI;X-ADDRESS=Melrose Ballroom 36-08 33rd St. New York NY United States;X-APPLE-RADIUS=500;X-TITLE=36-08 33rd St.:geo:-73.9286147,40.7555992
END:VEVENT
BEGIN:VEVENT
DTSTART;TZID=America/Los_Angeles:20220326T203000
DTEND;TZID=America/Los_Angeles:20220326T235900
DTSTAMP:20260423T154602
CREATED:20220204T070329Z
LAST-MODIFIED:20220208T083134Z
UID:10000774-1648326600-1648339140@izprveruke.com
SUMMARY:Mladen Cvetanovic - Chicago
DESCRIPTION:Mladen Cvetanovic svakog petka i subote u Premier Lounge @ Compass Arena
URL:https://izprveruke.com/event/mladen-cvetanovic-chicago/2022-03-26/
LOCATION:Compass Arena\, 625 Joliet Rd\, Wilowbrook\, IL\, United States
CATEGORIES:Žurke
ATTACH;FMTTYPE=image/jpeg:https://izprveruke.com/wp-content/uploads/2022/02/mladencvetanovic.jpg
GEO:41.7453652;-87.9396252
X-APPLE-STRUCTURED-LOCATION;VALUE=URI;X-ADDRESS=Compass Arena 625 Joliet Rd Wilowbrook IL United States;X-APPLE-RADIUS=500;X-TITLE=625 Joliet Rd:geo:-87.9396252,41.7453652
END:VEVENT
BEGIN:VEVENT
DTSTART;TZID=America/Los_Angeles:20220327T203000
DTEND;TZID=America/Los_Angeles:20220327T235900
DTSTAMP:20260423T154602
CREATED:20220309T071532Z
LAST-MODIFIED:20220309T073426Z
UID:10000827-1648413000-1648425540@izprveruke.com
SUMMARY:Bosanac\, Dzidza\, Sanel - Waterloo
DESCRIPTION:Dragan Stojkovic Bosanac\, Dzidza Stojkovic\, Sanel Smolo & Velid Nukicic.
URL:https://izprveruke.com/event/bosanac-dzidza-sanel-waterloo/
LOCATION:Club Ambassador\, 313 W 5th St.\, Waterloo\, IA\, United States
CATEGORIES:Koncerti
ATTACH;FMTTYPE=image/jpeg:https://izprveruke.com/wp-content/uploads/2022/03/bosanacdzidzasanel.jpg
GEO:42.4931718;-92.3397677
X-APPLE-STRUCTURED-LOCATION;VALUE=URI;X-ADDRESS=Club Ambassador 313 W 5th St. Waterloo IA United States;X-APPLE-RADIUS=500;X-TITLE=313 W 5th St.:geo:-92.3397677,42.4931718
END:VEVENT
BEGIN:VEVENT
DTSTART;TZID=America/Los_Angeles:20220327T203000
DTEND;TZID=America/Los_Angeles:20220327T235900
DTSTAMP:20260423T154602
CREATED:20220211T054319Z
LAST-MODIFIED:20220327T065954Z
UID:10000788-1648413000-1648425540@izprveruke.com
SUMMARY:Dzenan Loncarevic - Washington\, DC
DESCRIPTION:Dzenan Loncarevic & Bend
URL:https://izprveruke.com/event/dzenan-loncarevic-washington-dc/
LOCATION:Opera Ultra Lounge\, 1400 I St NW\, Washington\, District of Columbia\, United States
CATEGORIES:Koncerti
ATTACH;FMTTYPE=image/jpeg:https://izprveruke.com/wp-content/uploads/2022/02/dzenan.jpg
GEO:38.9010128;-77.0323833
X-APPLE-STRUCTURED-LOCATION;VALUE=URI;X-ADDRESS=Opera Ultra Lounge 1400 I St NW Washington District of Columbia United States;X-APPLE-RADIUS=500;X-TITLE=1400 I St NW:geo:-77.0323833,38.9010128
END:VEVENT
BEGIN:VEVENT
DTSTART;TZID=America/Los_Angeles:20220401T203000
DTEND;TZID=America/Los_Angeles:20220401T235900
DTSTAMP:20260423T154602
CREATED:20220204T070329Z
LAST-MODIFIED:20220208T083134Z
UID:10000775-1648845000-1648857540@izprveruke.com
SUMMARY:Mladen Cvetanovic - Chicago
DESCRIPTION:Mladen Cvetanovic svakog petka i subote u Premier Lounge @ Compass Arena
URL:https://izprveruke.com/event/mladen-cvetanovic-chicago/2022-04-01/
LOCATION:Compass Arena\, 625 Joliet Rd\, Wilowbrook\, IL\, United States
CATEGORIES:Žurke
ATTACH;FMTTYPE=image/jpeg:https://izprveruke.com/wp-content/uploads/2022/02/mladencvetanovic.jpg
GEO:41.7453652;-87.9396252
X-APPLE-STRUCTURED-LOCATION;VALUE=URI;X-ADDRESS=Compass Arena 625 Joliet Rd Wilowbrook IL United States;X-APPLE-RADIUS=500;X-TITLE=625 Joliet Rd:geo:-87.9396252,41.7453652
END:VEVENT
BEGIN:VEVENT
DTSTART;TZID=America/Los_Angeles:20220402T203000
DTEND;TZID=America/Los_Angeles:20220402T235900
DTSTAMP:20260423T154602
CREATED:20220204T070329Z
LAST-MODIFIED:20220208T083134Z
UID:10000776-1648931400-1648943940@izprveruke.com
SUMMARY:Mladen Cvetanovic - Chicago
DESCRIPTION:Mladen Cvetanovic svakog petka i subote u Premier Lounge @ Compass Arena
URL:https://izprveruke.com/event/mladen-cvetanovic-chicago/2022-04-02/
LOCATION:Compass Arena\, 625 Joliet Rd\, Wilowbrook\, IL\, United States
CATEGORIES:Žurke
ATTACH;FMTTYPE=image/jpeg:https://izprveruke.com/wp-content/uploads/2022/02/mladencvetanovic.jpg
GEO:41.7453652;-87.9396252
X-APPLE-STRUCTURED-LOCATION;VALUE=URI;X-ADDRESS=Compass Arena 625 Joliet Rd Wilowbrook IL United States;X-APPLE-RADIUS=500;X-TITLE=625 Joliet Rd:geo:-87.9396252,41.7453652
END:VEVENT
BEGIN:VEVENT
DTSTART;TZID=America/Los_Angeles:20220415T193000
DTEND;TZID=America/Los_Angeles:20220415T233000
DTSTAMP:20260423T154602
CREATED:20220313T002531Z
LAST-MODIFIED:20220313T195550Z
UID:10000830-1650051000-1650065400@izprveruke.com
SUMMARY:Ilda Saulic - Montreal
DESCRIPTION:Vise informacija: \nBorko 514-809-6368Milos 514-993-1055Daniel 514-651-2248
URL:https://izprveruke.com/event/ilda-saulic-montreal/
LOCATION:Plaza Volare\, 6600 Chem. de la Côte-de-Liesse\, Montreal\, Canada
CATEGORIES:Koncerti
ATTACH;FMTTYPE=image/jpeg:https://izprveruke.com/wp-content/uploads/2022/03/IMG_3733-2-e1647131073758.jpg
GEO:45.4840743;-73.6913184
X-APPLE-STRUCTURED-LOCATION;VALUE=URI;X-ADDRESS=Plaza Volare 6600 Chem. de la Côte-de-Liesse Montreal Canada;X-APPLE-RADIUS=500;X-TITLE=6600 Chem. de la Côte-de-Liesse:geo:-73.6913184,45.4840743
END:VEVENT
BEGIN:VEVENT
DTSTART;TZID=America/Los_Angeles:20220416T193000
DTEND;TZID=America/Los_Angeles:20220416T235900
DTSTAMP:20260423T154602
CREATED:20220313T002918Z
LAST-MODIFIED:20220313T195736Z
UID:10000832-1650137400-1650153540@izprveruke.com
SUMMARY:Ilda Saulic - Toronto
DESCRIPTION:Vise informacija: \nBorko 514-809-6368Milos 514-993-1055Daniel 514-651-2248
URL:https://izprveruke.com/event/ilda-saulic-toronto/
LOCATION:Banquet Hall SCA Oplenac\, 895 Rangeview Rd\, Mississauga\, Canada
CATEGORIES:Koncerti
ATTACH;FMTTYPE=image/jpeg:https://izprveruke.com/wp-content/uploads/2022/03/IMG_3733-2-e1647131073758.jpg
ORGANIZER;CN="MBD Events":MAILTO:mbdeventscanada@gmail.com
GEO:43.5731046;-79.559905
X-APPLE-STRUCTURED-LOCATION;VALUE=URI;X-ADDRESS=Banquet Hall SCA Oplenac 895 Rangeview Rd Mississauga Canada;X-APPLE-RADIUS=500;X-TITLE=895 Rangeview Rd:geo:-79.559905,43.5731046
END:VEVENT
BEGIN:VEVENT
DTSTART;TZID=America/Los_Angeles:20220417T193000
DTEND;TZID=America/Los_Angeles:20220417T235900
DTSTAMP:20260423T154602
CREATED:20220313T002750Z
LAST-MODIFIED:20220313T200833Z
UID:10000831-1650223800-1650239940@izprveruke.com
SUMMARY:Ilda Saulic - Kitchener
DESCRIPTION:Za vise informacija: \nBorko 514-809-6368Miloš 514-993-1055Daniel 514-651-2248
URL:https://izprveruke.com/event/ilda-saulic-kitchener/
LOCATION:St. George Banquet Hall\, 665 King St N\, Waterloo\, Canada
CATEGORIES:Koncerti
ATTACH;FMTTYPE=image/jpeg:https://izprveruke.com/wp-content/uploads/2022/03/IMG_3733-2-e1647131073758.jpg
ORGANIZER;CN="MBD Events":MAILTO:mbdeventscanada@gmail.com
GEO:43.5090148;-80.5423041
X-APPLE-STRUCTURED-LOCATION;VALUE=URI;X-ADDRESS=St. George Banquet Hall 665 King St N Waterloo Canada;X-APPLE-RADIUS=500;X-TITLE=665 King St N:geo:-80.5423041,43.5090148
END:VEVENT
BEGIN:VEVENT
DTSTART;TZID=America/Los_Angeles:20220506T203000
DTEND;TZID=America/Los_Angeles:20220506T235900
DTSTAMP:20260423T154602
CREATED:20220505T201045Z
LAST-MODIFIED:20220505T201049Z
UID:10000853-1651869000-1651881540@izprveruke.com
SUMMARY:Neda Ukraden - Calgary
DESCRIPTION:Vise informacija 403-607-2113
URL:https://izprveruke.com/event/neda-ukraden-calgary/
LOCATION:Barcelona Tavern HQ\, 501-8th Avenue SW\, Calgary\, AB\, Canada
CATEGORIES:Koncerti
ATTACH;FMTTYPE=image/jpeg:https://izprveruke.com/wp-content/uploads/2022/02/nedaukraden.jpg
GEO:51.0456895;-114.0718158
X-APPLE-STRUCTURED-LOCATION;VALUE=URI;X-ADDRESS=Barcelona Tavern HQ 501-8th Avenue SW Calgary AB Canada;X-APPLE-RADIUS=500;X-TITLE=501-8th Avenue SW:geo:-114.0718158,51.0456895
END:VEVENT
BEGIN:VEVENT
DTSTART;TZID=America/Los_Angeles:20220506T203000
DTEND;TZID=America/Los_Angeles:20220506T235900
DTSTAMP:20260423T154602
CREATED:20220224T033208Z
LAST-MODIFIED:20220503T225837Z
UID:10000802-1651869000-1651881540@izprveruke.com
SUMMARY:Zdravko Colic - Atlanta
DESCRIPTION:Join us for an incredible evening with Zdravko Colic & his amazing band.
URL:https://izprveruke.com/event/zdravko-colic-atlanta/
LOCATION:The Atrium\, 5479 Memorial Dr.\, Stone Mountain\, Georgia\, United States
CATEGORIES:Koncerti
ATTACH;FMTTYPE=image/jpeg:https://izprveruke.com/wp-content/uploads/2022/02/zdravkocolic.jpg
GEO:33.7986857;-84.2135699
X-APPLE-STRUCTURED-LOCATION;VALUE=URI;X-ADDRESS=The Atrium 5479 Memorial Dr. Stone Mountain Georgia United States;X-APPLE-RADIUS=500;X-TITLE=5479 Memorial Dr.:geo:-84.2135699,33.7986857
END:VEVENT
BEGIN:VEVENT
DTSTART;TZID=America/Los_Angeles:20220506T203000
DTEND;TZID=America/Los_Angeles:20220506T235900
DTSTAMP:20260423T154602
CREATED:20220212T074622Z
LAST-MODIFIED:20220214T065515Z
UID:10000801-1651869000-1651881540@izprveruke.com
SUMMARY:Rock Ko Fol - Chicago
DESCRIPTION:
URL:https://izprveruke.com/event/rock-ko-fol-chicago/
LOCATION:Skadarliya\, 9237 West Ogden Ave.\, Brookfield\, IL\, United States
CATEGORIES:Koncerti
ATTACH;FMTTYPE=image/jpeg:https://izprveruke.com/wp-content/uploads/2022/02/rkf.jpg
GEO:41.8167634;-87.8534024
X-APPLE-STRUCTURED-LOCATION;VALUE=URI;X-ADDRESS=Skadarliya 9237 West Ogden Ave. Brookfield IL United States;X-APPLE-RADIUS=500;X-TITLE=9237 West Ogden Ave.:geo:-87.8534024,41.8167634
END:VEVENT
BEGIN:VEVENT
DTSTART;TZID=America/Los_Angeles:20220507T203000
DTEND;TZID=America/Los_Angeles:20220507T235900
DTSTAMP:20260423T154602
CREATED:20220505T201502Z
LAST-MODIFIED:20220505T201506Z
UID:10000854-1651955400-1651967940@izprveruke.com
SUMMARY:Neda Ukraden - Winnipeg
DESCRIPTION:Vise informacija 204-955-4326
URL:https://izprveruke.com/event/neda-ukraden-winnipeg/
LOCATION:Holy Eucharist Parish Center\, 460 Munroe Ave\, Winnipeg\, MB\, Canada
CATEGORIES:Koncerti
ATTACH;FMTTYPE=image/jpeg:https://izprveruke.com/wp-content/uploads/2022/02/nedaukraden.jpg
GEO:49.9177053;-97.0995995
X-APPLE-STRUCTURED-LOCATION;VALUE=URI;X-ADDRESS=Holy Eucharist Parish Center 460 Munroe Ave Winnipeg MB Canada;X-APPLE-RADIUS=500;X-TITLE=460 Munroe Ave:geo:-97.0995995,49.9177053
END:VEVENT
END:VCALENDAR