BEGIN:VCALENDAR
VERSION:2.0
PRODID:-//Iz Prve Ruke - Koncerti u Americi i Kanadi | Lokalna Dešavanja - ECPv6.15.20//NONSGML v1.0//EN
CALSCALE:GREGORIAN
METHOD:PUBLISH
X-WR-CALNAME:Iz Prve Ruke - Koncerti u Americi i Kanadi | Lokalna Dešavanja
X-ORIGINAL-URL:https://izprveruke.com
X-WR-CALDESC:Events for Iz Prve Ruke - Koncerti u Americi i Kanadi | Lokalna Dešavanja
REFRESH-INTERVAL;VALUE=DURATION:PT1H
X-Robots-Tag:noindex
X-PUBLISHED-TTL:PT1H
BEGIN:VTIMEZONE
TZID:America/Los_Angeles
BEGIN:DAYLIGHT
TZOFFSETFROM:-0800
TZOFFSETTO:-0700
TZNAME:PDT
DTSTART:20220313T100000
END:DAYLIGHT
BEGIN:STANDARD
TZOFFSETFROM:-0700
TZOFFSETTO:-0800
TZNAME:PST
DTSTART:20221106T090000
END:STANDARD
BEGIN:DAYLIGHT
TZOFFSETFROM:-0800
TZOFFSETTO:-0700
TZNAME:PDT
DTSTART:20230312T100000
END:DAYLIGHT
BEGIN:STANDARD
TZOFFSETFROM:-0700
TZOFFSETTO:-0800
TZNAME:PST
DTSTART:20231105T090000
END:STANDARD
BEGIN:DAYLIGHT
TZOFFSETFROM:-0800
TZOFFSETTO:-0700
TZNAME:PDT
DTSTART:20240310T100000
END:DAYLIGHT
BEGIN:STANDARD
TZOFFSETFROM:-0700
TZOFFSETTO:-0800
TZNAME:PST
DTSTART:20241103T090000
END:STANDARD
END:VTIMEZONE
BEGIN:VEVENT
DTSTART;TZID=America/Los_Angeles:20230513T203000
DTEND;TZID=America/Los_Angeles:20230513T235900
DTSTAMP:20260425T052650
CREATED:20230406T035429Z
LAST-MODIFIED:20230406T035435Z
UID:10001132-1684009800-1684022340@izprveruke.com
SUMMARY:Zeljko Bebek - Detroit
DESCRIPTION:Zeljko Bebek & Band live in Detroit.  \n\n\n\nVise informacija 586-873-3945
URL:https://izprveruke.com/event/zeljko-bebek-detroit/
LOCATION:Premier Event Center\, 20400 S Nunneley Rd.\, Clinton Township\, Michigan\, United States
CATEGORIES:Koncerti
ATTACH;FMTTYPE=image/png:https://izprveruke.com/wp-content/uploads/2023/01/zeljkobebek.png
GEO:42.5685908;-82.9141009
X-APPLE-STRUCTURED-LOCATION;VALUE=URI;X-ADDRESS=Premier Event Center 20400 S Nunneley Rd. Clinton Township Michigan United States;X-APPLE-RADIUS=500;X-TITLE=20400 S Nunneley Rd.:geo:-82.9141009,42.5685908
END:VEVENT
BEGIN:VEVENT
DTSTART;TZID=America/Los_Angeles:20230513T203000
DTEND;TZID=America/Los_Angeles:20230513T235900
DTSTAMP:20260425T052650
CREATED:20230326T030507Z
LAST-MODIFIED:20230326T030512Z
UID:10001120-1684009800-1684022340@izprveruke.com
SUMMARY:Crvena Jabuka - New York
DESCRIPTION:Crvena Jabuka live in NYC 🍎
URL:https://izprveruke.com/event/crvena-jabuka-new-york/
LOCATION:Melrose Ballroom\, 36-08 33rd St.\, New York\, NY\, United States
CATEGORIES:Koncerti
ATTACH;FMTTYPE=image/jpeg:https://izprveruke.com/wp-content/uploads/2023/03/crvenajabuka.jpg
GEO:40.7555992;-73.9286147
X-APPLE-STRUCTURED-LOCATION;VALUE=URI;X-ADDRESS=Melrose Ballroom 36-08 33rd St. New York NY United States;X-APPLE-RADIUS=500;X-TITLE=36-08 33rd St.:geo:-73.9286147,40.7555992
END:VEVENT
BEGIN:VEVENT
DTSTART;TZID=America/Los_Angeles:20230514T203000
DTEND;TZID=America/Los_Angeles:20230514T235900
DTSTAMP:20260425T052650
CREATED:20230321T021431Z
LAST-MODIFIED:20230321T030722Z
UID:10001110-1684096200-1684108740@izprveruke.com
SUMMARY:Crvena Jabuka - Washington\, DC
DESCRIPTION:19+ | Crvena Jabuka live in Washington\, DC.
URL:https://izprveruke.com/event/crvena-jabuka-washington-dc/
LOCATION:Privilege DC Nightclub & Lounge\, 115 U St NW Suite A\, Washington\, DC\, United States
CATEGORIES:Koncerti
ATTACH;FMTTYPE=image/jpeg:https://izprveruke.com/wp-content/uploads/2023/03/crvenajabuka.jpg
GEO:38.9172035;-77.0127873
X-APPLE-STRUCTURED-LOCATION;VALUE=URI;X-ADDRESS=Privilege DC Nightclub & Lounge 115 U St NW Suite A Washington DC United States;X-APPLE-RADIUS=500;X-TITLE=115 U St NW Suite A:geo:-77.0127873,38.9172035
END:VEVENT
BEGIN:VEVENT
DTSTART;TZID=America/Los_Angeles:20230519T203000
DTEND;TZID=America/Los_Angeles:20230519T235900
DTSTAMP:20260425T052650
CREATED:20230508T035057Z
LAST-MODIFIED:20230508T035101Z
UID:10001155-1684528200-1684540740@izprveruke.com
SUMMARY:Fazlija - Grand Rapids
DESCRIPTION:Vise informacija 315-527-3856
URL:https://izprveruke.com/event/fazlija-grand-rapids/
LOCATION:Bar Down Grill\, 6209 Division Ave S\, Grand Rapids\, Michigan\, United States
CATEGORIES:Koncerti
ATTACH;FMTTYPE=image/png:https://izprveruke.com/wp-content/uploads/2023/05/fazlija.png
GEO:42.8513387;-85.6642371
X-APPLE-STRUCTURED-LOCATION;VALUE=URI;X-ADDRESS=Bar Down Grill 6209 Division Ave S Grand Rapids Michigan United States;X-APPLE-RADIUS=500;X-TITLE=6209 Division Ave S:geo:-85.6642371,42.8513387
END:VEVENT
BEGIN:VEVENT
DTSTART;TZID=America/Los_Angeles:20230519T203000
DTEND;TZID=America/Los_Angeles:20230519T235900
DTSTAMP:20260425T052650
CREATED:20230406T035529Z
LAST-MODIFIED:20230406T232918Z
UID:10001133-1684528200-1684540740@izprveruke.com
SUMMARY:Zeljko Bebek - Chicago
DESCRIPTION:21+ | Zeljko Bebek & Band live in Chicago.
URL:https://izprveruke.com/event/zeljko-bebek-chicago/
LOCATION:Joe’s Live\, 5441 Park Pl.\, Rosemont\, Illinois\, United States
CATEGORIES:Koncerti
ATTACH;FMTTYPE=image/png:https://izprveruke.com/wp-content/uploads/2023/01/zeljkobebek.png
ORGANIZER;CN="Pure Live Music":MAILTO:info@purelivemusic.com
GEO:41.9780701;-87.8673276
X-APPLE-STRUCTURED-LOCATION;VALUE=URI;X-ADDRESS=Joe’s Live 5441 Park Pl. Rosemont Illinois United States;X-APPLE-RADIUS=500;X-TITLE=5441 Park Pl.:geo:-87.8673276,41.9780701
END:VEVENT
BEGIN:VEVENT
DTSTART;TZID=America/Los_Angeles:20230519T203000
DTEND;TZID=America/Los_Angeles:20230519T235900
DTSTAMP:20260425T052650
CREATED:20230321T022509Z
LAST-MODIFIED:20230321T023121Z
UID:10001114-1684528200-1684540740@izprveruke.com
SUMMARY:Crvena Jabuka - San Francisco
DESCRIPTION:21+ | Crvena Jabuka live in San Francisco.
URL:https://izprveruke.com/event/crvena-jabuka-san-francisco/
LOCATION:Roccapulco\, 3140 Mission St.\, San Francisco\, California\, United States
CATEGORIES:Koncerti
ATTACH;FMTTYPE=image/jpeg:https://izprveruke.com/wp-content/uploads/2023/03/crvenajabuka.jpg
GEO:37.7471447;-122.4192225
X-APPLE-STRUCTURED-LOCATION;VALUE=URI;X-ADDRESS=Roccapulco 3140 Mission St. San Francisco California United States;X-APPLE-RADIUS=500;X-TITLE=3140 Mission St.:geo:-122.4192225,37.7471447
END:VEVENT
BEGIN:VEVENT
DTSTART;TZID=America/Los_Angeles:20230519T203000
DTEND;TZID=America/Los_Angeles:20230519T235900
DTSTAMP:20260425T052650
CREATED:20230228T190553Z
LAST-MODIFIED:20230228T190558Z
UID:10001094-1684528200-1684540740@izprveruke.com
SUMMARY:Lepa Brena - Toronto
DESCRIPTION:Lepa Brena & band live in Toronto
URL:https://izprveruke.com/event/lepa-brena-toronto/
LOCATION:Rebel\, 11 Polson St.\, Toronto\, ON\, Canada
CATEGORIES:Koncerti
ATTACH;FMTTYPE=image/jpeg:https://izprveruke.com/wp-content/uploads/2022/05/lepabrena.jpg
GEO:43.6407774;-79.3545752
X-APPLE-STRUCTURED-LOCATION;VALUE=URI;X-ADDRESS=Rebel 11 Polson St. Toronto ON Canada;X-APPLE-RADIUS=500;X-TITLE=11 Polson St.:geo:-79.3545752,43.6407774
END:VEVENT
BEGIN:VEVENT
DTSTART;TZID=America/Los_Angeles:20230520T200000
DTEND;TZID=America/Los_Angeles:20230521T010000
DTSTAMP:20260425T052650
CREATED:20230509T023355Z
LAST-MODIFIED:20230519T040011Z
UID:10001152-1684612800-1684630800@izprveruke.com
SUMMARY:Denis Rapkic - Cincinnati
DESCRIPTION:Denis Rapkic\, Dino Band & Ena.Vise informacija 513 -348-4313
URL:https://izprveruke.com/event/denis-rapkic-cincinnati/
LOCATION:14042 Dixie Hwy\, 14042 Dixie Hwy\, Walton\, Kentucky\, United States
CATEGORIES:Žurke
ATTACH;FMTTYPE=image/png:https://izprveruke.com/wp-content/uploads/2023/05/denisrapkic-1.png
ORGANIZER;CN="EX YU CINCI":MAILTO:Mirza_1990@yahoo.com
GEO:38.0531755;-85.8937646
X-APPLE-STRUCTURED-LOCATION;VALUE=URI;X-ADDRESS=14042 Dixie Hwy 14042 Dixie Hwy Walton Kentucky United States;X-APPLE-RADIUS=500;X-TITLE=14042 Dixie Hwy:geo:-85.8937646,38.0531755
END:VEVENT
BEGIN:VEVENT
DTSTART;TZID=America/Los_Angeles:20230520T203000
DTEND;TZID=America/Los_Angeles:20230520T235900
DTSTAMP:20260425T052650
CREATED:20230509T014935Z
LAST-MODIFIED:20230509T014940Z
UID:10001160-1684614600-1684627140@izprveruke.com
SUMMARY:Boban Rajovic - Utica
DESCRIPTION:Boban Rajovic & Bend
URL:https://izprveruke.com/event/boban-rajovic-utica/
LOCATION:Una Bar\, 620 Eagle St.\, Utica\, NY\, United States
CATEGORIES:Koncerti
ATTACH;FMTTYPE=image/png:https://izprveruke.com/wp-content/uploads/2023/05/bobanrajovic.png
GEO:43.0893226;-75.2249112
X-APPLE-STRUCTURED-LOCATION;VALUE=URI;X-ADDRESS=Una Bar 620 Eagle St. Utica NY United States;X-APPLE-RADIUS=500;X-TITLE=620 Eagle St.:geo:-75.2249112,43.0893226
END:VEVENT
BEGIN:VEVENT
DTSTART;TZID=America/Los_Angeles:20230520T203000
DTEND;TZID=America/Los_Angeles:20230520T235900
DTSTAMP:20260425T052650
CREATED:20230508T035303Z
LAST-MODIFIED:20230508T035308Z
UID:10001156-1684614600-1684627140@izprveruke.com
SUMMARY:Fazlija - Detroit
DESCRIPTION:Vise informacija 315-527-3856
URL:https://izprveruke.com/event/fazlija-detroit/
LOCATION:Saraj Cafe\, 28845 Hoover Rd.\, Warren\, MI\, United States
CATEGORIES:Koncerti
ATTACH;FMTTYPE=image/png:https://izprveruke.com/wp-content/uploads/2023/05/fazlija.png
GEO:42.5064411;-83.0072376
X-APPLE-STRUCTURED-LOCATION;VALUE=URI;X-ADDRESS=Saraj Cafe 28845 Hoover Rd. Warren MI United States;X-APPLE-RADIUS=500;X-TITLE=28845 Hoover Rd.:geo:-83.0072376,42.5064411
END:VEVENT
BEGIN:VEVENT
DTSTART;TZID=America/Los_Angeles:20230520T203000
DTEND;TZID=America/Los_Angeles:20230520T235900
DTSTAMP:20260425T052650
CREATED:20230406T035613Z
LAST-MODIFIED:20230406T232838Z
UID:10001134-1684614600-1684627140@izprveruke.com
SUMMARY:Zeljko Bebek - New York
DESCRIPTION:21+ | Zeljko Bebek & Band live in NYC.
URL:https://izprveruke.com/event/zeljko-bebek-new-york/
LOCATION:Cutting Room\, 44 East 32nd Street\, New York\, NY\, United States
CATEGORIES:Koncerti
ATTACH;FMTTYPE=image/png:https://izprveruke.com/wp-content/uploads/2023/01/zeljkobebek.png
ORGANIZER;CN="Pure Live Music":MAILTO:info@purelivemusic.com
GEO:40.7127753;-74.0059728
X-APPLE-STRUCTURED-LOCATION;VALUE=URI;X-ADDRESS=Cutting Room 44 East 32nd Street New York NY United States;X-APPLE-RADIUS=500;X-TITLE=44 East 32nd Street:geo:-74.0059728,40.7127753
END:VEVENT
BEGIN:VEVENT
DTSTART;TZID=America/Los_Angeles:20230520T203000
DTEND;TZID=America/Los_Angeles:20230520T235900
DTSTAMP:20260425T052650
CREATED:20230326T030742Z
LAST-MODIFIED:20230326T030748Z
UID:10001122-1684614600-1684627140@izprveruke.com
SUMMARY:Crvena Jabuka - St. Louis
DESCRIPTION:Crvena Jabuka live in St. Louis
URL:https://izprveruke.com/event/crvena-jabuka-st-louis/
LOCATION:River City Casino Hotel\, 777 River City Casino Blvd.\, St. Louis\, Missouri\, United States
CATEGORIES:Koncerti
ATTACH;FMTTYPE=image/jpeg:https://izprveruke.com/wp-content/uploads/2023/03/crvenajabuka.jpg
GEO:38.5308368;-90.2644983
X-APPLE-STRUCTURED-LOCATION;VALUE=URI;X-ADDRESS=River City Casino Hotel 777 River City Casino Blvd. St. Louis Missouri United States;X-APPLE-RADIUS=500;X-TITLE=777 River City Casino Blvd.:geo:-90.2644983,38.5308368
END:VEVENT
BEGIN:VEVENT
DTSTART;TZID=America/Los_Angeles:20230520T203000
DTEND;TZID=America/Los_Angeles:20230520T235900
DTSTAMP:20260425T052650
CREATED:20230228T191146Z
LAST-MODIFIED:20230228T191152Z
UID:10001095-1684614600-1684627140@izprveruke.com
SUMMARY:Lepa Brena - Vancouver
DESCRIPTION:Lepa Brena & band live in Vancouver. Opening music by DJ Boombar.
URL:https://izprveruke.com/event/lepa-brena-vancouver/
LOCATION:The River Rock Show Theatre\, 8811 River Rd.\, Richmond\, BC\, Canada
CATEGORIES:Koncerti
ATTACH;FMTTYPE=image/jpeg:https://izprveruke.com/wp-content/uploads/2022/05/lepabrena.jpg
GEO:49.1970259;-123.1274829
X-APPLE-STRUCTURED-LOCATION;VALUE=URI;X-ADDRESS=The River Rock Show Theatre 8811 River Rd. Richmond BC Canada;X-APPLE-RADIUS=500;X-TITLE=8811 River Rd.:geo:-123.1274829,49.1970259
END:VEVENT
BEGIN:VEVENT
DTSTART;TZID=America/Los_Angeles:20230521T203000
DTEND;TZID=America/Los_Angeles:20230521T235900
DTSTAMP:20260425T052650
CREATED:20230326T031113Z
LAST-MODIFIED:20230508T025956Z
UID:10001125-1684701000-1684713540@izprveruke.com
SUMMARY:Crvena Jabuka - Houston
DESCRIPTION:Crvena Jabuka live in Houston.
URL:https://izprveruke.com/event/crvena-jabuka-houston/
LOCATION:The Anime\, 11773 S Highway 6\, Sugar Land\, Texas\, United States
CATEGORIES:Koncerti
ATTACH;FMTTYPE=image/jpeg:https://izprveruke.com/wp-content/uploads/2023/03/crvenajabuka.jpg
GEO:29.6451553;-95.6501598
X-APPLE-STRUCTURED-LOCATION;VALUE=URI;X-ADDRESS=The Anime 11773 S Highway 6 Sugar Land Texas United States;X-APPLE-RADIUS=500;X-TITLE=11773 S Highway 6:geo:-95.6501598,29.6451553
END:VEVENT
BEGIN:VEVENT
DTSTART;TZID=America/Los_Angeles:20230521T203000
DTEND;TZID=America/Los_Angeles:20230521T235900
DTSTAMP:20260425T052650
CREATED:20230228T191537Z
LAST-MODIFIED:20230228T191542Z
UID:10001096-1684701000-1684713540@izprveruke.com
SUMMARY:Lepa Brena - Calgary
DESCRIPTION:Lepa Brena & band live in Calgary.
URL:https://izprveruke.com/event/lepa-brena-calgary/
LOCATION:The Palace Theatre\, 219 8 Ave SW\, Calgary\, AB\, Canada
CATEGORIES:Koncerti
ATTACH;FMTTYPE=image/jpeg:https://izprveruke.com/wp-content/uploads/2022/05/lepabrena.jpg
GEO:51.0454021;-114.0664228
X-APPLE-STRUCTURED-LOCATION;VALUE=URI;X-ADDRESS=The Palace Theatre 219 8 Ave SW Calgary AB Canada;X-APPLE-RADIUS=500;X-TITLE=219 8 Ave SW:geo:-114.0664228,51.0454021
END:VEVENT
BEGIN:VEVENT
DTSTART;TZID=America/Los_Angeles:20230524T203000
DTEND;TZID=America/Los_Angeles:20230524T235900
DTSTAMP:20260425T052650
CREATED:20230321T021554Z
LAST-MODIFIED:20230321T021910Z
UID:10001111-1684960200-1684972740@izprveruke.com
SUMMARY:Crvena Jabuka - Las Vegas
DESCRIPTION:Crvena Jabuka live in Las Vegas.
URL:https://izprveruke.com/event/crvena-jabuka-washington-dc-2/
LOCATION:Cafe Derbi\, 5920 W. Flamingo Rd.\, Las Vegas\, NV\, United States
CATEGORIES:Koncerti
ATTACH;FMTTYPE=image/jpeg:https://izprveruke.com/wp-content/uploads/2023/03/crvenajabuka.jpg
GEO:36.1154263;-115.2221234
X-APPLE-STRUCTURED-LOCATION;VALUE=URI;X-ADDRESS=Cafe Derbi 5920 W. Flamingo Rd. Las Vegas NV United States;X-APPLE-RADIUS=500;X-TITLE=5920 W. Flamingo Rd.:geo:-115.2221234,36.1154263
END:VEVENT
BEGIN:VEVENT
DTSTART;TZID=America/Los_Angeles:20230526T203000
DTEND;TZID=America/Los_Angeles:20230526T235900
DTSTAMP:20260425T052650
CREATED:20230508T035339Z
LAST-MODIFIED:20230508T035342Z
UID:10001157-1685133000-1685145540@izprveruke.com
SUMMARY:Fazlija - Chicago
DESCRIPTION:Vise informacija 315-527-3856
URL:https://izprveruke.com/event/fazlija-chicago/
LOCATION:Cafe Piccolo\, 2610 W Peterson Ave.\, Chicago\, Illinois\, United States
CATEGORIES:Koncerti
ATTACH;FMTTYPE=image/png:https://izprveruke.com/wp-content/uploads/2023/05/fazlija.png
GEO:41.9906608;-87.6951334
X-APPLE-STRUCTURED-LOCATION;VALUE=URI;X-ADDRESS=Cafe Piccolo 2610 W Peterson Ave. Chicago Illinois United States;X-APPLE-RADIUS=500;X-TITLE=2610 W Peterson Ave.:geo:-87.6951334,41.9906608
END:VEVENT
BEGIN:VEVENT
DTSTART;TZID=America/Los_Angeles:20230526T203000
DTEND;TZID=America/Los_Angeles:20230526T235900
DTSTAMP:20260425T052650
CREATED:20230326T031001Z
LAST-MODIFIED:20230326T031007Z
UID:10001124-1685133000-1685145540@izprveruke.com
SUMMARY:Crvena Jabuka - Phoenix
DESCRIPTION:Crvena Jabuka live in Phoenix ☀️
URL:https://izprveruke.com/event/crvena-jabuka-phoenix/
LOCATION:CB Live\, 21001 N Tatum Blvd.\, Phoenix\, AZ\, United States
CATEGORIES:Koncerti
ATTACH;FMTTYPE=image/jpeg:https://izprveruke.com/wp-content/uploads/2023/03/crvenajabuka.jpg
GEO:33.6765082;-111.9761103
X-APPLE-STRUCTURED-LOCATION;VALUE=URI;X-ADDRESS=CB Live 21001 N Tatum Blvd. Phoenix AZ United States;X-APPLE-RADIUS=500;X-TITLE=21001 N Tatum Blvd.:geo:-111.9761103,33.6765082
END:VEVENT
BEGIN:VEVENT
DTSTART;TZID=America/Los_Angeles:20230527T203000
DTEND;TZID=America/Los_Angeles:20230527T235900
DTSTAMP:20260425T052650
CREATED:20230508T035422Z
LAST-MODIFIED:20230508T035427Z
UID:10001158-1685219400-1685231940@izprveruke.com
SUMMARY:Fazlija - New York
DESCRIPTION:Vise informacija 315-527-3856
URL:https://izprveruke.com/event/fazlija-new-york/
LOCATION:Una Bar\, 620 Eagle St.\, Utica\, NY\, United States
CATEGORIES:Koncerti
ATTACH;FMTTYPE=image/png:https://izprveruke.com/wp-content/uploads/2023/05/fazlija.png
GEO:43.0893226;-75.2249112
X-APPLE-STRUCTURED-LOCATION;VALUE=URI;X-ADDRESS=Una Bar 620 Eagle St. Utica NY United States;X-APPLE-RADIUS=500;X-TITLE=620 Eagle St.:geo:-75.2249112,43.0893226
END:VEVENT
BEGIN:VEVENT
DTSTART;TZID=America/Los_Angeles:20230527T203000
DTEND;TZID=America/Los_Angeles:20230527T235900
DTSTAMP:20260425T052650
CREATED:20230321T022008Z
LAST-MODIFIED:20230321T022014Z
UID:10001113-1685219400-1685231940@izprveruke.com
SUMMARY:Crvena Jabuka - Salt Lake City
DESCRIPTION:Crvena Jabuka live in Salt Lake City.
URL:https://izprveruke.com/event/crvena-jabuka-salt-lake-city/
LOCATION:801 Event Center\, 1055 W N Temple\, Salt Lake City\, Utah\, United States
CATEGORIES:Koncerti
ATTACH;FMTTYPE=image/jpeg:https://izprveruke.com/wp-content/uploads/2023/03/crvenajabuka.jpg
GEO:40.7700711;-111.9221347
X-APPLE-STRUCTURED-LOCATION;VALUE=URI;X-ADDRESS=801 Event Center 1055 W N Temple Salt Lake City Utah United States;X-APPLE-RADIUS=500;X-TITLE=1055 W N Temple:geo:-111.9221347,40.7700711
END:VEVENT
BEGIN:VEVENT
DTSTART;TZID=America/Los_Angeles:20230528T203000
DTEND;TZID=America/Los_Angeles:20230528T235900
DTSTAMP:20260425T052650
CREATED:20230508T033425Z
LAST-MODIFIED:20230508T033431Z
UID:10001154-1685305800-1685318340@izprveruke.com
SUMMARY:Boban Rajovic - Cleveland
DESCRIPTION:Uskoro vise informacija…
URL:https://izprveruke.com/event/boban-rajovic-cleveland/
LOCATION:St. Sava Broadview Heights\, 2151 West Wallings Road\, Broadview Heights\, Ohio\, United States
CATEGORIES:Koncerti
ATTACH;FMTTYPE=image/png:https://izprveruke.com/wp-content/uploads/2023/05/bobanrajovic.png
GEO:41.3402991;-81.6957923
X-APPLE-STRUCTURED-LOCATION;VALUE=URI;X-ADDRESS=St. Sava Broadview Heights 2151 West Wallings Road Broadview Heights Ohio United States;X-APPLE-RADIUS=500;X-TITLE=2151 West Wallings Road:geo:-81.6957923,41.3402991
END:VEVENT
BEGIN:VEVENT
DTSTART;TZID=America/Los_Angeles:20230616T190000
DTEND;TZID=America/Los_Angeles:20230616T235900
DTSTAMP:20260425T052650
CREATED:20230519T033318Z
LAST-MODIFIED:20230519T033744Z
UID:10001161-1686942000-1686959940@izprveruke.com
SUMMARY:Beogradski Sindikat - Edmonton
DESCRIPTION:Najpoznatiji hip hop sastav sa nasih prostora dolazi u Edmonton. \n\n\n\n\n\n\nRegister on Eventbrite
URL:https://izprveruke.com/event/beogradski-sindikat-edmonton/
LOCATION:12904 112 St NW\, Edmonton\, AB T5E 6J1\, Canada\, 12904 112 St NW\, Edmonton\, 1 T5E 6J1
CATEGORIES:Koncerti
ATTACH;FMTTYPE=image/png:https://izprveruke.com/wp-content/uploads/2023/05/beogradskisindikat.png
GEO:53.5876498;-113.5140167
X-APPLE-STRUCTURED-LOCATION;VALUE=URI;X-ADDRESS=12904 112 St NW Edmonton AB T5E 6J1 Canada 12904 112 St NW Edmonton 1 T5E 6J1;X-APPLE-RADIUS=500;X-TITLE=12904 112 St NW:geo:-113.5140167,53.5876498
END:VEVENT
BEGIN:VEVENT
DTSTART;TZID=America/Los_Angeles:20230616T203000
DTEND;TZID=America/Los_Angeles:20230616T235900
DTSTAMP:20260425T052650
CREATED:20230615T002752Z
LAST-MODIFIED:20230615T002755Z
UID:10001178-1686947400-1686959940@izprveruke.com
SUMMARY:Davor Badrov - St. Louis
DESCRIPTION:Vise informacija 314-546-0061 & 314-702-0054
URL:https://izprveruke.com/event/davor-badrov-st-louis/
LOCATION:Krajina Resturant and Bar\, 5401 Gravois Ave.\, St. Louis\, MO\, 63116\, United States
CATEGORIES:Koncerti
ATTACH;FMTTYPE=image/jpeg:https://izprveruke.com/wp-content/uploads/2023/06/davorbadrov.jpg
GEO:38.5792709;-90.2701838
X-APPLE-STRUCTURED-LOCATION;VALUE=URI;X-ADDRESS=Krajina Resturant and Bar 5401 Gravois Ave. St. Louis MO 63116 United States;X-APPLE-RADIUS=500;X-TITLE=5401 Gravois Ave.:geo:-90.2701838,38.5792709
END:VEVENT
BEGIN:VEVENT
DTSTART;TZID=America/Los_Angeles:20230617T203000
DTEND;TZID=America/Los_Angeles:20230617T235900
DTSTAMP:20260425T052650
CREATED:20230615T002841Z
LAST-MODIFIED:20230615T002844Z
UID:10001179-1687033800-1687046340@izprveruke.com
SUMMARY:Davor Badrov - Chicago
DESCRIPTION:Vise informacija 773-742-8504
URL:https://izprveruke.com/event/davor-badrov-chicago/
LOCATION:Cafe Piccolo\, 2610 W Peterson Ave.\, Chicago\, Illinois\, United States
CATEGORIES:Koncerti
ATTACH;FMTTYPE=image/jpeg:https://izprveruke.com/wp-content/uploads/2023/06/davorbadrov.jpg
GEO:41.9906608;-87.6951334
X-APPLE-STRUCTURED-LOCATION;VALUE=URI;X-ADDRESS=Cafe Piccolo 2610 W Peterson Ave. Chicago Illinois United States;X-APPLE-RADIUS=500;X-TITLE=2610 W Peterson Ave.:geo:-87.6951334,41.9906608
END:VEVENT
BEGIN:VEVENT
DTSTART;TZID=America/Los_Angeles:20230617T203000
DTEND;TZID=America/Los_Angeles:20230617T235900
DTSTAMP:20260425T052650
CREATED:20230519T023618Z
LAST-MODIFIED:20230615T001837Z
UID:10001169-1687033800-1687046340@izprveruke.com
SUMMARY:Nenad Osmanovic - Greensboro
DESCRIPTION:Vise informacija 336-254-6723
URL:https://izprveruke.com/event/nenad-osmanovic-greensboro/
LOCATION:St. Basil Church\, 270 Ogden School Rd.\, Kemersville\, North Carolina\, United States
CATEGORIES:Koncerti
ATTACH;FMTTYPE=image/png:https://izprveruke.com/wp-content/uploads/2023/05/nenadosmanovic.png
GEO:36.0606404;-80.0782649
X-APPLE-STRUCTURED-LOCATION;VALUE=URI;X-ADDRESS=St. Basil Church 270 Ogden School Rd. Kemersville North Carolina United States;X-APPLE-RADIUS=500;X-TITLE=270 Ogden School Rd.:geo:-80.0782649,36.0606404
END:VEVENT
BEGIN:VEVENT
DTSTART;TZID=America/Los_Angeles:20230618T190000
DTEND;TZID=America/Los_Angeles:20230618T235900
DTSTAMP:20260425T052650
CREATED:20230519T032506Z
LAST-MODIFIED:20230519T035516Z
UID:10001163-1687114800-1687132740@izprveruke.com
SUMMARY:Beogradski Sindikat - Vancouver
DESCRIPTION:Najpoznatiji hip hop bend sa nasih prostora po prvu put u Vankuveru. \n\n\n\n\n\n\nRegister on Eventbrite
URL:https://izprveruke.com/event/beogradski-sindikat-vancouver/
LOCATION:St Archangel Micahel Serbian Orthodox Church\, 7837 Canada Way\, Burnaby\, V3N 3K8\, Canada
CATEGORIES:Koncerti
ATTACH;FMTTYPE=image/png:https://izprveruke.com/wp-content/uploads/2023/05/beogradskisindikat.png
GEO:49.2176904;-122.9330795
X-APPLE-STRUCTURED-LOCATION;VALUE=URI;X-ADDRESS=St Archangel Micahel Serbian Orthodox Church 7837 Canada Way Burnaby V3N 3K8 Canada;X-APPLE-RADIUS=500;X-TITLE=7837 Canada Way:geo:-122.9330795,49.2176904
END:VEVENT
BEGIN:VEVENT
DTSTART;TZID=America/Los_Angeles:20230618T203000
DTEND;TZID=America/Los_Angeles:20230618T235900
DTSTAMP:20260425T052650
CREATED:20230615T002940Z
LAST-MODIFIED:20230615T002945Z
UID:10001180-1687120200-1687132740@izprveruke.com
SUMMARY:Davor Badrov - Waterloo
DESCRIPTION:Vise informacija 319-504-2758
URL:https://izprveruke.com/event/davor-badrov-waterloo/
LOCATION:Club Ambassador\, 313 W 5th St.\, Waterloo\, IA\, United States
CATEGORIES:Koncerti
ATTACH;FMTTYPE=image/jpeg:https://izprveruke.com/wp-content/uploads/2023/06/davorbadrov.jpg
GEO:42.4931718;-92.3397677
X-APPLE-STRUCTURED-LOCATION;VALUE=URI;X-ADDRESS=Club Ambassador 313 W 5th St. Waterloo IA United States;X-APPLE-RADIUS=500;X-TITLE=313 W 5th St.:geo:-92.3397677,42.4931718
END:VEVENT
BEGIN:VEVENT
DTSTART;TZID=America/Los_Angeles:20230623T203000
DTEND;TZID=America/Los_Angeles:20230623T235900
DTSTAMP:20260425T052650
CREATED:20230615T003155Z
LAST-MODIFIED:20230615T003200Z
UID:10001181-1687552200-1687564740@izprveruke.com
SUMMARY:Davor Badrov - Jacksonville
DESCRIPTION:Vise informacija 904-866-2733
URL:https://izprveruke.com/event/davor-badrov-jacksonville/
LOCATION:Jax Event and Lounge\, 9750 Deer Lake Court\, Jacksonville\, Florida\, United States
CATEGORIES:Koncerti
ATTACH;FMTTYPE=image/jpeg:https://izprveruke.com/wp-content/uploads/2023/06/davorbadrov.jpg
GEO:30.2654422;-81.5543722
X-APPLE-STRUCTURED-LOCATION;VALUE=URI;X-ADDRESS=Jax Event and Lounge 9750 Deer Lake Court Jacksonville Florida United States;X-APPLE-RADIUS=500;X-TITLE=9750 Deer Lake Court:geo:-81.5543722,30.2654422
END:VEVENT
BEGIN:VEVENT
DTSTART;TZID=America/Los_Angeles:20230623T203000
DTEND;TZID=America/Los_Angeles:20230623T235900
DTSTAMP:20260425T052650
CREATED:20230519T022922Z
LAST-MODIFIED:20230615T001713Z
UID:10001166-1687552200-1687564740@izprveruke.com
SUMMARY:Nenad Osmanovic - New York
DESCRIPTION:Vise informacija 718-821-9875
URL:https://izprveruke.com/event/nenad-osmanovic-new-york/
LOCATION:Serbian Association of New York\, 72-54 65th Pl\, Glendale\, New York\, United States
CATEGORIES:Koncerti
ATTACH;FMTTYPE=image/png:https://izprveruke.com/wp-content/uploads/2023/05/nenadosmanovic.png
GEO:40.6997219;-73.8888121
X-APPLE-STRUCTURED-LOCATION;VALUE=URI;X-ADDRESS=Serbian Association of New York 72-54 65th Pl Glendale New York United States;X-APPLE-RADIUS=500;X-TITLE=72-54 65th Pl:geo:-73.8888121,40.6997219
END:VEVENT
BEGIN:VEVENT
DTSTART;TZID=America/Los_Angeles:20230624T203000
DTEND;TZID=America/Los_Angeles:20230624T235900
DTSTAMP:20260425T052650
CREATED:20230615T003444Z
LAST-MODIFIED:20230615T003447Z
UID:10001182-1687638600-1687651140@izprveruke.com
SUMMARY:Davor Badrov - St. Petersburg
DESCRIPTION:Vise informacija 727-224-7253
URL:https://izprveruke.com/event/davor-badrov-st-petersburg/
LOCATION:Cafe ‘Allo ‘Allo!\, 6514 4th St. N.\, St. Petersburg\, Florida\, United States
CATEGORIES:Koncerti
ATTACH;FMTTYPE=image/jpeg:https://izprveruke.com/wp-content/uploads/2023/06/davorbadrov.jpg
GEO:27.8320828;-82.6392086
X-APPLE-STRUCTURED-LOCATION;VALUE=URI;X-ADDRESS=Cafe ‘Allo ‘Allo! 6514 4th St. N. St. Petersburg Florida United States;X-APPLE-RADIUS=500;X-TITLE=6514 4th St. N.:geo:-82.6392086,27.8320828
END:VEVENT
END:VCALENDAR