BEGIN:VCALENDAR
VERSION:2.0
PRODID:-//Iz Prve Ruke - Koncerti u Americi i Kanadi | Lokalna Dešavanja - ECPv6.15.20//NONSGML v1.0//EN
CALSCALE:GREGORIAN
METHOD:PUBLISH
X-WR-CALNAME:Iz Prve Ruke - Koncerti u Americi i Kanadi | Lokalna Dešavanja
X-ORIGINAL-URL:https://izprveruke.com
X-WR-CALDESC:Events for Iz Prve Ruke - Koncerti u Americi i Kanadi | Lokalna Dešavanja
REFRESH-INTERVAL;VALUE=DURATION:PT1H
X-Robots-Tag:noindex
X-PUBLISHED-TTL:PT1H
BEGIN:VTIMEZONE
TZID:America/Los_Angeles
BEGIN:DAYLIGHT
TZOFFSETFROM:-0800
TZOFFSETTO:-0700
TZNAME:PDT
DTSTART:20220313T100000
END:DAYLIGHT
BEGIN:STANDARD
TZOFFSETFROM:-0700
TZOFFSETTO:-0800
TZNAME:PST
DTSTART:20221106T090000
END:STANDARD
BEGIN:DAYLIGHT
TZOFFSETFROM:-0800
TZOFFSETTO:-0700
TZNAME:PDT
DTSTART:20230312T100000
END:DAYLIGHT
BEGIN:STANDARD
TZOFFSETFROM:-0700
TZOFFSETTO:-0800
TZNAME:PST
DTSTART:20231105T090000
END:STANDARD
BEGIN:DAYLIGHT
TZOFFSETFROM:-0800
TZOFFSETTO:-0700
TZNAME:PDT
DTSTART:20240310T100000
END:DAYLIGHT
BEGIN:STANDARD
TZOFFSETFROM:-0700
TZOFFSETTO:-0800
TZNAME:PST
DTSTART:20241103T090000
END:STANDARD
END:VTIMEZONE
BEGIN:VEVENT
DTSTART;TZID=America/Los_Angeles:20230204T203000
DTEND;TZID=America/Los_Angeles:20230204T235900
DTSTAMP:20260425T042208
CREATED:20230105T070531Z
LAST-MODIFIED:20230109T064356Z
UID:10001041-1675542600-1675555140@izprveruke.com
SUMMARY:Dragana Mirkovic - New York
DESCRIPTION:Dragana Mirkovic & Band live in New York. \n\n\n\nInfo: 917-568-3496 & 646-261-3252
URL:https://izprveruke.com/event/dragana-mirkovic-new-york/
LOCATION:Melrose Ballroom\, 36-08 33rd St.\, New York\, NY\, United States
CATEGORIES:Koncerti
ATTACH;FMTTYPE=image/png:https://izprveruke.com/wp-content/uploads/2023/01/draganamirkovic-e1673429271253.png
GEO:40.7555992;-73.9286147
X-APPLE-STRUCTURED-LOCATION;VALUE=URI;X-ADDRESS=Melrose Ballroom 36-08 33rd St. New York NY United States;X-APPLE-RADIUS=500;X-TITLE=36-08 33rd St.:geo:-73.9286147,40.7555992
END:VEVENT
BEGIN:VEVENT
DTSTART;TZID=America/Los_Angeles:20230210T203000
DTEND;TZID=America/Los_Angeles:20230210T235900
DTSTAMP:20260425T042208
CREATED:20230118T071108Z
LAST-MODIFIED:20230130T200320Z
UID:10001073-1676061000-1676073540@izprveruke.com
SUMMARY:Viki Miljkovic & Nermin Hadzic - Bowling Green
DESCRIPTION:Vise informacija 270-320-2180
URL:https://izprveruke.com/event/viki-miljkovic-nermin-hadzic-bowling-green/
LOCATION:La Gala\, 601 State St.\, Bowling Green\, KY\, United States
CATEGORIES:Koncerti
ATTACH;FMTTYPE=image/png:https://izprveruke.com/wp-content/uploads/2022/11/viki_nerminhadzic.png
GEO:36.9955127;-86.4372742
X-APPLE-STRUCTURED-LOCATION;VALUE=URI;X-ADDRESS=La Gala 601 State St. Bowling Green KY United States;X-APPLE-RADIUS=500;X-TITLE=601 State St.:geo:-86.4372742,36.9955127
END:VEVENT
BEGIN:VEVENT
DTSTART;TZID=America/Los_Angeles:20230210T203000
DTEND;TZID=America/Los_Angeles:20230210T235900
DTSTAMP:20260425T042208
CREATED:20230105T070648Z
LAST-MODIFIED:20230105T070655Z
UID:10001042-1676061000-1676073540@izprveruke.com
SUMMARY:Dragana Mirkovic - Atlanta
DESCRIPTION:Dragana Mirkovic & Band live in Atlanta. \n\n\n\nInfo: 770-743-5234
URL:https://izprveruke.com/event/dragana-mirkovic-atlanta/
LOCATION:Royal Ballroom\, 6185 Buford hwy Bldg C\, Peachtree Corners\, GA\, United States
CATEGORIES:Koncerti
ATTACH;FMTTYPE=image/png:https://izprveruke.com/wp-content/uploads/2023/01/draganamirkovic-e1673429271253.png
GEO:33.9320852;-84.2245905
X-APPLE-STRUCTURED-LOCATION;VALUE=URI;X-ADDRESS=Royal Ballroom 6185 Buford hwy Bldg C Peachtree Corners GA United States;X-APPLE-RADIUS=500;X-TITLE=6185 Buford hwy Bldg C:geo:-84.2245905,33.9320852
END:VEVENT
BEGIN:VEVENT
DTSTART;TZID=America/Los_Angeles:20230211T203000
DTEND;TZID=America/Los_Angeles:20230211T235900
DTSTAMP:20260425T042208
CREATED:20230118T071135Z
LAST-MODIFIED:20230130T200956Z
UID:10001074-1676147400-1676159940@izprveruke.com
SUMMARY:Viki Miljkovic & Nermin Hadzic - Grand Rapids
DESCRIPTION:Vise informacija 616-272-1523
URL:https://izprveruke.com/event/viki-miljkovic-nermin-hadzic-grand-rapids/
LOCATION:DoubleTree Grand Rapids\, 4747 28th St. SE\, Grand Rapids\, Michigan\, United States
CATEGORIES:Koncerti
ATTACH;FMTTYPE=image/png:https://izprveruke.com/wp-content/uploads/2022/11/viki_nerminhadzic.png
GEO:42.9138458;-85.54971
X-APPLE-STRUCTURED-LOCATION;VALUE=URI;X-ADDRESS=DoubleTree Grand Rapids 4747 28th St. SE Grand Rapids Michigan United States;X-APPLE-RADIUS=500;X-TITLE=4747 28th St. SE:geo:-85.54971,42.9138458
END:VEVENT
BEGIN:VEVENT
DTSTART;TZID=America/Los_Angeles:20230211T203000
DTEND;TZID=America/Los_Angeles:20230211T235900
DTSTAMP:20260425T042208
CREATED:20230105T070825Z
LAST-MODIFIED:20230105T070831Z
UID:10001043-1676147400-1676159940@izprveruke.com
SUMMARY:Dragana Mirkovic - Chicago
DESCRIPTION:Dragana Mirkovic & Band live in Chicago. \n\n\n\nInfo: 708-860-4832 & 313-900-7817
URL:https://izprveruke.com/event/dragana-mirkovic-chicago/
LOCATION:Compass Arena\, 625 Joliet Rd\, Wilowbrook\, IL\, United States
CATEGORIES:Koncerti
ATTACH;FMTTYPE=image/png:https://izprveruke.com/wp-content/uploads/2023/01/draganamirkovic-e1673429271253.png
GEO:41.7453652;-87.9396252
X-APPLE-STRUCTURED-LOCATION;VALUE=URI;X-ADDRESS=Compass Arena 625 Joliet Rd Wilowbrook IL United States;X-APPLE-RADIUS=500;X-TITLE=625 Joliet Rd:geo:-87.9396252,41.7453652
END:VEVENT
BEGIN:VEVENT
DTSTART;TZID=America/Los_Angeles:20230216T203000
DTEND;TZID=America/Los_Angeles:20230216T235900
DTSTAMP:20260425T042208
CREATED:20230118T071206Z
LAST-MODIFIED:20230206T064704Z
UID:10001075-1676579400-1676591940@izprveruke.com
SUMMARY:Viki Miljkovic & Nermin Hadzic - Chicago
DESCRIPTION:Vise informacija 708-860-4832
URL:https://izprveruke.com/event/viki-miljkovic-nermin-hadzic-chicago/
LOCATION:Compass Arena\, 625 Joliet Rd\, Wilowbrook\, IL\, United States
CATEGORIES:Koncerti
ATTACH;FMTTYPE=image/png:https://izprveruke.com/wp-content/uploads/2022/11/viki_nerminhadzic.png
GEO:41.7453652;-87.9396252
X-APPLE-STRUCTURED-LOCATION;VALUE=URI;X-ADDRESS=Compass Arena 625 Joliet Rd Wilowbrook IL United States;X-APPLE-RADIUS=500;X-TITLE=625 Joliet Rd:geo:-87.9396252,41.7453652
END:VEVENT
BEGIN:VEVENT
DTSTART;TZID=America/Los_Angeles:20230217T203000
DTEND;TZID=America/Los_Angeles:20230217T235900
DTSTAMP:20260425T042208
CREATED:20230118T071241Z
LAST-MODIFIED:20230130T202232Z
UID:10001076-1676665800-1676678340@izprveruke.com
SUMMARY:Viki Miljkovic & Nermin Hadzic - Hartford
DESCRIPTION:Vise informacija 860-833-2812
URL:https://izprveruke.com/event/viki-miljkovic-nermin-hadzic-hartford/
LOCATION:Casablanca Hall\, 209 Smalley St.\, New Britain\, Connecticut\, United States
CATEGORIES:Koncerti
ATTACH;FMTTYPE=image/png:https://izprveruke.com/wp-content/uploads/2022/11/viki_nerminhadzic.png
GEO:41.6736129;-72.7651105
X-APPLE-STRUCTURED-LOCATION;VALUE=URI;X-ADDRESS=Casablanca Hall 209 Smalley St. New Britain Connecticut United States;X-APPLE-RADIUS=500;X-TITLE=209 Smalley St.:geo:-72.7651105,41.6736129
END:VEVENT
BEGIN:VEVENT
DTSTART;TZID=America/Los_Angeles:20230217T203000
DTEND;TZID=America/Los_Angeles:20230217T235900
DTSTAMP:20260425T042208
CREATED:20230111T085455Z
LAST-MODIFIED:20230206T065141Z
UID:10001061-1676665800-1676678340@izprveruke.com
SUMMARY:Zeljko Bebek - Toronto
DESCRIPTION:19+ | Vise informacija 416-993-2697
URL:https://izprveruke.com/event/zeljko-bebek-toronto/
LOCATION:The Opera House\, 735 Queen St E\, Toronto\, Ontario\, Canada
CATEGORIES:Koncerti
ATTACH;FMTTYPE=image/png:https://izprveruke.com/wp-content/uploads/2023/01/zeljkobebek.png
ORGANIZER;CN="Gremy":MAILTO:info@gremy.com
GEO:43.6588139;-79.3487126
X-APPLE-STRUCTURED-LOCATION;VALUE=URI;X-ADDRESS=The Opera House 735 Queen St E Toronto Ontario Canada;X-APPLE-RADIUS=500;X-TITLE=735 Queen St E:geo:-79.3487126,43.6588139
END:VEVENT
BEGIN:VEVENT
DTSTART;TZID=America/Los_Angeles:20230217T203000
DTEND;TZID=America/Los_Angeles:20230217T235900
DTSTAMP:20260425T042208
CREATED:20230105T071026Z
LAST-MODIFIED:20230105T173805Z
UID:10001044-1676665800-1676678340@izprveruke.com
SUMMARY:Dragana Mirkovic - Detroit
DESCRIPTION:Dragana Mirkovic & Band live in Detroit. \n\n\n\nInfo: 586-822-3278
URL:https://izprveruke.com/event/dragana-mirkovic-detroit/
LOCATION:Macedonian Cultural Center\, 43133 Ryan Rd.\, Sterling Heights\, MI\, United States
CATEGORIES:Koncerti
ATTACH;FMTTYPE=image/png:https://izprveruke.com/wp-content/uploads/2023/01/draganamirkovic-e1673429271253.png
GEO:42.6089531;-83.0729681
X-APPLE-STRUCTURED-LOCATION;VALUE=URI;X-ADDRESS=Macedonian Cultural Center 43133 Ryan Rd. Sterling Heights MI United States;X-APPLE-RADIUS=500;X-TITLE=43133 Ryan Rd.:geo:-83.0729681,42.6089531
END:VEVENT
BEGIN:VEVENT
DTSTART;TZID=America/Los_Angeles:20230218T180000
DTEND;TZID=America/Los_Angeles:20230218T223000
DTSTAMP:20260425T042208
CREATED:20230111T085526Z
LAST-MODIFIED:20230210T062615Z
UID:10001062-1676743200-1676759400@izprveruke.com
SUMMARY:Zeljko Bebek - Vancouver
DESCRIPTION:19+ | Vise informacija 604-710-4599
URL:https://izprveruke.com/event/zeljko-bebek-vancouver/
LOCATION:Studio Nightclub\, 919 Granville Street\, Vancouver\, BC\, Canada
CATEGORIES:Koncerti
ATTACH;FMTTYPE=image/png:https://izprveruke.com/wp-content/uploads/2023/01/zeljkobebek.png
GEO:49.2802425;-123.1220143
X-APPLE-STRUCTURED-LOCATION;VALUE=URI;X-ADDRESS=Studio Nightclub 919 Granville Street Vancouver BC Canada;X-APPLE-RADIUS=500;X-TITLE=919 Granville Street:geo:-123.1220143,49.2802425
END:VEVENT
BEGIN:VEVENT
DTSTART;TZID=America/Los_Angeles:20230218T203000
DTEND;TZID=America/Los_Angeles:20230218T235900
DTSTAMP:20260425T042208
CREATED:20230118T071314Z
LAST-MODIFIED:20230130T202445Z
UID:10001077-1676752200-1676764740@izprveruke.com
SUMMARY:Viki Miljkovic & Nermin Hadzic - Des Moines
DESCRIPTION:Vise informacija 515-867-8012
URL:https://izprveruke.com/event/viki-miljkovic-nermin-hadzic-des-moines/
LOCATION:West Des Moines Marriot\, 1250 Jordan Creek Parkway\, Des Moines\, 50266
CATEGORIES:Koncerti
ATTACH;FMTTYPE=image/png:https://izprveruke.com/wp-content/uploads/2022/11/viki_nerminhadzic.png
GEO:41.5886453;-93.8106005
X-APPLE-STRUCTURED-LOCATION;VALUE=URI;X-ADDRESS=West Des Moines Marriot 1250 Jordan Creek Parkway Des Moines 50266;X-APPLE-RADIUS=500;X-TITLE=1250 Jordan Creek Parkway:geo:-93.8106005,41.5886453
END:VEVENT
BEGIN:VEVENT
DTSTART;TZID=America/Los_Angeles:20230218T203000
DTEND;TZID=America/Los_Angeles:20230218T235900
DTSTAMP:20260425T042208
CREATED:20230105T071140Z
LAST-MODIFIED:20230105T071146Z
UID:10001045-1676752200-1676764740@izprveruke.com
SUMMARY:Dragana Mirkovic - St. Louis
DESCRIPTION:Dragana Mirkovic & Band live in St. Louis. \n\n\n\nInfo: 314-489-4404 & 314-366-0449
URL:https://izprveruke.com/event/dragana-mirkovic-st-louis/
LOCATION:Orlando’s\, 4300 Hoffmeister Ave.\, St. Louis\, MO\, United States
CATEGORIES:Koncerti
ATTACH;FMTTYPE=image/png:https://izprveruke.com/wp-content/uploads/2023/01/draganamirkovic-e1673429271253.png
GEO:38.5428234;-90.2968619
X-APPLE-STRUCTURED-LOCATION;VALUE=URI;X-ADDRESS=Orlando’s 4300 Hoffmeister Ave. St. Louis MO United States;X-APPLE-RADIUS=500;X-TITLE=4300 Hoffmeister Ave.:geo:-90.2968619,38.5428234
END:VEVENT
BEGIN:VEVENT
DTSTART;TZID=America/Los_Angeles:20230218T230000
DTEND;TZID=America/Los_Angeles:20230218T235900
DTSTAMP:20260425T042208
CREATED:20230206T072538Z
LAST-MODIFIED:20230206T072608Z
UID:10001084-1676761200-1676764740@izprveruke.com
SUMMARY:Mini Srbijada After Party - Las Vegas
DESCRIPTION:Official Mini Srbijada After Party. DJ Deki (Phoenix) \n\n\n\nMore information 725-219-9642 & DJ Deki IG
URL:https://izprveruke.com/event/mini-srbijada-after-party-las-vegas/
LOCATION:Giuseppe’s\, 6065 S Durango Dr.\, Las Vegas\, Nevada\, United States
CATEGORIES:Žurke
ATTACH;FMTTYPE=image/png:https://izprveruke.com/wp-content/uploads/2023/02/djdeki.png
GEO:36.0786667;-115.2799153
X-APPLE-STRUCTURED-LOCATION;VALUE=URI;X-ADDRESS=Giuseppe’s 6065 S Durango Dr. Las Vegas Nevada United States;X-APPLE-RADIUS=500;X-TITLE=6065 S Durango Dr.:geo:-115.2799153,36.0786667
END:VEVENT
BEGIN:VEVENT
DTSTART;TZID=America/Los_Angeles:20230219T203000
DTEND;TZID=America/Los_Angeles:20230219T235900
DTSTAMP:20260425T042208
CREATED:20230111T085558Z
LAST-MODIFIED:20230206T065806Z
UID:10001063-1676838600-1676851140@izprveruke.com
SUMMARY:Zeljko Bebek - Calgary
DESCRIPTION:18+ | Vise informacija 403-607-2113
URL:https://izprveruke.com/event/zeljko-bebek-calgary/
LOCATION:The Back Alley\, 4630 Macleod Trail\, Calgary\, AB\, Canada
CATEGORIES:Koncerti
ATTACH;FMTTYPE=image/png:https://izprveruke.com/wp-content/uploads/2023/01/zeljkobebek.png
GEO:51.0120541;-114.064381
X-APPLE-STRUCTURED-LOCATION;VALUE=URI;X-ADDRESS=The Back Alley 4630 Macleod Trail Calgary AB Canada;X-APPLE-RADIUS=500;X-TITLE=4630 Macleod Trail:geo:-114.064381,51.0120541
END:VEVENT
BEGIN:VEVENT
DTSTART;TZID=America/Los_Angeles:20230223T203000
DTEND;TZID=America/Los_Angeles:20230223T235900
DTSTAMP:20260425T042208
CREATED:20230118T071337Z
LAST-MODIFIED:20230130T202622Z
UID:10001078-1677184200-1677196740@izprveruke.com
SUMMARY:Viki Miljkovic & Nermin Hadzic - Las Vegas
DESCRIPTION:Vise informacija 702-818-3613
URL:https://izprveruke.com/event/viki-miljkovic-nermin-hadzic-las-vegas/
LOCATION:Cafe Derbi\, 5920 W. Flamingo Rd.\, Las Vegas\, NV\, United States
CATEGORIES:Koncerti
ATTACH;FMTTYPE=image/png:https://izprveruke.com/wp-content/uploads/2022/11/viki_nerminhadzic.png
GEO:36.1154263;-115.2221234
X-APPLE-STRUCTURED-LOCATION;VALUE=URI;X-ADDRESS=Cafe Derbi 5920 W. Flamingo Rd. Las Vegas NV United States;X-APPLE-RADIUS=500;X-TITLE=5920 W. Flamingo Rd.:geo:-115.2221234,36.1154263
END:VEVENT
BEGIN:VEVENT
DTSTART;TZID=America/Los_Angeles:20230224T203000
DTEND;TZID=America/Los_Angeles:20230224T235900
DTSTAMP:20260425T042208
CREATED:20230118T071359Z
LAST-MODIFIED:20230130T202853Z
UID:10001079-1677270600-1677283140@izprveruke.com
SUMMARY:Viki Miljkovic & Nermin Hadzic - Phoenix
DESCRIPTION:Vise informacija 602-327-7251
URL:https://izprveruke.com/event/viki-miljkovic-nermin-hadzic-phoenix/
LOCATION:MoonLight Restaurant 2\, 5686 W Bell Rd.\, Glendale\, AZ\, United States
CATEGORIES:Koncerti
ATTACH;FMTTYPE=image/png:https://izprveruke.com/wp-content/uploads/2022/11/viki_nerminhadzic.png
GEO:33.6402549;-112.1817237
X-APPLE-STRUCTURED-LOCATION;VALUE=URI;X-ADDRESS=MoonLight Restaurant 2 5686 W Bell Rd. Glendale AZ United States;X-APPLE-RADIUS=500;X-TITLE=5686 W Bell Rd.:geo:-112.1817237,33.6402549
END:VEVENT
BEGIN:VEVENT
DTSTART;TZID=America/Los_Angeles:20230225T203000
DTEND;TZID=America/Los_Angeles:20230225T235900
DTSTAMP:20260425T042208
CREATED:20230118T071722Z
LAST-MODIFIED:20230130T202932Z
UID:10001081-1677357000-1677369540@izprveruke.com
SUMMARY:Viki Miljkovic & Nermin Hadzic - Portland
DESCRIPTION:Vise informacija 503-936-9539
URL:https://izprveruke.com/event/viki-miljkovic-nermin-hadzic-portland-2/
LOCATION:SLA Club\, 11610 SE Holgate Blvd.\, Portland\, OR\, United States
CATEGORIES:Koncerti
ATTACH;FMTTYPE=image/png:https://izprveruke.com/wp-content/uploads/2022/11/viki_nerminhadzic.png
GEO:45.4894625;-122.5437097
X-APPLE-STRUCTURED-LOCATION;VALUE=URI;X-ADDRESS=SLA Club 11610 SE Holgate Blvd. Portland OR United States;X-APPLE-RADIUS=500;X-TITLE=11610 SE Holgate Blvd.:geo:-122.5437097,45.4894625
END:VEVENT
BEGIN:VEVENT
DTSTART;TZID=America/Los_Angeles:20230226T203000
DTEND;TZID=America/Los_Angeles:20230226T235900
DTSTAMP:20260425T042208
CREATED:20230118T071428Z
LAST-MODIFIED:20230130T203021Z
UID:10001080-1677443400-1677455940@izprveruke.com
SUMMARY:Viki Miljkovic & Nermin Hadzic - Utica
DESCRIPTION:Vise informacija 315-527-3856
URL:https://izprveruke.com/event/viki-miljkovic-nermin-hadzic-portland/
LOCATION:Valentino’s Banquet Hall\, 3899 Oneida St.\, New Hartford\, NY\, United States
CATEGORIES:Koncerti
ATTACH;FMTTYPE=image/png:https://izprveruke.com/wp-content/uploads/2022/11/viki_nerminhadzic.png
GEO:43.051199;-75.2737
X-APPLE-STRUCTURED-LOCATION;VALUE=URI;X-ADDRESS=Valentino’s Banquet Hall 3899 Oneida St. New Hartford NY United States;X-APPLE-RADIUS=500;X-TITLE=3899 Oneida St.:geo:-75.2737,43.051199
END:VEVENT
BEGIN:VEVENT
DTSTART;TZID=America/Los_Angeles:20230303T203000
DTEND;TZID=America/Los_Angeles:20230303T235900
DTSTAMP:20260425T042208
CREATED:20230228T193946Z
LAST-MODIFIED:20230228T194042Z
UID:10001097-1677875400-1677887940@izprveruke.com
SUMMARY:Mirza Delic - St. Louis
DESCRIPTION:Muzicka pratnja: Nedo
URL:https://izprveruke.com/event/mirza-delic-st-louis-2/
LOCATION:Skala Bar\, 5051 Gravois Ave.\, St. Louis\, MO\, United States
CATEGORIES:Koncerti
ATTACH;FMTTYPE=image/jpeg:https://izprveruke.com/wp-content/uploads/2022/02/mirzadelic.jpg
GEO:38.5803607;-90.2688449
X-APPLE-STRUCTURED-LOCATION;VALUE=URI;X-ADDRESS=Skala Bar 5051 Gravois Ave. St. Louis MO United States;X-APPLE-RADIUS=500;X-TITLE=5051 Gravois Ave.:geo:-90.2688449,38.5803607
END:VEVENT
BEGIN:VEVENT
DTSTART;TZID=America/Los_Angeles:20230304T203000
DTEND;TZID=America/Los_Angeles:20230304T235900
DTSTAMP:20260425T042208
CREATED:20230228T194713Z
LAST-MODIFIED:20230228T194719Z
UID:10001100-1677961800-1677974340@izprveruke.com
SUMMARY:Mirza Delic - Grand Rapids
DESCRIPTION:Muzicka pratnja: Nedo \n\n\n\nVise informacija 616-272-1523
URL:https://izprveruke.com/event/mirza-delic-grand-rapids/
LOCATION:BreeJo’s Pizza and Pub\, 6209 Division Ave S\, Grand Rapids\, Michigan\, United States
CATEGORIES:Koncerti
ATTACH;FMTTYPE=image/jpeg:https://izprveruke.com/wp-content/uploads/2022/02/mirzadelic.jpg
GEO:42.8513387;-85.6642371
X-APPLE-STRUCTURED-LOCATION;VALUE=URI;X-ADDRESS=BreeJo’s Pizza and Pub 6209 Division Ave S Grand Rapids Michigan United States;X-APPLE-RADIUS=500;X-TITLE=6209 Division Ave S:geo:-85.6642371,42.8513387
END:VEVENT
BEGIN:VEVENT
DTSTART;TZID=America/Los_Angeles:20230304T203000
DTEND;TZID=America/Los_Angeles:20230304T235900
DTSTAMP:20260425T042208
CREATED:20230206T071031Z
LAST-MODIFIED:20230206T071659Z
UID:10001082-1677961800-1677974340@izprveruke.com
SUMMARY:Zeljko Samardzic - New York
DESCRIPTION:Just in time to help you celebrate International Women’s Day! \n\n\n\nGrab your friends and join us for an evening of romantic\, fun\, high energy pop music with Zeljko Samardzic & band as they perform their traditional “March 8th” shows\, this time in the US. \n\n\n\nAges 21+ \n\n\n\nMore information 773-941-3655
URL:https://izprveruke.com/event/zeljko-samardzic-new-york/
LOCATION:Cutting Room\, 44 East 32nd Street\, New York\, NY\, United States
CATEGORIES:Koncerti
ATTACH;FMTTYPE=image/jpeg:https://izprveruke.com/wp-content/uploads/2023/02/zeljkosamardzic.jpg
GEO:40.7127753;-74.0059728
X-APPLE-STRUCTURED-LOCATION;VALUE=URI;X-ADDRESS=Cutting Room 44 East 32nd Street New York NY United States;X-APPLE-RADIUS=500;X-TITLE=44 East 32nd Street:geo:-74.0059728,40.7127753
END:VEVENT
BEGIN:VEVENT
DTSTART;TZID=America/Los_Angeles:20230305T203000
DTEND;TZID=America/Los_Angeles:20230305T235900
DTSTAMP:20260425T042208
CREATED:20230222T071513Z
LAST-MODIFIED:20230222T071519Z
UID:10001085-1678048200-1678060740@izprveruke.com
SUMMARY:Zeljko Samardzic - Miami
DESCRIPTION:Just in time to help you celebrate International Women’s Day! \n\n\n\nGrab your friends and join us for an evening of romantic\, fun\, high energy pop music with Zeljko Samardzic & band as they perform their traditional “March 8th” shows\, this time in the US. \n\n\n\nMore information 773-941-3655
URL:https://izprveruke.com/event/zeljko-samardzic-miami/
LOCATION:El Tucan\, 1111 SW 1st Ave.\, Miami\, Florida\, United States
CATEGORIES:Koncerti
ATTACH;FMTTYPE=image/jpeg:https://izprveruke.com/wp-content/uploads/2023/02/zeljkosamardzic.jpg
GEO:25.7628418;-80.194655
X-APPLE-STRUCTURED-LOCATION;VALUE=URI;X-ADDRESS=El Tucan 1111 SW 1st Ave. Miami Florida United States;X-APPLE-RADIUS=500;X-TITLE=1111 SW 1st Ave.:geo:-80.194655,25.7628418
END:VEVENT
BEGIN:VEVENT
DTSTART;TZID=America/Los_Angeles:20230310T203000
DTEND;TZID=America/Los_Angeles:20230310T235900
DTSTAMP:20260425T042208
CREATED:20230228T195025Z
LAST-MODIFIED:20230228T195031Z
UID:10001101-1678480200-1678492740@izprveruke.com
SUMMARY:Mirza Delic - Erie
DESCRIPTION:Muzicka pratnja: Nedo \n\n\n\nVise informacija 814-572-7197
URL:https://izprveruke.com/event/mirza-delic-erie/
LOCATION:El Amigo\, 333 State St.\, Erie\, Pennsylvania\, United States
CATEGORIES:Koncerti
ATTACH;FMTTYPE=image/jpeg:https://izprveruke.com/wp-content/uploads/2022/02/mirzadelic.jpg
GEO:42.1319825;-80.0866477
X-APPLE-STRUCTURED-LOCATION;VALUE=URI;X-ADDRESS=El Amigo 333 State St. Erie Pennsylvania United States;X-APPLE-RADIUS=500;X-TITLE=333 State St.:geo:-80.0866477,42.1319825
END:VEVENT
BEGIN:VEVENT
DTSTART;TZID=America/Los_Angeles:20230310T203000
DTEND;TZID=America/Los_Angeles:20230310T235900
DTSTAMP:20260425T042208
CREATED:20230111T081136Z
LAST-MODIFIED:20230315T040904Z
UID:10001053-1678480200-1678492740@izprveruke.com
SUMMARY:Bijelo Dugme - New York
DESCRIPTION:Brega & Tifa live in NYC. \n\n\n\nKo ne poludi taj nije normalan.
URL:https://izprveruke.com/event/bijelo-dugme-new-york/
LOCATION:Melrose Ballroom\, 36-08 33rd St.\, New York\, NY\, United States
CATEGORIES:Koncerti
ATTACH;FMTTYPE=image/png:https://izprveruke.com/wp-content/uploads/2023/03/bijelodugme.png
GEO:40.7555992;-73.9286147
X-APPLE-STRUCTURED-LOCATION;VALUE=URI;X-ADDRESS=Melrose Ballroom 36-08 33rd St. New York NY United States;X-APPLE-RADIUS=500;X-TITLE=36-08 33rd St.:geo:-73.9286147,40.7555992
END:VEVENT
BEGIN:VEVENT
DTSTART;TZID=America/Los_Angeles:20230311T093000
DTEND;TZID=America/Los_Angeles:20230311T113000
DTSTAMP:20260425T042208
CREATED:20230222T074349Z
LAST-MODIFIED:20230222T074353Z
UID:10001086-1678527000-1678534200@izprveruke.com
SUMMARY:Vikend Zdravlja - Maja Volk - Chicago
DESCRIPTION:Promocija nove knjige “ Kako Osvojiti Vecni Put Do Zdravlja” \n\n\n\nKoncert na gitari. \n\n\n\nRezervacije 847-489-6236 \n\n\n\n3821 W. MontroseChicago\, IL 60618
URL:https://izprveruke.com/event/vikend-zdravlja-maja-volk-chicago/
CATEGORIES:Ostalo
ATTACH;FMTTYPE=image/png:https://izprveruke.com/wp-content/uploads/2023/02/majavolk.png
END:VEVENT
BEGIN:VEVENT
DTSTART;TZID=America/Los_Angeles:20230311T150000
DTEND;TZID=America/Los_Angeles:20230311T170000
DTSTAMP:20260425T042208
CREATED:20230222T074438Z
LAST-MODIFIED:20230222T074440Z
UID:10001087-1678546800-1678554000@izprveruke.com
SUMMARY:Vikend Zdravlja - Maja Volk - Chicago
DESCRIPTION:Promocija nove knjige “ Kako Osvojiti Vecni Put Do Zdravlja” \n\n\n\nKoncert na gitari. \n\n\n\nRezervacije 847-489-6236 \n\n\n\n3821 W. MontroseChicago\, IL 60618
URL:https://izprveruke.com/event/vikend-zdravlja-maja-volk-chicago-2/
CATEGORIES:Ostalo
ATTACH;FMTTYPE=image/png:https://izprveruke.com/wp-content/uploads/2023/02/majavolk.png
END:VEVENT
BEGIN:VEVENT
DTSTART;TZID=America/Los_Angeles:20230311T203000
DTEND;TZID=America/Los_Angeles:20230311T235900
DTSTAMP:20260425T042208
CREATED:20230228T195133Z
LAST-MODIFIED:20230228T195139Z
UID:10001102-1678566600-1678579140@izprveruke.com
SUMMARY:Mirza Delic - Detroit
DESCRIPTION:Muzicka pratnja: Nedo \n\n\n\nVise informacija 313-647-1420
URL:https://izprveruke.com/event/mirza-delic-detroit-2/
LOCATION:Premier Event Center\, 20400 S Nunneley Rd.\, Clinton Township\, Michigan\, United States
CATEGORIES:Koncerti
ATTACH;FMTTYPE=image/jpeg:https://izprveruke.com/wp-content/uploads/2022/02/mirzadelic.jpg
GEO:42.5685908;-82.9141009
X-APPLE-STRUCTURED-LOCATION;VALUE=URI;X-ADDRESS=Premier Event Center 20400 S Nunneley Rd. Clinton Township Michigan United States;X-APPLE-RADIUS=500;X-TITLE=20400 S Nunneley Rd.:geo:-82.9141009,42.5685908
END:VEVENT
BEGIN:VEVENT
DTSTART;TZID=America/Los_Angeles:20230311T203000
DTEND;TZID=America/Los_Angeles:20230311T235900
DTSTAMP:20260425T042208
CREATED:20230206T071235Z
LAST-MODIFIED:20230206T075514Z
UID:10001083-1678566600-1678579140@izprveruke.com
SUMMARY:Zeljko Samardzic - Chicago
DESCRIPTION:Just in time to help you celebrate International Women’s Day! \n\n\n\nGrab your friends and join us for an evening of romantic\, fun\, high energy pop music with Zeljko Samardzic & band as they perform their traditional “March 8th” shows\, this time in the US. \n\n\n\nMore information 773-941-3655
URL:https://izprveruke.com/event/zeljko-samardzic-chicago/
LOCATION:Joe’s Live\, 5441 Park Pl.\, Rosemont\, Illinois\, United States
CATEGORIES:Koncerti
ATTACH;FMTTYPE=image/jpeg:https://izprveruke.com/wp-content/uploads/2023/02/zeljkosamardzic.jpg
GEO:41.9780701;-87.8673276
X-APPLE-STRUCTURED-LOCATION;VALUE=URI;X-ADDRESS=Joe’s Live 5441 Park Pl. Rosemont Illinois United States;X-APPLE-RADIUS=500;X-TITLE=5441 Park Pl.:geo:-87.8673276,41.9780701
END:VEVENT
BEGIN:VEVENT
DTSTART;TZID=America/Los_Angeles:20230317T203000
DTEND;TZID=America/Los_Angeles:20230317T235900
DTSTAMP:20260425T042208
CREATED:20230111T081021Z
LAST-MODIFIED:20230315T040658Z
UID:10001052-1679085000-1679097540@izprveruke.com
SUMMARY:Bijelo Dugme - Phoenix
DESCRIPTION:Brega & Tifa live in Phoenix. \n\n\n\nKo ne poludi taj nije normalan.
URL:https://izprveruke.com/event/bijelo-dugme-phoenix/
LOCATION:CB Live\, 21001 N Tatum Blvd.\, Phoenix\, AZ\, United States
CATEGORIES:Koncerti
ATTACH;FMTTYPE=image/png:https://izprveruke.com/wp-content/uploads/2023/03/bijelodugme.png
GEO:33.6765082;-111.9761103
X-APPLE-STRUCTURED-LOCATION;VALUE=URI;X-ADDRESS=CB Live 21001 N Tatum Blvd. Phoenix AZ United States;X-APPLE-RADIUS=500;X-TITLE=21001 N Tatum Blvd.:geo:-111.9761103,33.6765082
END:VEVENT
BEGIN:VEVENT
DTSTART;TZID=America/Los_Angeles:20230318T203000
DTEND;TZID=America/Los_Angeles:20230318T235900
DTSTAMP:20260425T042208
CREATED:20230111T081359Z
LAST-MODIFIED:20230315T040741Z
UID:10001054-1679171400-1679183940@izprveruke.com
SUMMARY:Bijelo Dugme - Chicago
DESCRIPTION:Brega & Tifa live in Chicago. \n\n\n\nKo ne poludi taj nije normalan.
URL:https://izprveruke.com/event/bijelo-dugme-chicago/
LOCATION:Joe’s Live\, 5441 Park Pl.\, Rosemont\, Illinois\, United States
CATEGORIES:Koncerti
ATTACH;FMTTYPE=image/png:https://izprveruke.com/wp-content/uploads/2023/03/bijelodugme.png
ORGANIZER;CN="Pure Live Music":MAILTO:info@purelivemusic.com
GEO:41.9780701;-87.8673276
X-APPLE-STRUCTURED-LOCATION;VALUE=URI;X-ADDRESS=Joe’s Live 5441 Park Pl. Rosemont Illinois United States;X-APPLE-RADIUS=500;X-TITLE=5441 Park Pl.:geo:-87.8673276,41.9780701
END:VEVENT
END:VCALENDAR