BEGIN:VCALENDAR
VERSION:2.0
PRODID:-//Iz Prve Ruke - Koncerti u Americi i Kanadi | Lokalna Dešavanja - ECPv6.15.20//NONSGML v1.0//EN
CALSCALE:GREGORIAN
METHOD:PUBLISH
X-ORIGINAL-URL:https://izprveruke.com
X-WR-CALDESC:Events for Iz Prve Ruke - Koncerti u Americi i Kanadi | Lokalna Dešavanja
REFRESH-INTERVAL;VALUE=DURATION:PT1H
X-Robots-Tag:noindex
X-PUBLISHED-TTL:PT1H
BEGIN:VTIMEZONE
TZID:America/Los_Angeles
BEGIN:DAYLIGHT
TZOFFSETFROM:-0800
TZOFFSETTO:-0700
TZNAME:PDT
DTSTART:20250309T100000
END:DAYLIGHT
BEGIN:STANDARD
TZOFFSETFROM:-0700
TZOFFSETTO:-0800
TZNAME:PST
DTSTART:20251102T090000
END:STANDARD
BEGIN:DAYLIGHT
TZOFFSETFROM:-0800
TZOFFSETTO:-0700
TZNAME:PDT
DTSTART:20260308T100000
END:DAYLIGHT
BEGIN:STANDARD
TZOFFSETFROM:-0700
TZOFFSETTO:-0800
TZNAME:PST
DTSTART:20261101T090000
END:STANDARD
BEGIN:DAYLIGHT
TZOFFSETFROM:-0800
TZOFFSETTO:-0700
TZNAME:PDT
DTSTART:20270314T100000
END:DAYLIGHT
BEGIN:STANDARD
TZOFFSETFROM:-0700
TZOFFSETTO:-0800
TZNAME:PST
DTSTART:20271107T090000
END:STANDARD
END:VTIMEZONE
BEGIN:VEVENT
DTSTART;TZID=America/Los_Angeles:20260328T203000
DTEND;TZID=America/Los_Angeles:20260328T235900
DTSTAMP:20260423T172423
CREATED:20260105T020206Z
LAST-MODIFIED:20260105T021852Z
UID:10001572-1774729800-1774742340@izprveruke.com
SUMMARY:Jelena Rozga - Chicago
DESCRIPTION:Jelena Rozga live in Chicago. Vise informacija 312-866-1186
URL:https://izprveruke.com/event/jelena-rozga-chicago/
LOCATION:Compass Arena\, 625 Joliet Rd\, Wilowbrook\, IL\, United States
ATTACH;FMTTYPE=image/png:https://izprveruke.com/wp-content/uploads/2026/01/jelendarozga.png
GEO:41.7453652;-87.9396252
X-APPLE-STRUCTURED-LOCATION;VALUE=URI;X-ADDRESS=Compass Arena 625 Joliet Rd Wilowbrook IL United States;X-APPLE-RADIUS=500;X-TITLE=625 Joliet Rd:geo:-87.9396252,41.7453652
END:VEVENT
BEGIN:VEVENT
DTSTART;TZID=America/Los_Angeles:20260328T203000
DTEND;TZID=America/Los_Angeles:20260328T235900
DTSTAMP:20260423T172423
CREATED:20260105T021205Z
LAST-MODIFIED:20260124T033446Z
UID:10001575-1774729800-1774742340@izprveruke.com
SUMMARY:Dragana Mirkovic - Detroit
DESCRIPTION:Dragana Mirkovic & Band live in Detroit. Vise informacija 586-822-3278
URL:https://izprveruke.com/event/dragana-mirkovic-detroit-2/
LOCATION:Macedonian Cultural Center\, 43133 Ryan Rd.\, Sterling Heights\, MI\, United States
CATEGORIES:Koncerti
ATTACH;FMTTYPE=image/png:https://izprveruke.com/wp-content/uploads/2026/01/draganamirkovic.png
GEO:42.6089531;-83.0729681
X-APPLE-STRUCTURED-LOCATION;VALUE=URI;X-ADDRESS=Macedonian Cultural Center 43133 Ryan Rd. Sterling Heights MI United States;X-APPLE-RADIUS=500;X-TITLE=43133 Ryan Rd.:geo:-83.0729681,42.6089531
END:VEVENT
BEGIN:VEVENT
DTSTART;TZID=America/Los_Angeles:20260401T213000
DTEND;TZID=America/Los_Angeles:20260401T235900
DTSTAMP:20260423T172423
CREATED:20260216T030947Z
LAST-MODIFIED:20260301T224428Z
UID:10001585-1775079000-1775087940@izprveruke.com
SUMMARY:Dragana Mirkovic - Las Vegas
DESCRIPTION:Dragana Mirkovic & Band live in Las Vegas. Vise informacija 702-807-8658
URL:https://izprveruke.com/event/dragana-mirkovic-las-vegas/
LOCATION:Villa Medusa Nightclub\, 3355 S Procyon St.\, Las Vegas\, Nevada\, United States
CATEGORIES:Koncerti
ATTACH;FMTTYPE=image/png:https://izprveruke.com/wp-content/uploads/2026/01/draganamirkovic.png
GEO:36.0972613;-115.1877997
X-APPLE-STRUCTURED-LOCATION;VALUE=URI;X-ADDRESS=Villa Medusa Nightclub 3355 S Procyon St. Las Vegas Nevada United States;X-APPLE-RADIUS=500;X-TITLE=3355 S Procyon St.:geo:-115.1877997,36.0972613
END:VEVENT
BEGIN:VEVENT
DTSTART;TZID=America/Los_Angeles:20260403T203000
DTEND;TZID=America/Los_Angeles:20260403T235900
DTSTAMP:20260423T172423
CREATED:20260124T025342Z
LAST-MODIFIED:20260124T033505Z
UID:10001583-1775248200-1775260740@izprveruke.com
SUMMARY:Dragana Mirkovic - St. Louis
DESCRIPTION:Dragana Mirkovic & Band live in St. Louis. Vise informacija 314-518-5826 & 314-210-3665 (VIP)
URL:https://izprveruke.com/event/dragana-mirkovic-st-louis-2/
LOCATION:Red Flag\, 3040 Locust St.\, St. Louis\, Missouri\, United States
CATEGORIES:Koncerti
ATTACH;FMTTYPE=image/png:https://izprveruke.com/wp-content/uploads/2026/01/draganamirkovic.png
GEO:38.6358526;-90.2233303
X-APPLE-STRUCTURED-LOCATION;VALUE=URI;X-ADDRESS=Red Flag 3040 Locust St. St. Louis Missouri United States;X-APPLE-RADIUS=500;X-TITLE=3040 Locust St.:geo:-90.2233303,38.6358526
END:VEVENT
BEGIN:VEVENT
DTSTART;TZID=America/Los_Angeles:20260404T203000
DTEND;TZID=America/Los_Angeles:20260404T235900
DTSTAMP:20260423T172423
CREATED:20260105T020644Z
LAST-MODIFIED:20260124T033525Z
UID:10001573-1775334600-1775347140@izprveruke.com
SUMMARY:Dragana Mirkovic - Atlanta
DESCRIPTION:Dragana Mirkovic & Band live in Atlanta. Vise informacija 770-743-5234
URL:https://izprveruke.com/event/dragana-mirkovic-atlanta-2/
LOCATION:Sahara Lounge\, 2077 Beaver Ruin Rd #140\, Nocross\, Georgia\, United States
CATEGORIES:Koncerti
ATTACH;FMTTYPE=image/png:https://izprveruke.com/wp-content/uploads/2026/01/draganamirkovic.png
GEO:33.93347;-84.18224
X-APPLE-STRUCTURED-LOCATION;VALUE=URI;X-ADDRESS=Sahara Lounge 2077 Beaver Ruin Rd #140 Nocross Georgia United States;X-APPLE-RADIUS=500;X-TITLE=2077 Beaver Ruin Rd #140:geo:-84.18224,33.93347
END:VEVENT
BEGIN:VEVENT
DTSTART;TZID=America/Los_Angeles:20260410T203000
DTEND;TZID=America/Los_Angeles:20260410T235900
DTSTAMP:20260423T172423
CREATED:20260323T021119Z
LAST-MODIFIED:20260323T021315Z
UID:10001593-1775853000-1775865540@izprveruke.com
SUMMARY:Olja Bajrami - New Jersey
DESCRIPTION:Olja Bajrami live in New Jersey. Vise informacija 986-210-4262
URL:https://izprveruke.com/event/olja-bajrami-new-jersey/
LOCATION:Botany Lounge\, 6 Village Square E\, Clifton\, New Jersey\, United States
ATTACH;FMTTYPE=image/png:https://izprveruke.com/wp-content/uploads/2026/03/ojabajrami.png
GEO:40.8758417;-74.1220461
X-APPLE-STRUCTURED-LOCATION;VALUE=URI;X-ADDRESS=Botany Lounge 6 Village Square E Clifton New Jersey United States;X-APPLE-RADIUS=500;X-TITLE=6 Village Square E:geo:-74.1220461,40.8758417
END:VEVENT
BEGIN:VEVENT
DTSTART;TZID=America/Los_Angeles:20260411T203000
DTEND;TZID=America/Los_Angeles:20260411T235900
DTSTAMP:20260423T172423
CREATED:20260323T021201Z
LAST-MODIFIED:20260323T021316Z
UID:10001594-1775939400-1775951940@izprveruke.com
SUMMARY:Olja Bajrami - Utica
DESCRIPTION:Olja Bajrami live in Utica. Vise informacija 986-210-4262
URL:https://izprveruke.com/event/olja-bajrami-utica/
LOCATION:Cafe Milano\, 1711 Bleecker Street\, Utica\, NY\, United States
ATTACH;FMTTYPE=image/png:https://izprveruke.com/wp-content/uploads/2026/03/ojabajrami.png
GEO:43.093138;-75.199899
X-APPLE-STRUCTURED-LOCATION;VALUE=URI;X-ADDRESS=Cafe Milano 1711 Bleecker Street Utica NY United States;X-APPLE-RADIUS=500;X-TITLE=1711 Bleecker Street:geo:-75.199899,43.093138
END:VEVENT
BEGIN:VEVENT
DTSTART;TZID=America/Los_Angeles:20260417T203000
DTEND;TZID=America/Los_Angeles:20260417T235900
DTSTAMP:20260423T172423
CREATED:20260323T021324Z
LAST-MODIFIED:20260323T021324Z
UID:10001595-1776457800-1776470340@izprveruke.com
SUMMARY:Olja Bajrami - St. Louis
DESCRIPTION:Olja Bajrami live in St. Louis. Vise informacija 986-210-4262
URL:https://izprveruke.com/event/olja-bajrami-st-louis/
LOCATION:Falls Event Center\, 300 Admiral Weinel Blvd.\, Illinois\, United States
ATTACH;FMTTYPE=image/png:https://izprveruke.com/wp-content/uploads/2026/03/ojabajrami.png
GEO:38.4388424;-90.2115524
X-APPLE-STRUCTURED-LOCATION;VALUE=URI;X-ADDRESS=Falls Event Center 300 Admiral Weinel Blvd. Illinois United States;X-APPLE-RADIUS=500;X-TITLE=300 Admiral Weinel Blvd.:geo:-90.2115524,38.4388424
END:VEVENT
BEGIN:VEVENT
DTSTART;TZID=America/Los_Angeles:20260418T203000
DTEND;TZID=America/Los_Angeles:20260418T235900
DTSTAMP:20260423T172423
CREATED:20260323T021351Z
LAST-MODIFIED:20260323T021353Z
UID:10001596-1776544200-1776556740@izprveruke.com
SUMMARY:Olja Bajrami - Chicago
DESCRIPTION:Olja Bajrami live in Chicago. Vise informacija 986-210-4262
URL:https://izprveruke.com/event/olja-bajrami-chicago/
LOCATION:Skadarliya\, 9237 West Ogden Ave.\, Brookfield\, IL\, United States
ATTACH;FMTTYPE=image/png:https://izprveruke.com/wp-content/uploads/2026/03/ojabajrami.png
GEO:41.8167634;-87.8534024
X-APPLE-STRUCTURED-LOCATION;VALUE=URI;X-ADDRESS=Skadarliya 9237 West Ogden Ave. Brookfield IL United States;X-APPLE-RADIUS=500;X-TITLE=9237 West Ogden Ave.:geo:-87.8534024,41.8167634
END:VEVENT
BEGIN:VEVENT
DTSTART;TZID=America/Los_Angeles:20260422T203000
DTEND;TZID=America/Los_Angeles:20260422T235900
DTSTAMP:20260423T172423
CREATED:20260323T021456Z
LAST-MODIFIED:20260323T021458Z
UID:10001597-1776889800-1776902340@izprveruke.com
SUMMARY:Olja Bajrami - Miami
DESCRIPTION:Olja Bajrami live in Miami. Vise informacija 986-210-4262
URL:https://izprveruke.com/event/olja-bajrami-miami/
LOCATION:Cave 305\, 1560 Collins Ave\, Miami Beach\, FL\, United States
ATTACH;FMTTYPE=image/png:https://izprveruke.com/wp-content/uploads/2026/03/ojabajrami.png
GEO:25.7889795;-80.1309075
X-APPLE-STRUCTURED-LOCATION;VALUE=URI;X-ADDRESS=Cave 305 1560 Collins Ave Miami Beach FL United States;X-APPLE-RADIUS=500;X-TITLE=1560 Collins Ave:geo:-80.1309075,25.7889795
END:VEVENT
BEGIN:VEVENT
DTSTART;TZID=America/Los_Angeles:20260422T203000
DTEND;TZID=America/Los_Angeles:20260422T235900
DTSTAMP:20260423T172423
CREATED:20260323T021609Z
LAST-MODIFIED:20260323T021610Z
UID:10001598-1776889800-1776902340@izprveruke.com
SUMMARY:Olja Bajrami - Atlanta
DESCRIPTION:Olja Bajrami live in Atlanta. Vise informacija 986-210-4262
URL:https://izprveruke.com/event/olja-bajrami-atlanta/
LOCATION:Lincoln’s Grill\, 219 Gwinnett Dr.\, Lawrenceville\, Georgia\, United States
ATTACH;FMTTYPE=image/png:https://izprveruke.com/wp-content/uploads/2026/03/ojabajrami.png
GEO:33.9432313;-83.9927606
X-APPLE-STRUCTURED-LOCATION;VALUE=URI;X-ADDRESS=Lincoln’s Grill 219 Gwinnett Dr. Lawrenceville Georgia United States;X-APPLE-RADIUS=500;X-TITLE=219 Gwinnett Dr.:geo:-83.9927606,33.9432313
END:VEVENT
BEGIN:VEVENT
DTSTART;TZID=America/Los_Angeles:20260424T203000
DTEND;TZID=America/Los_Angeles:20260424T235900
DTSTAMP:20260423T172423
CREATED:20260323T015838Z
LAST-MODIFIED:20260323T020004Z
UID:10001587-1777062600-1777075140@izprveruke.com
SUMMARY:Emir Djulovic - Detroit
DESCRIPTION:Emir Djulovic live in Detroit. Vise informacija 315-601-1228 & 423-314-3532
URL:https://izprveruke.com/event/emir-djulovic-detroit-2/
LOCATION:Macedonian Cultural Center\, 43133 Ryan Rd.\, Sterling Heights\, MI\, United States
CATEGORIES:Koncerti
ATTACH;FMTTYPE=image/png:https://izprveruke.com/wp-content/uploads/2026/03/emirdjulovic.png
GEO:42.6089531;-83.0729681
X-APPLE-STRUCTURED-LOCATION;VALUE=URI;X-ADDRESS=Macedonian Cultural Center 43133 Ryan Rd. Sterling Heights MI United States;X-APPLE-RADIUS=500;X-TITLE=43133 Ryan Rd.:geo:-83.0729681,42.6089531
END:VEVENT
BEGIN:VEVENT
DTSTART;TZID=America/Los_Angeles:20260425T203000
DTEND;TZID=America/Los_Angeles:20260425T235900
DTSTAMP:20260423T172423
CREATED:20260323T020054Z
LAST-MODIFIED:20260327T214348Z
UID:10001588-1777149000-1777161540@izprveruke.com
SUMMARY:Emir Djulovic - Bowling Green
DESCRIPTION:Emir Djulovic live in Bowling Green. Vise informacija 315-601-1228 & 423-314-3532
URL:https://izprveruke.com/event/emir-djulovic-bowling-green-2/
LOCATION:La Gala\, 601 State St.\, Bowling Green\, KY\, United States
CATEGORIES:Koncerti
ATTACH;FMTTYPE=image/png:https://izprveruke.com/wp-content/uploads/2026/03/emirdjulovic.png
GEO:36.9955127;-86.4372742
X-APPLE-STRUCTURED-LOCATION;VALUE=URI;X-ADDRESS=La Gala 601 State St. Bowling Green KY United States;X-APPLE-RADIUS=500;X-TITLE=601 State St.:geo:-86.4372742,36.9955127
END:VEVENT
BEGIN:VEVENT
DTSTART;TZID=America/Los_Angeles:20260425T203000
DTEND;TZID=America/Los_Angeles:20260425T235900
DTSTAMP:20260423T172423
CREATED:20260323T021646Z
LAST-MODIFIED:20260323T021713Z
UID:10001599-1777149000-1777161540@izprveruke.com
SUMMARY:Olja Bajrami - Grand Rapids
DESCRIPTION:Olja Bajrami live in Grand Rapids. Vise informacija 986-210-4262
URL:https://izprveruke.com/event/olja-bajrami-grand-rapids/
LOCATION:Zeytin Restaurant\, 7437 River St SE\, Ada\, Michigan\, United States
ATTACH;FMTTYPE=image/png:https://izprveruke.com/wp-content/uploads/2026/03/ojabajrami.png
GEO:42.9546137;-85.4848172
X-APPLE-STRUCTURED-LOCATION;VALUE=URI;X-ADDRESS=Zeytin Restaurant 7437 River St SE Ada Michigan United States;X-APPLE-RADIUS=500;X-TITLE=7437 River St SE:geo:-85.4848172,42.9546137
END:VEVENT
BEGIN:VEVENT
DTSTART;TZID=America/Los_Angeles:20260501T203000
DTEND;TZID=America/Los_Angeles:20260501T235900
DTSTAMP:20260423T172423
CREATED:20260320T220358Z
LAST-MODIFIED:20260320T220400Z
UID:10001528-1777667400-1777679940@izprveruke.com
SUMMARY:Boban Rajovic - St. Louis
DESCRIPTION:Boban Rajovic live in St. Louis! Vise informacija 314-223-2665
URL:https://izprveruke.com/event/boban-rajovic-st-louis/
LOCATION:Falls Event Center\, 300 Admiral Weinel Blvd.\, Illinois\, United States
CATEGORIES:Koncerti
ATTACH;FMTTYPE=image/png:https://izprveruke.com/wp-content/uploads/2025/09/bobanrajovic.png
GEO:38.4388424;-90.2115524
X-APPLE-STRUCTURED-LOCATION;VALUE=URI;X-ADDRESS=Falls Event Center 300 Admiral Weinel Blvd. Illinois United States;X-APPLE-RADIUS=500;X-TITLE=300 Admiral Weinel Blvd.:geo:-90.2115524,38.4388424
END:VEVENT
BEGIN:VEVENT
DTSTART;TZID=America/Los_Angeles:20260501T203000
DTEND;TZID=America/Los_Angeles:20260501T235900
DTSTAMP:20260423T172423
CREATED:20260323T020233Z
LAST-MODIFIED:20260323T020235Z
UID:10001589-1777667400-1777679940@izprveruke.com
SUMMARY:Emir Djulovic - Manchester
DESCRIPTION:Emir Djulovic live in Manchester. Vise informacija 315-601-1228 & 423-314-3532
URL:https://izprveruke.com/event/emir-djulovic-manchester/
LOCATION:Jewel Music Venue\, 61 Canal St\, Manchester\, New Hampshire\, United States
CATEGORIES:Koncerti
ATTACH;FMTTYPE=image/png:https://izprveruke.com/wp-content/uploads/2026/03/emirdjulovic.png
GEO:42.9860304;-71.4651674
X-APPLE-STRUCTURED-LOCATION;VALUE=URI;X-ADDRESS=Jewel Music Venue 61 Canal St Manchester New Hampshire United States;X-APPLE-RADIUS=500;X-TITLE=61 Canal St:geo:-71.4651674,42.9860304
END:VEVENT
BEGIN:VEVENT
DTSTART;TZID=America/Los_Angeles:20260501T203000
DTEND;TZID=America/Los_Angeles:20260501T235900
DTSTAMP:20260423T172423
CREATED:20260323T021743Z
LAST-MODIFIED:20260323T021745Z
UID:10001600-1777667400-1777679940@izprveruke.com
SUMMARY:Olja Bajrami - Bowling Green
DESCRIPTION:Olja Bajrami live in Bowling Green. Vise informacija 986-210-4262
URL:https://izprveruke.com/event/olja-bajrami-bowling-green/
LOCATION:La Gala\, 601 State St.\, Bowling Green\, KY\, United States
ATTACH;FMTTYPE=image/png:https://izprveruke.com/wp-content/uploads/2026/03/ojabajrami.png
GEO:36.9955127;-86.4372742
X-APPLE-STRUCTURED-LOCATION;VALUE=URI;X-ADDRESS=La Gala 601 State St. Bowling Green KY United States;X-APPLE-RADIUS=500;X-TITLE=601 State St.:geo:-86.4372742,36.9955127
END:VEVENT
BEGIN:VEVENT
DTSTART;TZID=America/Los_Angeles:20260502T203000
DTEND;TZID=America/Los_Angeles:20260502T235900
DTSTAMP:20260423T172423
CREATED:20260320T220540Z
LAST-MODIFIED:20260320T220541Z
UID:10001586-1777753800-1777766340@izprveruke.com
SUMMARY:Boban Rajovic - Detroit
DESCRIPTION:Boban Rajovic live in Detroit! Vise informacija 586-838-8651
URL:https://izprveruke.com/event/boban-rajovic-detroit/
LOCATION:Club 8\, 45849 Mound Rd.\, Shelby Township\, Michigan\, United States
CATEGORIES:Koncerti
ATTACH;FMTTYPE=image/png:https://izprveruke.com/wp-content/uploads/2025/09/bobanrajovic.png
GEO:42.6311408;-83.0531486
X-APPLE-STRUCTURED-LOCATION;VALUE=URI;X-ADDRESS=Club 8 45849 Mound Rd. Shelby Township Michigan United States;X-APPLE-RADIUS=500;X-TITLE=45849 Mound Rd.:geo:-83.0531486,42.6311408
END:VEVENT
BEGIN:VEVENT
DTSTART;TZID=America/Los_Angeles:20260502T203000
DTEND;TZID=America/Los_Angeles:20260502T235900
DTSTAMP:20260423T172423
CREATED:20260323T020313Z
LAST-MODIFIED:20260323T020315Z
UID:10001590-1777753800-1777766340@izprveruke.com
SUMMARY:Emir Djulovic - Utica
DESCRIPTION:Emir Djulovic live in Utica. Vise informacija 315-601-1228 & 423-314-3532
URL:https://izprveruke.com/event/emir-djulovic-utica-3/
LOCATION:Valentino’s Banquet Hall\, 3899 Oneida St.\, New Hartford\, NY\, United States
CATEGORIES:Koncerti
ATTACH;FMTTYPE=image/png:https://izprveruke.com/wp-content/uploads/2026/03/emirdjulovic.png
GEO:43.051199;-75.2737
X-APPLE-STRUCTURED-LOCATION;VALUE=URI;X-ADDRESS=Valentino’s Banquet Hall 3899 Oneida St. New Hartford NY United States;X-APPLE-RADIUS=500;X-TITLE=3899 Oneida St.:geo:-75.2737,43.051199
END:VEVENT
BEGIN:VEVENT
DTSTART;TZID=America/Los_Angeles:20260508T203000
DTEND;TZID=America/Los_Angeles:20260508T235900
DTSTAMP:20260423T172423
CREATED:20260323T020400Z
LAST-MODIFIED:20260323T020402Z
UID:10001591-1778272200-1778284740@izprveruke.com
SUMMARY:Emir Djulovic - Chicago
DESCRIPTION:Emir Djulovic live in Chicago. Vise informacija 315-601-1228 & 423-314-3532
URL:https://izprveruke.com/event/emir-djulovic-chicago-3/
LOCATION:Villa Bella\, 9755 W Grand Ave.\, Franklin Park\, Illinois\, United States
CATEGORIES:Koncerti
ATTACH;FMTTYPE=image/png:https://izprveruke.com/wp-content/uploads/2026/03/emirdjulovic.png
GEO:41.9296194;-87.8693198
X-APPLE-STRUCTURED-LOCATION;VALUE=URI;X-ADDRESS=Villa Bella 9755 W Grand Ave. Franklin Park Illinois United States;X-APPLE-RADIUS=500;X-TITLE=9755 W Grand Ave.:geo:-87.8693198,41.9296194
END:VEVENT
BEGIN:VEVENT
DTSTART;TZID=America/Los_Angeles:20260508T203000
DTEND;TZID=America/Los_Angeles:20260508T235900
DTSTAMP:20260423T172423
CREATED:20260411T031556Z
LAST-MODIFIED:20260411T031558Z
UID:10001608-1778272200-1778284740@izprveruke.com
SUMMARY:Denial Ahmetovic - Atlanta
DESCRIPTION:Denial Ahmetovic live in Atlanta. Vise informacija 986-210-4262 (Sanel)
URL:https://izprveruke.com/event/denial-ahmetovic-atlanta/
LOCATION:Lincoln’s Grill\, 219 Gwinnett Dr.\, Lawrenceville\, Georgia\, United States
CATEGORIES:Koncerti
ATTACH;FMTTYPE=image/png:https://izprveruke.com/wp-content/uploads/2026/04/denialahmetovic.png
GEO:33.9432313;-83.9927606
X-APPLE-STRUCTURED-LOCATION;VALUE=URI;X-ADDRESS=Lincoln’s Grill 219 Gwinnett Dr. Lawrenceville Georgia United States;X-APPLE-RADIUS=500;X-TITLE=219 Gwinnett Dr.:geo:-83.9927606,33.9432313
END:VEVENT
BEGIN:VEVENT
DTSTART;TZID=America/Los_Angeles:20260509T203000
DTEND;TZID=America/Los_Angeles:20260509T235900
DTSTAMP:20260423T172423
CREATED:20260323T020433Z
LAST-MODIFIED:20260323T020435Z
UID:10001592-1778358600-1778371140@izprveruke.com
SUMMARY:Emir Djulovic - St. Louis
DESCRIPTION:Emir Djulovic live in St. Louis. Vise informacija 315-601-1228 & 423-314-3532
URL:https://izprveruke.com/event/emir-djulovic-st-louis-2/
LOCATION:Red Flag\, 3040 Locust St.\, St. Louis\, Missouri\, United States
CATEGORIES:Koncerti
ATTACH;FMTTYPE=image/png:https://izprveruke.com/wp-content/uploads/2026/03/emirdjulovic.png
GEO:38.6358526;-90.2233303
X-APPLE-STRUCTURED-LOCATION;VALUE=URI;X-ADDRESS=Red Flag 3040 Locust St. St. Louis Missouri United States;X-APPLE-RADIUS=500;X-TITLE=3040 Locust St.:geo:-90.2233303,38.6358526
END:VEVENT
BEGIN:VEVENT
DTSTART;TZID=America/Los_Angeles:20260509T203000
DTEND;TZID=America/Los_Angeles:20260509T235900
DTSTAMP:20260423T172423
CREATED:20260411T031725Z
LAST-MODIFIED:20260411T031727Z
UID:10001609-1778358600-1778371140@izprveruke.com
SUMMARY:Denial Ahmetovic - Binghamton
DESCRIPTION:Denial Ahmetovic live in Binghamton. Vise informacija 986-210-4262 (Sanel)
URL:https://izprveruke.com/event/denial-ahmetovic-binghamton/
LOCATION:Illinois
CATEGORIES:Koncerti
ATTACH;FMTTYPE=image/png:https://izprveruke.com/wp-content/uploads/2026/04/denialahmetovic.png
END:VEVENT
BEGIN:VEVENT
DTSTART;TZID=America/Los_Angeles:20260515T203000
DTEND;TZID=America/Los_Angeles:20260515T235900
DTSTAMP:20260423T172423
CREATED:20260411T031810Z
LAST-MODIFIED:20260411T031812Z
UID:10001610-1778877000-1778889540@izprveruke.com
SUMMARY:Denial Ahmetovic - Bowling Green
DESCRIPTION:Denial Ahmetovic live in Bowling Green. Vise informacija 986-210-4262 (Sanel)
URL:https://izprveruke.com/event/denial-ahmetovic-bowling-green/
LOCATION:La Gala\, 601 State St.\, Bowling Green\, KY\, United States
CATEGORIES:Koncerti
ATTACH;FMTTYPE=image/png:https://izprveruke.com/wp-content/uploads/2026/04/denialahmetovic.png
GEO:36.9955127;-86.4372742
X-APPLE-STRUCTURED-LOCATION;VALUE=URI;X-ADDRESS=La Gala 601 State St. Bowling Green KY United States;X-APPLE-RADIUS=500;X-TITLE=601 State St.:geo:-86.4372742,36.9955127
END:VEVENT
BEGIN:VEVENT
DTSTART;TZID=America/Los_Angeles:20260516T203000
DTEND;TZID=America/Los_Angeles:20260516T235900
DTSTAMP:20260423T172423
CREATED:20260411T031839Z
LAST-MODIFIED:20260411T031841Z
UID:10001611-1778963400-1778975940@izprveruke.com
SUMMARY:Denial Ahmetovic - Bowling Green
DESCRIPTION:Denial Ahmetovic live in Detroit. Vise informacija 986-210-4262 (Sanel)
URL:https://izprveruke.com/event/denial-ahmetovic-bowling-green-2/
LOCATION:Illinois
CATEGORIES:Koncerti
ATTACH;FMTTYPE=image/png:https://izprveruke.com/wp-content/uploads/2026/04/denialahmetovic.png
END:VEVENT
BEGIN:VEVENT
DTSTART;TZID=America/Los_Angeles:20260522T200000
DTEND;TZID=America/Los_Angeles:20260522T235900
DTSTAMP:20260423T172423
CREATED:20260411T030331Z
LAST-MODIFIED:20260411T030333Z
UID:10001602-1779480000-1779494340@izprveruke.com
SUMMARY:Dzenan Loncarevic - Chicago
DESCRIPTION:Dzenan Loncarevic live in Chicago. Vise informacija 630-868-8621
URL:https://izprveruke.com/event/dzenan-loncarevic-chicago-3/
LOCATION:Pella Signature\, 720 Village Center Dr.\, Burr Ridge\, Illinois\, United States
CATEGORIES:Koncerti
ATTACH;FMTTYPE=image/jpeg:https://izprveruke.com/wp-content/uploads/2022/02/dzenan.jpg
GEO:41.7533067;-87.9116193
X-APPLE-STRUCTURED-LOCATION;VALUE=URI;X-ADDRESS=Pella Signature 720 Village Center Dr. Burr Ridge Illinois United States;X-APPLE-RADIUS=500;X-TITLE=720 Village Center Dr.:geo:-87.9116193,41.7533067
END:VEVENT
BEGIN:VEVENT
DTSTART;TZID=America/Los_Angeles:20260522T203000
DTEND;TZID=America/Los_Angeles:20260522T235900
DTSTAMP:20260423T172423
CREATED:20260411T032131Z
LAST-MODIFIED:20260411T032133Z
UID:10001612-1779481800-1779494340@izprveruke.com
SUMMARY:Denial Ahmetovic - Chicago
DESCRIPTION:Denial Ahmetovic live in Chicago. Vise informacija 986-210-4262 (Sanel)
URL:https://izprveruke.com/event/denial-ahmetovic-chicago/
LOCATION:Playbook\, 6913 N Milwaukee Ave\, Niles\, IL\, United States
CATEGORIES:Koncerti
ATTACH;FMTTYPE=image/png:https://izprveruke.com/wp-content/uploads/2026/04/denialahmetovic.png
GEO:42.0073514;-87.7966717
X-APPLE-STRUCTURED-LOCATION;VALUE=URI;X-ADDRESS=Playbook 6913 N Milwaukee Ave Niles IL United States;X-APPLE-RADIUS=500;X-TITLE=6913 N Milwaukee Ave:geo:-87.7966717,42.0073514
END:VEVENT
BEGIN:VEVENT
DTSTART;TZID=America/Los_Angeles:20260523T200000
DTEND;TZID=America/Los_Angeles:20260523T235900
DTSTAMP:20260423T172423
CREATED:20260411T030423Z
LAST-MODIFIED:20260411T030424Z
UID:10001603-1779566400-1779580740@izprveruke.com
SUMMARY:Dzenan Loncarevic - Phoenix
DESCRIPTION:Dzenan Loncarevic live in Phoenix. Vise informacija 480-433-5505
URL:https://izprveruke.com/event/dzenan-loncarevic-phoenix-2/
LOCATION:Mill’s Modern Social\, 83 E Broadway Rd.\, Tempe\, Arizona\, United States
CATEGORIES:Koncerti
ATTACH;FMTTYPE=image/jpeg:https://izprveruke.com/wp-content/uploads/2022/02/dzenan.jpg
GEO:33.4070022;-111.9386095
X-APPLE-STRUCTURED-LOCATION;VALUE=URI;X-ADDRESS=Mill’s Modern Social 83 E Broadway Rd. Tempe Arizona United States;X-APPLE-RADIUS=500;X-TITLE=83 E Broadway Rd.:geo:-111.9386095,33.4070022
END:VEVENT
BEGIN:VEVENT
DTSTART;TZID=America/Los_Angeles:20260523T203000
DTEND;TZID=America/Los_Angeles:20260523T235900
DTSTAMP:20260423T172423
CREATED:20260411T032201Z
LAST-MODIFIED:20260411T032203Z
UID:10001613-1779568200-1779580740@izprveruke.com
SUMMARY:Denial Ahmetovic - St. Louis
DESCRIPTION:Denial Ahmetovic live in St. Louis. Vise informacija 986-210-4262 (Sanel)
URL:https://izprveruke.com/event/denial-ahmetovic-st-louis-2/
LOCATION:Illinois
CATEGORIES:Koncerti
ATTACH;FMTTYPE=image/png:https://izprveruke.com/wp-content/uploads/2026/04/denialahmetovic.png
END:VEVENT
BEGIN:VEVENT
DTSTART;TZID=America/Los_Angeles:20260524T200000
DTEND;TZID=America/Los_Angeles:20260524T235900
DTSTAMP:20260423T172423
CREATED:20260411T030529Z
LAST-MODIFIED:20260411T030531Z
UID:10001604-1779652800-1779667140@izprveruke.com
SUMMARY:Dzenan Loncarevic - St. Petersburg
DESCRIPTION:Dzenan Loncarevic live in St. Petersburg. Vise informacija 561-268-6757
URL:https://izprveruke.com/event/dzenan-loncarevic-st-petersburg-2/
LOCATION:The Event Hall\, 6152 126th Ave. N\, Largo\, Florida\, United States
CATEGORIES:Koncerti
ATTACH;FMTTYPE=image/jpeg:https://izprveruke.com/wp-content/uploads/2022/02/dzenan.jpg
GEO:27.884989;-82.7188233
X-APPLE-STRUCTURED-LOCATION;VALUE=URI;X-ADDRESS=The Event Hall 6152 126th Ave. N Largo Florida United States;X-APPLE-RADIUS=500;X-TITLE=6152 126th Ave. N:geo:-82.7188233,27.884989
END:VEVENT
END:VCALENDAR