BEGIN:VCALENDAR
VERSION:2.0
PRODID:-//Iz Prve Ruke - Koncerti u Americi i Kanadi | Lokalna Dešavanja - ECPv6.15.20//NONSGML v1.0//EN
CALSCALE:GREGORIAN
METHOD:PUBLISH
X-WR-CALNAME:Iz Prve Ruke - Koncerti u Americi i Kanadi | Lokalna Dešavanja
X-ORIGINAL-URL:https://izprveruke.com
X-WR-CALDESC:Events for Iz Prve Ruke - Koncerti u Americi i Kanadi | Lokalna Dešavanja
REFRESH-INTERVAL;VALUE=DURATION:PT1H
X-Robots-Tag:noindex
X-PUBLISHED-TTL:PT1H
BEGIN:VTIMEZONE
TZID:America/Los_Angeles
BEGIN:DAYLIGHT
TZOFFSETFROM:-0800
TZOFFSETTO:-0700
TZNAME:PDT
DTSTART:20250309T100000
END:DAYLIGHT
BEGIN:STANDARD
TZOFFSETFROM:-0700
TZOFFSETTO:-0800
TZNAME:PST
DTSTART:20251102T090000
END:STANDARD
BEGIN:DAYLIGHT
TZOFFSETFROM:-0800
TZOFFSETTO:-0700
TZNAME:PDT
DTSTART:20260308T100000
END:DAYLIGHT
BEGIN:STANDARD
TZOFFSETFROM:-0700
TZOFFSETTO:-0800
TZNAME:PST
DTSTART:20261101T090000
END:STANDARD
BEGIN:DAYLIGHT
TZOFFSETFROM:-0800
TZOFFSETTO:-0700
TZNAME:PDT
DTSTART:20270314T100000
END:DAYLIGHT
BEGIN:STANDARD
TZOFFSETFROM:-0700
TZOFFSETTO:-0800
TZNAME:PST
DTSTART:20271107T090000
END:STANDARD
END:VTIMEZONE
BEGIN:VEVENT
DTSTART;TZID=America/Los_Angeles:20260522T203000
DTEND;TZID=America/Los_Angeles:20260522T235900
DTSTAMP:20260423T115752
CREATED:20260411T032131Z
LAST-MODIFIED:20260411T032133Z
UID:10001612-1779481800-1779494340@izprveruke.com
SUMMARY:Denial Ahmetovic - Chicago
DESCRIPTION:Denial Ahmetovic live in Chicago. Vise informacija 986-210-4262 (Sanel)
URL:https://izprveruke.com/event/denial-ahmetovic-chicago/
LOCATION:Playbook\, 6913 N Milwaukee Ave\, Niles\, IL\, United States
CATEGORIES:Koncerti
ATTACH;FMTTYPE=image/png:https://izprveruke.com/wp-content/uploads/2026/04/denialahmetovic.png
GEO:42.0073514;-87.7966717
X-APPLE-STRUCTURED-LOCATION;VALUE=URI;X-ADDRESS=Playbook 6913 N Milwaukee Ave Niles IL United States;X-APPLE-RADIUS=500;X-TITLE=6913 N Milwaukee Ave:geo:-87.7966717,42.0073514
END:VEVENT
BEGIN:VEVENT
DTSTART;TZID=America/Los_Angeles:20260523T200000
DTEND;TZID=America/Los_Angeles:20260523T235900
DTSTAMP:20260423T115752
CREATED:20260411T030423Z
LAST-MODIFIED:20260411T030424Z
UID:10001603-1779566400-1779580740@izprveruke.com
SUMMARY:Dzenan Loncarevic - Phoenix
DESCRIPTION:Dzenan Loncarevic live in Phoenix. Vise informacija 480-433-5505
URL:https://izprveruke.com/event/dzenan-loncarevic-phoenix-2/
LOCATION:Mill’s Modern Social\, 83 E Broadway Rd.\, Tempe\, Arizona\, United States
CATEGORIES:Koncerti
ATTACH;FMTTYPE=image/jpeg:https://izprveruke.com/wp-content/uploads/2022/02/dzenan.jpg
GEO:33.4070022;-111.9386095
X-APPLE-STRUCTURED-LOCATION;VALUE=URI;X-ADDRESS=Mill’s Modern Social 83 E Broadway Rd. Tempe Arizona United States;X-APPLE-RADIUS=500;X-TITLE=83 E Broadway Rd.:geo:-111.9386095,33.4070022
END:VEVENT
BEGIN:VEVENT
DTSTART;TZID=America/Los_Angeles:20260523T203000
DTEND;TZID=America/Los_Angeles:20260523T235900
DTSTAMP:20260423T115752
CREATED:20260411T032201Z
LAST-MODIFIED:20260411T032203Z
UID:10001613-1779568200-1779580740@izprveruke.com
SUMMARY:Denial Ahmetovic - St. Louis
DESCRIPTION:Denial Ahmetovic live in St. Louis. Vise informacija 986-210-4262 (Sanel)
URL:https://izprveruke.com/event/denial-ahmetovic-st-louis-2/
LOCATION:Illinois
CATEGORIES:Koncerti
ATTACH;FMTTYPE=image/png:https://izprveruke.com/wp-content/uploads/2026/04/denialahmetovic.png
END:VEVENT
BEGIN:VEVENT
DTSTART;TZID=America/Los_Angeles:20260524T200000
DTEND;TZID=America/Los_Angeles:20260524T235900
DTSTAMP:20260423T115752
CREATED:20260411T030529Z
LAST-MODIFIED:20260411T030531Z
UID:10001604-1779652800-1779667140@izprveruke.com
SUMMARY:Dzenan Loncarevic - St. Petersburg
DESCRIPTION:Dzenan Loncarevic live in St. Petersburg. Vise informacija 561-268-6757
URL:https://izprveruke.com/event/dzenan-loncarevic-st-petersburg-2/
LOCATION:The Event Hall\, 6152 126th Ave. N\, Largo\, Florida\, United States
CATEGORIES:Koncerti
ATTACH;FMTTYPE=image/jpeg:https://izprveruke.com/wp-content/uploads/2022/02/dzenan.jpg
GEO:27.884989;-82.7188233
X-APPLE-STRUCTURED-LOCATION;VALUE=URI;X-ADDRESS=The Event Hall 6152 126th Ave. N Largo Florida United States;X-APPLE-RADIUS=500;X-TITLE=6152 126th Ave. N:geo:-82.7188233,27.884989
END:VEVENT
BEGIN:VEVENT
DTSTART;TZID=America/Los_Angeles:20260527T200000
DTEND;TZID=America/Los_Angeles:20260527T235900
DTSTAMP:20260423T115752
CREATED:20260411T030639Z
LAST-MODIFIED:20260411T030641Z
UID:10001605-1779912000-1779926340@izprveruke.com
SUMMARY:Dzenan Loncarevic - Miami
DESCRIPTION:Dzenan Loncarevic live in Miami. Vise informacija 305-773-5071
URL:https://izprveruke.com/event/dzenan-loncarevic-miami-2/
LOCATION:Cave 305\, 1560 Collins Ave\, Miami Beach\, FL\, United States
CATEGORIES:Koncerti
ATTACH;FMTTYPE=image/jpeg:https://izprveruke.com/wp-content/uploads/2022/02/dzenan.jpg
GEO:25.7889795;-80.1309075
X-APPLE-STRUCTURED-LOCATION;VALUE=URI;X-ADDRESS=Cave 305 1560 Collins Ave Miami Beach FL United States;X-APPLE-RADIUS=500;X-TITLE=1560 Collins Ave:geo:-80.1309075,25.7889795
END:VEVENT
BEGIN:VEVENT
DTSTART;TZID=America/Los_Angeles:20260529T200000
DTEND;TZID=America/Los_Angeles:20260529T235900
DTSTAMP:20260423T115752
CREATED:20260411T030740Z
LAST-MODIFIED:20260411T030743Z
UID:10001606-1780084800-1780099140@izprveruke.com
SUMMARY:Dzenan Loncarevic - New York
DESCRIPTION:Dzenan Loncarevic live in NYC. Vise informacija 646-261-3252 & 971-568-3496
URL:https://izprveruke.com/event/dzenan-loncarevic-new-york-3/
LOCATION:Melrose Ballroom\, 36-08 33rd St.\, New York\, NY\, United States
CATEGORIES:Koncerti
ATTACH;FMTTYPE=image/jpeg:https://izprveruke.com/wp-content/uploads/2022/02/dzenan.jpg
GEO:40.7555992;-73.9286147
X-APPLE-STRUCTURED-LOCATION;VALUE=URI;X-ADDRESS=Melrose Ballroom 36-08 33rd St. New York NY United States;X-APPLE-RADIUS=500;X-TITLE=36-08 33rd St.:geo:-73.9286147,40.7555992
END:VEVENT
BEGIN:VEVENT
DTSTART;TZID=America/Los_Angeles:20260530T200000
DTEND;TZID=America/Los_Angeles:20260530T235900
DTSTAMP:20260423T115752
CREATED:20260411T030835Z
LAST-MODIFIED:20260411T030928Z
UID:10001607-1780171200-1780185540@izprveruke.com
SUMMARY:Dzenan Loncarevic - Utica
DESCRIPTION:Dzenan Loncarevic live in Utica. Vise informacija 315-269-8447
URL:https://izprveruke.com/event/dzenan-loncarevic-utica-2/
LOCATION:Cafe Milano\, 1711 Bleecker Street\, Utica\, NY\, United States
CATEGORIES:Koncerti
ATTACH;FMTTYPE=image/jpeg:https://izprveruke.com/wp-content/uploads/2022/02/dzenan.jpg
GEO:43.093138;-75.199899
X-APPLE-STRUCTURED-LOCATION;VALUE=URI;X-ADDRESS=Cafe Milano 1711 Bleecker Street Utica NY United States;X-APPLE-RADIUS=500;X-TITLE=1711 Bleecker Street:geo:-75.199899,43.093138
END:VEVENT
BEGIN:VEVENT
DTSTART;TZID=America/Los_Angeles:20260530T203000
DTEND;TZID=America/Los_Angeles:20260530T235900
DTSTAMP:20260423T115752
CREATED:20260411T032240Z
LAST-MODIFIED:20260411T032242Z
UID:10001614-1780173000-1780185540@izprveruke.com
SUMMARY:Denial Ahmetovic - Grand Rapids
DESCRIPTION:Denial Ahmetovic live in Grand Rapids. Vise informacija 986-210-4262 (Sanel)
URL:https://izprveruke.com/event/denial-ahmetovic-grand-rapids-2/
LOCATION:Zeytin Restaurant\, 7437 River St SE\, Ada\, Michigan\, United States
CATEGORIES:Koncerti
ATTACH;FMTTYPE=image/png:https://izprveruke.com/wp-content/uploads/2026/04/denialahmetovic.png
GEO:42.9546137;-85.4848172
X-APPLE-STRUCTURED-LOCATION;VALUE=URI;X-ADDRESS=Zeytin Restaurant 7437 River St SE Ada Michigan United States;X-APPLE-RADIUS=500;X-TITLE=7437 River St SE:geo:-85.4848172,42.9546137
END:VEVENT
BEGIN:VEVENT
DTSTART;TZID=America/Los_Angeles:20260618T200000
DTEND;TZID=America/Los_Angeles:20260618T235900
DTSTAMP:20260423T115752
CREATED:20260404T013027Z
LAST-MODIFIED:20260404T014045Z
UID:10001601-1781812800-1781827140@izprveruke.com
SUMMARY:Denial Ahmetovic - Los Angeles
DESCRIPTION:Official BiH After Party in Los Angeles. Denial Ahmetovic\, Sanel Bajrami & DJ Nokturnal. Vise informacija 602-330-6990\, 818-448-1302 & 986-210-4262
URL:https://izprveruke.com/event/denial-ahmetovic-los-angeles/
LOCATION:Don Quixote\, East Olympic Boulevard\, Los Angeles\, California\, 90023\, United States
ATTACH;FMTTYPE=image/png:https://izprveruke.com/wp-content/uploads/2026/04/denialbih.png
GEO:34.0235111;-118.2171632
X-APPLE-STRUCTURED-LOCATION;VALUE=URI;X-ADDRESS=Don Quixote East Olympic Boulevard Los Angeles California 90023 United States;X-APPLE-RADIUS=500;X-TITLE=East Olympic Boulevard:geo:-118.2171632,34.0235111
END:VEVENT
END:VCALENDAR