BEGIN:VCALENDAR
VERSION:2.0
PRODID:-//Iz Prve Ruke - Koncerti u Americi i Kanadi | Lokalna Dešavanja - ECPv6.15.20//NONSGML v1.0//EN
CALSCALE:GREGORIAN
METHOD:PUBLISH
X-WR-CALNAME:Iz Prve Ruke - Koncerti u Americi i Kanadi | Lokalna Dešavanja
X-ORIGINAL-URL:https://izprveruke.com
X-WR-CALDESC:Events for Iz Prve Ruke - Koncerti u Americi i Kanadi | Lokalna Dešavanja
REFRESH-INTERVAL;VALUE=DURATION:PT1H
X-Robots-Tag:noindex
X-PUBLISHED-TTL:PT1H
BEGIN:VTIMEZONE
TZID:America/Los_Angeles
BEGIN:DAYLIGHT
TZOFFSETFROM:-0800
TZOFFSETTO:-0700
TZNAME:PDT
DTSTART:20210314T100000
END:DAYLIGHT
BEGIN:STANDARD
TZOFFSETFROM:-0700
TZOFFSETTO:-0800
TZNAME:PST
DTSTART:20211107T090000
END:STANDARD
BEGIN:DAYLIGHT
TZOFFSETFROM:-0800
TZOFFSETTO:-0700
TZNAME:PDT
DTSTART:20220313T100000
END:DAYLIGHT
BEGIN:STANDARD
TZOFFSETFROM:-0700
TZOFFSETTO:-0800
TZNAME:PST
DTSTART:20221106T090000
END:STANDARD
BEGIN:DAYLIGHT
TZOFFSETFROM:-0800
TZOFFSETTO:-0700
TZNAME:PDT
DTSTART:20230312T100000
END:DAYLIGHT
BEGIN:STANDARD
TZOFFSETFROM:-0700
TZOFFSETTO:-0800
TZNAME:PST
DTSTART:20231105T090000
END:STANDARD
END:VTIMEZONE
BEGIN:VEVENT
DTSTART;TZID=America/Los_Angeles:20220925T203000
DTEND;TZID=America/Los_Angeles:20220925T235900
DTSTAMP:20260424T074227
CREATED:20220912T070502Z
LAST-MODIFIED:20220912T070509Z
UID:10000908-1664137800-1664150340@izprveruke.com
SUMMARY:Lexington - Miami
DESCRIPTION:Vise informacija 305-773-5071
URL:https://izprveruke.com/event/lexington-miami/
LOCATION:Rakija Grill\, 139 NE 3rd Ave.\, Miami\, FL\, United States
CATEGORIES:Koncerti
ATTACH;FMTTYPE=image/jpeg:https://izprveruke.com/wp-content/uploads/2022/09/lexington-band-e1662965730654.jpg
GEO:25.7760215;-80.1884795
X-APPLE-STRUCTURED-LOCATION;VALUE=URI;X-ADDRESS=Rakija Grill 139 NE 3rd Ave. Miami FL United States;X-APPLE-RADIUS=500;X-TITLE=139 NE 3rd Ave.:geo:-80.1884795,25.7760215
END:VEVENT
BEGIN:VEVENT
DTSTART;TZID=America/Los_Angeles:20220925T203000
DTEND;TZID=America/Los_Angeles:20220925T235900
DTSTAMP:20260424T074227
CREATED:20220904T194003Z
LAST-MODIFIED:20220904T200710Z
UID:10000899-1664137800-1664150340@izprveruke.com
SUMMARY:Dr. Nele Karajlic - Calgary
DESCRIPTION:Dr. Nele Karajlic Sings Zabranjeno Pusenje Hits
URL:https://izprveruke.com/event/dr-nele-karajlic-calgary/
LOCATION:Commonwealth Bar & Stage\, 731 10 Ave SW\, Calgary\, Canada
CATEGORIES:Koncerti
ATTACH;FMTTYPE=image/jpeg:https://izprveruke.com/wp-content/uploads/2022/09/nele-e1680893111239.jpg
GEO:51.0435455;-114.0782982
X-APPLE-STRUCTURED-LOCATION;VALUE=URI;X-ADDRESS=Commonwealth Bar & Stage 731 10 Ave SW Calgary Canada;X-APPLE-RADIUS=500;X-TITLE=731 10 Ave SW:geo:-114.0782982,51.0435455
END:VEVENT
BEGIN:VEVENT
DTSTART;TZID=America/Los_Angeles:20220928T203000
DTEND;TZID=America/Los_Angeles:20220928T235900
DTSTAMP:20260424T074227
CREATED:20220912T070757Z
LAST-MODIFIED:20220928T152640Z
UID:10000910-1664397000-1664409540@izprveruke.com
SUMMARY:Lexington - Jacksonville
DESCRIPTION:Vise informacija 904-866-2732
URL:https://izprveruke.com/event/lexington-jacksonville/
LOCATION:Exotic Lounge\, 6532 Beach Blvd.\, Jacksonville\, Florida\, United States
CATEGORIES:Koncerti
ATTACH;FMTTYPE=image/jpeg:https://izprveruke.com/wp-content/uploads/2022/09/lexington-band-e1662965730654.jpg
GEO:30.2899186;-81.5936777
X-APPLE-STRUCTURED-LOCATION;VALUE=URI;X-ADDRESS=Exotic Lounge 6532 Beach Blvd. Jacksonville Florida United States;X-APPLE-RADIUS=500;X-TITLE=6532 Beach Blvd.:geo:-81.5936777,30.2899186
END:VEVENT
BEGIN:VEVENT
DTSTART;TZID=America/Los_Angeles:20220930T203000
DTEND;TZID=America/Los_Angeles:20220930T235900
DTSTAMP:20260424T074227
CREATED:20220912T070919Z
LAST-MODIFIED:20220912T070925Z
UID:10000911-1664569800-1664582340@izprveruke.com
SUMMARY:Lexington - Phoenix
DESCRIPTION:Vise informacija 480-433-5505
URL:https://izprveruke.com/event/lexington-phoenix/
LOCATION:CB Live\, 21001 N Tatum Blvd.\, Phoenix\, AZ\, United States
CATEGORIES:Koncerti
ATTACH;FMTTYPE=image/jpeg:https://izprveruke.com/wp-content/uploads/2022/09/lexington-band-e1662965730654.jpg
GEO:33.6765082;-111.9761103
X-APPLE-STRUCTURED-LOCATION;VALUE=URI;X-ADDRESS=CB Live 21001 N Tatum Blvd. Phoenix AZ United States;X-APPLE-RADIUS=500;X-TITLE=21001 N Tatum Blvd.:geo:-111.9761103,33.6765082
END:VEVENT
BEGIN:VEVENT
DTSTART;TZID=America/Los_Angeles:20220930T203000
DTEND;TZID=America/Los_Angeles:20220930T235900
DTSTAMP:20260424T074227
CREATED:20220904T195545Z
LAST-MODIFIED:20220904T195908Z
UID:10000900-1664569800-1664582340@izprveruke.com
SUMMARY:Riblja Corba & Van Gogh - Toronto
DESCRIPTION:The rare opportunity to see these 2 iconic bands perform decades of pure Rock & Roll hit’s on the same night. \n\n\n\nBuckle up!  
URL:https://izprveruke.com/event/riblja-corba-van-gogh-toronto/
LOCATION:The Opera House\, 735 Queen St E\, Toronto\, Ontario\, Canada
CATEGORIES:Koncerti
ATTACH;FMTTYPE=image/jpeg:https://izprveruke.com/wp-content/uploads/2022/09/ribljacorba_vangogh.jpg
ORGANIZER;CN="Pure Live Music":MAILTO:info@purelivemusic.com
GEO:43.6588139;-79.3487126
X-APPLE-STRUCTURED-LOCATION;VALUE=URI;X-ADDRESS=The Opera House 735 Queen St E Toronto Ontario Canada;X-APPLE-RADIUS=500;X-TITLE=735 Queen St E:geo:-79.3487126,43.6588139
END:VEVENT
BEGIN:VEVENT
DTSTART;TZID=America/Los_Angeles:20221001T203000
DTEND;TZID=America/Los_Angeles:20221001T235900
DTSTAMP:20260424T074227
CREATED:20220912T071135Z
LAST-MODIFIED:20220912T071140Z
UID:10000912-1664656200-1664668740@izprveruke.com
SUMMARY:Lexington - Salt Lake City
DESCRIPTION:Vise informacija 801-300-6011
URL:https://izprveruke.com/event/lexington-salt-lake-city/
LOCATION:801 Event Center\, 1055 W N Temple\, Salt Lake City\, Utah\, United States
CATEGORIES:Koncerti
ATTACH;FMTTYPE=image/jpeg:https://izprveruke.com/wp-content/uploads/2022/09/lexington-band-e1662965730654.jpg
GEO:40.7700711;-111.9221347
X-APPLE-STRUCTURED-LOCATION;VALUE=URI;X-ADDRESS=801 Event Center 1055 W N Temple Salt Lake City Utah United States;X-APPLE-RADIUS=500;X-TITLE=1055 W N Temple:geo:-111.9221347,40.7700711
END:VEVENT
BEGIN:VEVENT
DTSTART;TZID=America/Los_Angeles:20221001T203000
DTEND;TZID=America/Los_Angeles:20221001T235900
DTSTAMP:20260424T074227
CREATED:20220904T195804Z
LAST-MODIFIED:20220904T195808Z
UID:10000901-1664656200-1664668740@izprveruke.com
SUMMARY:Riblja Corba & Van Gogh - Chicago
DESCRIPTION:The rare opportunity to see these 2 iconic bands perform decades of pure Rock & Roll hit’s on the same night. \n\n\n\nBuckle up!  
URL:https://izprveruke.com/event/riblja-corba-van-gogh-chicago/
LOCATION:Joe’s Live\, 5441 Park Pl.\, Rosemont\, Illinois\, United States
CATEGORIES:Koncerti
ATTACH;FMTTYPE=image/jpeg:https://izprveruke.com/wp-content/uploads/2022/09/ribljacorba_vangogh.jpg
ORGANIZER;CN="Pure Live Music":MAILTO:info@purelivemusic.com
GEO:41.9780701;-87.8673276
X-APPLE-STRUCTURED-LOCATION;VALUE=URI;X-ADDRESS=Joe’s Live 5441 Park Pl. Rosemont Illinois United States;X-APPLE-RADIUS=500;X-TITLE=5441 Park Pl.:geo:-87.8673276,41.9780701
END:VEVENT
BEGIN:VEVENT
DTSTART;TZID=America/Los_Angeles:20221002T203000
DTEND;TZID=America/Los_Angeles:20221002T235900
DTSTAMP:20260424T074227
CREATED:20220920T034526Z
LAST-MODIFIED:20220920T034530Z
UID:10000914-1664742600-1664755140@izprveruke.com
SUMMARY:Lexington - Las Vegas
DESCRIPTION:Lexington live in La$ Vega$
URL:https://izprveruke.com/event/lexington-las-vegas/
LOCATION:Cafe Derbi\, 5920 W. Flamingo Rd.\, Las Vegas\, NV\, United States
CATEGORIES:Koncerti
ATTACH;FMTTYPE=image/jpeg:https://izprveruke.com/wp-content/uploads/2022/09/lexington-band-e1662965730654.jpg
GEO:36.1154263;-115.2221234
X-APPLE-STRUCTURED-LOCATION;VALUE=URI;X-ADDRESS=Cafe Derbi 5920 W. Flamingo Rd. Las Vegas NV United States;X-APPLE-RADIUS=500;X-TITLE=5920 W. Flamingo Rd.:geo:-115.2221234,36.1154263
END:VEVENT
BEGIN:VEVENT
DTSTART;TZID=America/Los_Angeles:20221007T203000
DTEND;TZID=America/Los_Angeles:20221007T235900
DTSTAMP:20260424T074227
CREATED:20220928T065613Z
LAST-MODIFIED:20220928T065617Z
UID:10000915-1665174600-1665187140@izprveruke.com
SUMMARY:Andreana Cekic & Cenga - Utica
DESCRIPTION:Andreana Cekic & Amer Cenga. \n\n\n\nVise informacija 315-269-8447
URL:https://izprveruke.com/event/andreana-cekic-cenga-utica/
LOCATION:Cafe Milano\, 1711 Bleecker Street\, Utica\, NY\, United States
CATEGORIES:Koncerti
ATTACH;FMTTYPE=image/png:https://izprveruke.com/wp-content/uploads/2022/09/andreanacekic_cenga.png
GEO:43.093138;-75.199899
X-APPLE-STRUCTURED-LOCATION;VALUE=URI;X-ADDRESS=Cafe Milano 1711 Bleecker Street Utica NY United States;X-APPLE-RADIUS=500;X-TITLE=1711 Bleecker Street:geo:-75.199899,43.093138
END:VEVENT
BEGIN:VEVENT
DTSTART;TZID=America/Los_Angeles:20221007T203000
DTEND;TZID=America/Los_Angeles:20221007T235900
DTSTAMP:20260424T074227
CREATED:20220531T053039Z
LAST-MODIFIED:20220928T074236Z
UID:10000733-1665174600-1665187140@izprveruke.com
SUMMARY:Lepa Brena - Chicago
DESCRIPTION:Lepa Brena live in concert
URL:https://izprveruke.com/event/lepa-brena-chicago/
LOCATION:Joe’s Live\, 5441 Park Pl.\, Rosemont\, Illinois\, United States
CATEGORIES:Koncerti
ATTACH;FMTTYPE=image/jpeg:https://izprveruke.com/wp-content/uploads/2022/05/lepabrena.jpg
ORGANIZER;CN="Pure Live Music":MAILTO:info@purelivemusic.com
GEO:41.9780701;-87.8673276
X-APPLE-STRUCTURED-LOCATION;VALUE=URI;X-ADDRESS=Joe’s Live 5441 Park Pl. Rosemont Illinois United States;X-APPLE-RADIUS=500;X-TITLE=5441 Park Pl.:geo:-87.8673276,41.9780701
END:VEVENT
BEGIN:VEVENT
DTSTART;TZID=America/Los_Angeles:20221008T203000
DTEND;TZID=America/Los_Angeles:20221008T235900
DTSTAMP:20260424T074227
CREATED:20220928T065845Z
LAST-MODIFIED:20220928T070037Z
UID:10000916-1665261000-1665273540@izprveruke.com
SUMMARY:Andreana Cekic & Cenga - St. Louis
DESCRIPTION:Andreana Cekic & Amer Cenga. \n\n\n\nVise informacija 314-707-3271 & 314-210-3665
URL:https://izprveruke.com/event/andreana-cekic-cenga-st-louis/
LOCATION:Europe Night Club\, 710 N 15th St.\, St. Louis\, Missouri\, United States
CATEGORIES:Koncerti
ATTACH;FMTTYPE=image/png:https://izprveruke.com/wp-content/uploads/2022/09/andreanacekic_cenga.png
GEO:38.6333546;-90.1998882
X-APPLE-STRUCTURED-LOCATION;VALUE=URI;X-ADDRESS=Europe Night Club 710 N 15th St. St. Louis Missouri United States;X-APPLE-RADIUS=500;X-TITLE=710 N 15th St.:geo:-90.1998882,38.6333546
END:VEVENT
BEGIN:VEVENT
DTSTART;TZID=America/Los_Angeles:20221008T203000
DTEND;TZID=America/Los_Angeles:20221008T235900
DTSTAMP:20260424T074227
CREATED:20220809T015044Z
LAST-MODIFIED:20220928T074253Z
UID:10000893-1665261000-1665273540@izprveruke.com
SUMMARY:Lepa Brena - Atlanta
DESCRIPTION:Lepa Brena\, Aleskandar Josifovski\, Enela Palavra
URL:https://izprveruke.com/event/lepa-brena-atlanta/
LOCATION:Royal Ballroom\, 6185 Buford hwy Bldg C\, Peachtree Corners\, GA\, United States
CATEGORIES:Koncerti
ATTACH;FMTTYPE=image/jpeg:https://izprveruke.com/wp-content/uploads/2022/05/lepabrena.jpg
GEO:33.9320852;-84.2245905
X-APPLE-STRUCTURED-LOCATION;VALUE=URI;X-ADDRESS=Royal Ballroom 6185 Buford hwy Bldg C Peachtree Corners GA United States;X-APPLE-RADIUS=500;X-TITLE=6185 Buford hwy Bldg C:geo:-84.2245905,33.9320852
END:VEVENT
BEGIN:VEVENT
DTSTART;TZID=America/Los_Angeles:20221009T210000
DTEND;TZID=America/Los_Angeles:20221009T235900
DTSTAMP:20260424T074227
CREATED:20220919T063149Z
LAST-MODIFIED:20220919T064348Z
UID:10000913-1665349200-1665359940@izprveruke.com
SUMMARY:Ćurka Žurka - Vancouver
DESCRIPTION:BiG SOUND EVENTS proudly presents: \n\n\n\n“ĆURKA ŽURKA 2022” @ THE LIBRARY SQUARESunday\, October 9\, 2022THANKSGIVING LONG WEEKEND \n\n\n\nVancouver\, It’s time for the ONE\, the ONLY… ĆURKA ŽURKABiG’s flagship event ~ 13 years strong!!!This is one party you don’t wanna miss \n\n\n\nAs always\, it will be about the music\, with a little of everything..► DJ SHOMEE► DJ BOOMBARSpinning all your favourite ‘Domaci’ hits. All night long\, until 3 AM !!! \n\n\n\nAlso\, BiG’s hooked you up with some GREAT DRINK SPECIALS!!!$5.75 Hi-Balls until 11:30 PM$325 Bottles (Tax & Tip Inc.) Grey Goose / Johnnie Walker BLACK Label \n\n\n\nTABLE RESERVATIONS AVAILABLE!Contact us to save your spot: 604.716.1635 / bigsoundevents@hotmail.com \n\n\n\n#CurkaZurka #BiGzurkaBiG SOUND EVENTS ~ Always Expect BiG!19+ ID MANDATORY$25 AT THE DOOR \n\n\n\nTEXT: “ZURKA + Your Full Name” to 604.716.1635 to subscribe to our SMS event reminders. \n\n\n\nMEDIA SPONSOR: www.IzPrveRuke.com
URL:https://izprveruke.com/event/curka-zurka-vancouver/
LOCATION:The Library Square\, 300 West Georgia Street\, Vancouver\, BC\, Canada
CATEGORIES:Žurke
ATTACH;FMTTYPE=image/jpeg:https://izprveruke.com/wp-content/uploads/2022/09/curkazurka.jpg
GEO:49.2797476;-123.1155637
X-APPLE-STRUCTURED-LOCATION;VALUE=URI;X-ADDRESS=The Library Square 300 West Georgia Street Vancouver BC Canada;X-APPLE-RADIUS=500;X-TITLE=300 West Georgia Street:geo:-123.1155637,49.2797476
END:VEVENT
BEGIN:VEVENT
DTSTART;TZID=America/Los_Angeles:20221014T203000
DTEND;TZID=America/Los_Angeles:20221014T235900
DTSTAMP:20260424T074227
CREATED:20220928T065952Z
LAST-MODIFIED:20220928T070000Z
UID:10000917-1665779400-1665791940@izprveruke.com
SUMMARY:Andreana Cekic & Cenga - Phoenix
DESCRIPTION:Andreana Cekic\, Amer Cenga & DJ Deki
URL:https://izprveruke.com/event/andreana-cekic-cenga-phoenix/
LOCATION:CB Live\, 21001 N Tatum Blvd.\, Phoenix\, AZ\, United States
CATEGORIES:Koncerti
ATTACH;FMTTYPE=image/png:https://izprveruke.com/wp-content/uploads/2022/09/andreanacekic_cenga.png
GEO:33.6765082;-111.9761103
X-APPLE-STRUCTURED-LOCATION;VALUE=URI;X-ADDRESS=CB Live 21001 N Tatum Blvd. Phoenix AZ United States;X-APPLE-RADIUS=500;X-TITLE=21001 N Tatum Blvd.:geo:-111.9761103,33.6765082
END:VEVENT
BEGIN:VEVENT
DTSTART;TZID=America/Los_Angeles:20221014T203000
DTEND;TZID=America/Los_Angeles:20221014T235900
DTSTAMP:20260424T074227
CREATED:20220531T053149Z
LAST-MODIFIED:20220928T074311Z
UID:10000860-1665779400-1665791940@izprveruke.com
SUMMARY:Lepa Brena - Detroit
DESCRIPTION:Lepa Brena & BendGosti veceri: Aleskandar Josifovski\, Enela Palavra \n\n\n\nVise informacija 586-822-3278 & 586-822-4431
URL:https://izprveruke.com/event/lepa-brena-detroit/
LOCATION:GA
CATEGORIES:Koncerti
ATTACH;FMTTYPE=image/jpeg:https://izprveruke.com/wp-content/uploads/2022/05/lepabrena.jpg
END:VEVENT
BEGIN:VEVENT
DTSTART;TZID=America/Los_Angeles:20221015T203000
DTEND;TZID=America/Los_Angeles:20221015T235900
DTSTAMP:20260424T074227
CREATED:20220928T070218Z
LAST-MODIFIED:20220928T071552Z
UID:10000919-1665865800-1665878340@izprveruke.com
SUMMARY:Andreana Cekic & Cenga - Salt Lake City
DESCRIPTION:Andreana Cekic & Amer Cenga
URL:https://izprveruke.com/event/andreana-cekic-cenga-salt-lake-city/
LOCATION:801 Event Center\, 1055 W N Temple\, Salt Lake City\, Utah\, United States
CATEGORIES:Koncerti
ATTACH;FMTTYPE=image/png:https://izprveruke.com/wp-content/uploads/2022/09/andreanacekic_cenga.png
GEO:40.7700711;-111.9221347
X-APPLE-STRUCTURED-LOCATION;VALUE=URI;X-ADDRESS=801 Event Center 1055 W N Temple Salt Lake City Utah United States;X-APPLE-RADIUS=500;X-TITLE=1055 W N Temple:geo:-111.9221347,40.7700711
END:VEVENT
BEGIN:VEVENT
DTSTART;TZID=America/Los_Angeles:20221015T203000
DTEND;TZID=America/Los_Angeles:20221015T235900
DTSTAMP:20260424T074227
CREATED:20220721T012608Z
LAST-MODIFIED:20220928T074337Z
UID:10000878-1665865800-1665878340@izprveruke.com
SUMMARY:Lepa Brena - Waterloo
DESCRIPTION:Lepa Brena & BendGosti veceri: Enela Palavra & Aleksandar JosifovskiMore info: 319-883-9425 & 515-778-8348
URL:https://izprveruke.com/event/lepa-brena-waterloo/
LOCATION:Waterloo Convention Center\, 200 W 4th S\, Waterloo\, Iowa\, United States
CATEGORIES:Koncerti
ATTACH;FMTTYPE=image/jpeg:https://izprveruke.com/wp-content/uploads/2022/05/lepabrena.jpg
GEO:42.495076;-92.340777
X-APPLE-STRUCTURED-LOCATION;VALUE=URI;X-ADDRESS=Waterloo Convention Center 200 W 4th S Waterloo Iowa United States;X-APPLE-RADIUS=500;X-TITLE=200 W 4th S:geo:-92.340777,42.495076
END:VEVENT
BEGIN:VEVENT
DTSTART;TZID=America/Los_Angeles:20221021T203000
DTEND;TZID=America/Los_Angeles:20221021T235900
DTSTAMP:20260424T074227
CREATED:20220928T070404Z
LAST-MODIFIED:20220928T070411Z
UID:10000920-1666384200-1666396740@izprveruke.com
SUMMARY:Andreana Cekic & Cenga - Bowling Green
DESCRIPTION:Andreana Cekic & Amer Cenga. \n\n\n\nVise informacija 423-314-3532
URL:https://izprveruke.com/event/andreana-cekic-cenga-bowling-green/
LOCATION:La Gala\, 601 State St.\, Bowling Green\, KY\, United States
CATEGORIES:Koncerti
ATTACH;FMTTYPE=image/png:https://izprveruke.com/wp-content/uploads/2022/09/andreanacekic_cenga.png
GEO:36.9955127;-86.4372742
X-APPLE-STRUCTURED-LOCATION;VALUE=URI;X-ADDRESS=La Gala 601 State St. Bowling Green KY United States;X-APPLE-RADIUS=500;X-TITLE=601 State St.:geo:-86.4372742,36.9955127
END:VEVENT
BEGIN:VEVENT
DTSTART;TZID=America/Los_Angeles:20221021T203000
DTEND;TZID=America/Los_Angeles:20221021T235900
DTSTAMP:20260424T074227
CREATED:20220614T060636Z
LAST-MODIFIED:20220929T194036Z
UID:10000874-1666384200-1666396740@izprveruke.com
SUMMARY:Lepa Brena - St. Louis
DESCRIPTION:Lepa Brena & BendGosti veceri: Aleskandar Josifovski\, Enela Palavra \n\n\n\nVise informacija 314-518-5826
URL:https://izprveruke.com/event/lepa-brena-st-louis/
LOCATION:River City Casino Hotel\, 777 River City Casino Blvd.\, St. Louis\, Missouri\, United States
CATEGORIES:Koncerti
ATTACH;FMTTYPE=image/jpeg:https://izprveruke.com/wp-content/uploads/2022/05/lepabrena.jpg
GEO:38.5308368;-90.2644983
X-APPLE-STRUCTURED-LOCATION;VALUE=URI;X-ADDRESS=River City Casino Hotel 777 River City Casino Blvd. St. Louis Missouri United States;X-APPLE-RADIUS=500;X-TITLE=777 River City Casino Blvd.:geo:-90.2644983,38.5308368
END:VEVENT
BEGIN:VEVENT
DTSTART;TZID=America/Los_Angeles:20221022T200000
DTEND;TZID=America/Los_Angeles:20221022T230000
DTSTAMP:20260424T074227
CREATED:20220928T074031Z
LAST-MODIFIED:20220928T074038Z
UID:10000928-1666468800-1666479600@izprveruke.com
SUMMARY:Vlatko Stefanovski & Theodosii Spassov - Chicago
DESCRIPTION:Two of the best musicians from Balkan & SouthEast Europe are coming to Chicago! \nLet us introduce you to a band of two incredible musicians from the Balkans; Vlatko Stefanovski and Theodosii Spassov. As a duo\, these widely acclaimed and talented instrumentalists join forces to masterfully blend melodies from the East and the West in a unique and harmonious manner.
URL:https://izprveruke.com/event/vlatko-stefanovski-theodosii-spassov-chicago/
LOCATION:Compass Arena\, 625 Joliet Rd\, Wilowbrook\, IL\, United States
CATEGORIES:Koncerti
ATTACH;FMTTYPE=image/jpeg:https://izprveruke.com/wp-content/uploads/2022/07/84101218_509829879672028_1057853640460468224_n.jpg
GEO:41.7453652;-87.9396252
X-APPLE-STRUCTURED-LOCATION;VALUE=URI;X-ADDRESS=Compass Arena 625 Joliet Rd Wilowbrook IL United States;X-APPLE-RADIUS=500;X-TITLE=625 Joliet Rd:geo:-87.9396252,41.7453652
END:VEVENT
BEGIN:VEVENT
DTSTART;TZID=America/Los_Angeles:20221022T200000
DTEND;TZID=America/Los_Angeles:20221022T235500
DTSTAMP:20260424T074227
CREATED:20220531T053301Z
LAST-MODIFIED:20221011T194442Z
UID:10000861-1666468800-1666482900@izprveruke.com
SUMMARY:Lepa Brena - New Jersey
DESCRIPTION:Lepa Brena & BendGosti veceri: Aleskandar Josifovski\, Enela Palavra \n\n\n\nVise informacija 973-703-0105
URL:https://izprveruke.com/event/lepa-brena-new-jersey/
LOCATION:Macedonian Cultural Center\, 1050 Prompton Avenue\, Cedar Grove\, NJ\, United States
CATEGORIES:Koncerti
ATTACH;FMTTYPE=image/jpeg:https://izprveruke.com/wp-content/uploads/2022/05/lepabrena.jpg
GEO:40.8517876;-74.2290319
X-APPLE-STRUCTURED-LOCATION;VALUE=URI;X-ADDRESS=Macedonian Cultural Center 1050 Prompton Avenue Cedar Grove NJ United States;X-APPLE-RADIUS=500;X-TITLE=1050 Prompton Avenue:geo:-74.2290319,40.8517876
END:VEVENT
BEGIN:VEVENT
DTSTART;TZID=America/Los_Angeles:20221022T203000
DTEND;TZID=America/Los_Angeles:20221022T235900
DTSTAMP:20260424T074227
CREATED:20220928T070523Z
LAST-MODIFIED:20220928T071621Z
UID:10000921-1666470600-1666483140@izprveruke.com
SUMMARY:Andreana Cekic & Cenga - Atlanta
DESCRIPTION:Andreana Cekic & Amer Cenga.
URL:https://izprveruke.com/event/andreana-cekic-cenga-atlanta/
LOCATION:VIP Room Restaurant & Lounge Inc.\, 745 Beaver Ruin Rd. Ste 200\, Liburn\, GA\, United States
CATEGORIES:Koncerti
ATTACH;FMTTYPE=image/png:https://izprveruke.com/wp-content/uploads/2022/09/andreanacekic_cenga.png
GEO:33.9108428;-84.132165
X-APPLE-STRUCTURED-LOCATION;VALUE=URI;X-ADDRESS=VIP Room Restaurant & Lounge Inc. 745 Beaver Ruin Rd. Ste 200 Liburn GA United States;X-APPLE-RADIUS=500;X-TITLE=745 Beaver Ruin Rd. Ste 200:geo:-84.132165,33.9108428
END:VEVENT
BEGIN:VEVENT
DTSTART;TZID=America/Los_Angeles:20221023T190000
DTEND;TZID=America/Los_Angeles:20221023T220000
DTSTAMP:20260424T074227
CREATED:20220802T012557Z
LAST-MODIFIED:20220928T073852Z
UID:10000881-1666551600-1666562400@izprveruke.com
SUMMARY:Vlatko Stefanovski & Theodosii Spassov - New York
DESCRIPTION:Two of the best musicians from Balkan & SouthEast Europe are coming to New York City! \nLet us introduce you to a band of two incredible musicians from the Balkans; Vlatko Stefanovski and Theodosii Spassov. As a duo\, these widely acclaimed and talented instrumentalists join forces to masterfully blend melodies from the East and the West in a unique and harmonious manner.
URL:https://izprveruke.com/event/vlatko-stefanovski-theodosii-spassov-new-york/
LOCATION:Cutting Room\, 44 East 32nd Street\, New York\, NY\, United States
CATEGORIES:Koncerti
ATTACH;FMTTYPE=image/jpeg:https://izprveruke.com/wp-content/uploads/2022/07/84101218_509829879672028_1057853640460468224_n.jpg
GEO:40.7127753;-74.0059728
X-APPLE-STRUCTURED-LOCATION;VALUE=URI;X-ADDRESS=Cutting Room 44 East 32nd Street New York NY United States;X-APPLE-RADIUS=500;X-TITLE=44 East 32nd Street:geo:-74.0059728,40.7127753
END:VEVENT
BEGIN:VEVENT
DTSTART;TZID=America/Los_Angeles:20221023T203000
DTEND;TZID=America/Los_Angeles:20221023T235900
DTSTAMP:20260424T074227
CREATED:20220618T043026Z
LAST-MODIFIED:20221010T034602Z
UID:10000877-1666557000-1666569540@izprveruke.com
SUMMARY:Lepa Brena - Washington\, DC
DESCRIPTION:Lepa Brena & BendGosti veceri: Aleskandar Josifovski\, Enela Palavra \n\n\n\nProdajno mjesto ulaznica:Euro Foods5900 N Kings Hwy\, Alexandria VA 22303
URL:https://izprveruke.com/event/lepa-brena-washington-dc/
LOCATION:Greenhouse Bistro\, 2070 Chain Bridge Rd\, Vienna\, District of Columbia\, United States
CATEGORIES:Koncerti
ATTACH;FMTTYPE=image/jpeg:https://izprveruke.com/wp-content/uploads/2022/05/lepabrena.jpg
GEO:38.9232098;-77.103146
X-APPLE-STRUCTURED-LOCATION;VALUE=URI;X-ADDRESS=Greenhouse Bistro 2070 Chain Bridge Rd Vienna District of Columbia United States;X-APPLE-RADIUS=500;X-TITLE=2070 Chain Bridge Rd:geo:-77.103146,38.9232098
END:VEVENT
BEGIN:VEVENT
DTSTART;TZID=America/Los_Angeles:20221028T203000
DTEND;TZID=America/Los_Angeles:20221028T235900
DTSTAMP:20260424T074227
CREATED:20221014T052933Z
LAST-MODIFIED:20221014T064112Z
UID:10000937-1666989000-1667001540@izprveruke.com
SUMMARY:Sadik & Sandzak Tapani i Melisa Imsirovic - Atlanta
DESCRIPTION:Sadik & Sandzak Tapani i Melisa Imsirovic. \n\n\n\nVise informacija 678-517-0001
URL:https://izprveruke.com/event/sadik-sandzak-tapani-atlanta/
LOCATION:Ehall Atlanta\, 1550 Beaver Ruin Rd.\, Norcross\, GA\, United States
CATEGORIES:Koncerti
ATTACH;FMTTYPE=image/jpeg:https://izprveruke.com/wp-content/uploads/2022/10/sadik.jpg
GEO:33.9316301;-84.1473473
X-APPLE-STRUCTURED-LOCATION;VALUE=URI;X-ADDRESS=Ehall Atlanta 1550 Beaver Ruin Rd. Norcross GA United States;X-APPLE-RADIUS=500;X-TITLE=1550 Beaver Ruin Rd.:geo:-84.1473473,33.9316301
END:VEVENT
BEGIN:VEVENT
DTSTART;TZID=America/Los_Angeles:20221028T203000
DTEND;TZID=America/Los_Angeles:20221028T235900
DTSTAMP:20260424T074227
CREATED:20220928T070814Z
LAST-MODIFIED:20220928T070821Z
UID:10000922-1666989000-1667001540@izprveruke.com
SUMMARY:Andreana Cekic & Cenga - Waterloo
DESCRIPTION:Andreana Cekic & Amer Cenga. \n\n\n\nVise informacija 319-290- 4363
URL:https://izprveruke.com/event/andreana-cekic-cenga-waterloo/
LOCATION:Waterloo Convention Center\, 200 W 4th S\, Waterloo\, Iowa\, United States
CATEGORIES:Koncerti
ATTACH;FMTTYPE=image/png:https://izprveruke.com/wp-content/uploads/2022/09/andreanacekic_cenga.png
GEO:42.495076;-92.340777
X-APPLE-STRUCTURED-LOCATION;VALUE=URI;X-ADDRESS=Waterloo Convention Center 200 W 4th S Waterloo Iowa United States;X-APPLE-RADIUS=500;X-TITLE=200 W 4th S:geo:-92.340777,42.495076
END:VEVENT
BEGIN:VEVENT
DTSTART;TZID=America/Los_Angeles:20221028T203000
DTEND;TZID=America/Los_Angeles:20221028T235900
DTSTAMP:20260424T074227
CREATED:20220614T060510Z
LAST-MODIFIED:20220927T203651Z
UID:10000737-1666989000-1667001540@izprveruke.com
SUMMARY:Lepa Brena - Cleveland
DESCRIPTION:Lepa Brena & BendGosti veceri: Aleskandar Josifovski\, Enela Palavra \n\n\n\nVise informacija 440-667-5734
URL:https://izprveruke.com/event/lepa-brena-cleveland/
LOCATION:The Odeon\, 1295 Old River Rd.\, Cleveland\, Ohio\, United States
CATEGORIES:Koncerti
ATTACH;FMTTYPE=image/jpeg:https://izprveruke.com/wp-content/uploads/2022/05/lepabrena.jpg
GEO:41.4984604;-81.7028319
X-APPLE-STRUCTURED-LOCATION;VALUE=URI;X-ADDRESS=The Odeon 1295 Old River Rd. Cleveland Ohio United States;X-APPLE-RADIUS=500;X-TITLE=1295 Old River Rd.:geo:-81.7028319,41.4984604
END:VEVENT
BEGIN:VEVENT
DTSTART;TZID=America/Los_Angeles:20221029T203000
DTEND;TZID=America/Los_Angeles:20221029T235900
DTSTAMP:20260424T074227
CREATED:20221014T053205Z
LAST-MODIFIED:20221014T064102Z
UID:10000938-1667075400-1667087940@izprveruke.com
SUMMARY:Sadik & Sandzak Tapani i Melisa Imsirovic - Jacksonville
DESCRIPTION:Sadik & Sandzak Tapani i Melisa Imsirovic. \n\n\n\nVise informacija (904) 514-7304
URL:https://izprveruke.com/event/sadik-sandzak-tapani-jacksonville/
LOCATION:Smash Whispers Lounge\, 8206 Philips Hwy Unit 6\, Jacksonville\, Florida\, United States
CATEGORIES:Koncerti
ATTACH;FMTTYPE=image/jpeg:https://izprveruke.com/wp-content/uploads/2022/10/sadik.jpg
GEO:30.2198384;-81.5869658
X-APPLE-STRUCTURED-LOCATION;VALUE=URI;X-ADDRESS=Smash Whispers Lounge 8206 Philips Hwy Unit 6 Jacksonville Florida United States;X-APPLE-RADIUS=500;X-TITLE=8206 Philips Hwy Unit 6:geo:-81.5869658,30.2198384
END:VEVENT
BEGIN:VEVENT
DTSTART;TZID=America/Los_Angeles:20221029T203000
DTEND;TZID=America/Los_Angeles:20221029T235900
DTSTAMP:20260424T074227
CREATED:20220928T071023Z
LAST-MODIFIED:20220928T071642Z
UID:10000923-1667075400-1667087940@izprveruke.com
SUMMARY:Andreana Cekic & Cenga - Chicago
DESCRIPTION:Andreana Cekic & Amer Cenga. \n\n\n\nVise informacija 773-644-0600 & 515-710-3396
URL:https://izprveruke.com/event/andreana-cekic-cenga-chicago/
LOCATION:Compass Arena\, 625 Joliet Rd\, Wilowbrook\, IL\, United States
CATEGORIES:Koncerti
ATTACH;FMTTYPE=image/png:https://izprveruke.com/wp-content/uploads/2022/09/andreanacekic_cenga.png
GEO:41.7453652;-87.9396252
X-APPLE-STRUCTURED-LOCATION;VALUE=URI;X-ADDRESS=Compass Arena 625 Joliet Rd Wilowbrook IL United States;X-APPLE-RADIUS=500;X-TITLE=625 Joliet Rd:geo:-87.9396252,41.7453652
END:VEVENT
BEGIN:VEVENT
DTSTART;TZID=America/Los_Angeles:20221029T203000
DTEND;TZID=America/Los_Angeles:20221029T235900
DTSTAMP:20260424T074227
CREATED:20220531T053353Z
LAST-MODIFIED:20221011T053644Z
UID:10000734-1667075400-1667087940@izprveruke.com
SUMMARY:Lepa Brena - Indiana
DESCRIPTION:Lepa Brena & Bend \n\n\n\nVise informacija 847-489-6236
URL:https://izprveruke.com/event/lepa-brena-indiana/
LOCATION:St. Sava\, 9191 Mississippi St.\, Merrillville\, Indiana\, United States
CATEGORIES:Koncerti
ATTACH;FMTTYPE=image/jpeg:https://izprveruke.com/wp-content/uploads/2022/05/lepabrena.jpg
GEO:41.4519558;-87.3146976
X-APPLE-STRUCTURED-LOCATION;VALUE=URI;X-ADDRESS=St. Sava 9191 Mississippi St. Merrillville Indiana United States;X-APPLE-RADIUS=500;X-TITLE=9191 Mississippi St.:geo:-87.3146976,41.4519558
END:VEVENT
END:VCALENDAR