BEGIN:VCALENDAR
VERSION:2.0
PRODID:-//Iz Prve Ruke - Koncerti u Americi i Kanadi | Lokalna Dešavanja - ECPv6.15.20//NONSGML v1.0//EN
CALSCALE:GREGORIAN
METHOD:PUBLISH
X-WR-CALNAME:Iz Prve Ruke - Koncerti u Americi i Kanadi | Lokalna Dešavanja
X-ORIGINAL-URL:https://izprveruke.com
X-WR-CALDESC:Events for Iz Prve Ruke - Koncerti u Americi i Kanadi | Lokalna Dešavanja
REFRESH-INTERVAL;VALUE=DURATION:PT1H
X-Robots-Tag:noindex
X-PUBLISHED-TTL:PT1H
BEGIN:VTIMEZONE
TZID:America/Los_Angeles
BEGIN:DAYLIGHT
TZOFFSETFROM:-0800
TZOFFSETTO:-0700
TZNAME:PDT
DTSTART:20210314T100000
END:DAYLIGHT
BEGIN:STANDARD
TZOFFSETFROM:-0700
TZOFFSETTO:-0800
TZNAME:PST
DTSTART:20211107T090000
END:STANDARD
BEGIN:DAYLIGHT
TZOFFSETFROM:-0800
TZOFFSETTO:-0700
TZNAME:PDT
DTSTART:20220313T100000
END:DAYLIGHT
BEGIN:STANDARD
TZOFFSETFROM:-0700
TZOFFSETTO:-0800
TZNAME:PST
DTSTART:20221106T090000
END:STANDARD
BEGIN:DAYLIGHT
TZOFFSETFROM:-0800
TZOFFSETTO:-0700
TZNAME:PDT
DTSTART:20230312T100000
END:DAYLIGHT
BEGIN:STANDARD
TZOFFSETFROM:-0700
TZOFFSETTO:-0800
TZNAME:PST
DTSTART:20231105T090000
END:STANDARD
END:VTIMEZONE
BEGIN:VEVENT
DTSTART;TZID=America/Los_Angeles:20220611T203000
DTEND;TZID=America/Los_Angeles:20220611T233000
DTSTAMP:20260425T081719
CREATED:20220609T055129Z
LAST-MODIFIED:20220609T075128Z
UID:10000862-1654979400-1654990200@izprveruke.com
SUMMARY:Amir Grand & Sado - Waterloo
DESCRIPTION:Amir Grand & Sado
URL:https://izprveruke.com/event/amir-grand-sado-waterloo/
LOCATION:Club Ambassador\, 313 W 5th St.\, Waterloo\, IA\, United States
CATEGORIES:Koncerti
ATTACH;FMTTYPE=image/jpeg:https://izprveruke.com/wp-content/uploads/2022/05/76F99AF4-B327-4BCA-B9E6-533F43926445-e1653607760766.jpeg
GEO:42.4931718;-92.3397677
X-APPLE-STRUCTURED-LOCATION;VALUE=URI;X-ADDRESS=Club Ambassador 313 W 5th St. Waterloo IA United States;X-APPLE-RADIUS=500;X-TITLE=313 W 5th St.:geo:-92.3397677,42.4931718
END:VEVENT
BEGIN:VEVENT
DTSTART;TZID=America/Los_Angeles:20220709T203000
DTEND;TZID=America/Los_Angeles:20220709T235900
DTSTAMP:20260425T081719
CREATED:20220616T031718Z
LAST-MODIFIED:20220616T031722Z
UID:10000875-1657398600-1657411140@izprveruke.com
SUMMARY:Jana - Atlanta
DESCRIPTION:Jana & DJ Diba
URL:https://izprveruke.com/event/jana-atlanta/
LOCATION:Congas Bar & Grill\, 3750 Venture Dr.\, Duluth\, GA\, United States
CATEGORIES:Koncerti
ATTACH;FMTTYPE=image/jpeg:https://izprveruke.com/wp-content/uploads/2022/06/jana.jpg
GEO:33.9516212;-84.134114
X-APPLE-STRUCTURED-LOCATION;VALUE=URI;X-ADDRESS=Congas Bar & Grill 3750 Venture Dr. Duluth GA United States;X-APPLE-RADIUS=500;X-TITLE=3750 Venture Dr.:geo:-84.134114,33.9516212
END:VEVENT
BEGIN:VEVENT
DTSTART;TZID=America/Los_Angeles:20220902T203000
DTEND;TZID=America/Los_Angeles:20220902T235900
DTSTAMP:20260425T081719
CREATED:20220808T074546Z
LAST-MODIFIED:20220820T182907Z
UID:10000887-1662150600-1662163140@izprveruke.com
SUMMARY:Hurricane - St. Louis
DESCRIPTION:Vise informacija 314-489-4404
URL:https://izprveruke.com/event/hurricane-st-louis/
LOCATION:Orlando’s\, 4300 Hoffmeister Ave.\, St. Louis\, MO\, United States
CATEGORIES:Koncerti
ATTACH;FMTTYPE=image/png:https://izprveruke.com/wp-content/uploads/2022/08/hurricane.png
GEO:38.5428234;-90.2968619
X-APPLE-STRUCTURED-LOCATION;VALUE=URI;X-ADDRESS=Orlando’s 4300 Hoffmeister Ave. St. Louis MO United States;X-APPLE-RADIUS=500;X-TITLE=4300 Hoffmeister Ave.:geo:-90.2968619,38.5428234
END:VEVENT
BEGIN:VEVENT
DTSTART;TZID=America/Los_Angeles:20220902T203000
DTEND;TZID=America/Los_Angeles:20220902T235900
DTSTAMP:20260425T081719
CREATED:20220804T052938Z
LAST-MODIFIED:20220804T052942Z
UID:10000882-1662150600-1662163140@izprveruke.com
SUMMARY:Natasa Bekvalac - Chicago
DESCRIPTION:Vise informacija 773-644-0600 & 515-710-3396
URL:https://izprveruke.com/event/natasa-bekvalac-chicago/
LOCATION:Alhambra Palace\, 1240 W Randolph St.\, Chicago\, IL\, United States
CATEGORIES:Koncerti
ATTACH;FMTTYPE=image/jpeg:https://izprveruke.com/wp-content/uploads/2022/06/natasabekvalac.jpg
GEO:41.8846083;-87.6581905
X-APPLE-STRUCTURED-LOCATION;VALUE=URI;X-ADDRESS=Alhambra Palace 1240 W Randolph St. Chicago IL United States;X-APPLE-RADIUS=500;X-TITLE=1240 W Randolph St.:geo:-87.6581905,41.8846083
END:VEVENT
BEGIN:VEVENT
DTSTART;TZID=America/Los_Angeles:20220902T203000
DTEND;TZID=America/Los_Angeles:20220902T235900
DTSTAMP:20260425T081719
CREATED:20220609T061819Z
LAST-MODIFIED:20220609T061823Z
UID:10000864-1662150600-1662163140@izprveruke.com
SUMMARY:Sasa Matic - Detroit
DESCRIPTION:Sasa Matic & Bend \n\n\n\nVise informacija 586-822-3278 & 586-822-4431
URL:https://izprveruke.com/event/sasa-matic-detroit/
LOCATION:California
CATEGORIES:Koncerti
ATTACH;FMTTYPE=image/jpeg:https://izprveruke.com/wp-content/uploads/2022/06/sasamatic.jpg
END:VEVENT
BEGIN:VEVENT
DTSTART;TZID=America/Los_Angeles:20220903T000000
DTEND;TZID=America/Los_Angeles:20220904T235959
DTSTAMP:20260425T081719
CREATED:20220826T060439Z
LAST-MODIFIED:20220826T060450Z
UID:10000895-1662163200-1662335999@izprveruke.com
SUMMARY:Serbian Days - Vancouver\, BC
DESCRIPTION:Join us for the 31st Serbian Days Festival in Vancouver on September 3 &4! For decades\, this has have been the best attended local Serbian event\, during which we are able to celebrate our community\, religion\, history and culture with all of our neighbors in Vancouver. \nAfter a two year break\, we are excited for the opportunity to gather this year and support our church and community with rich cultural programming\, entertainment\, sports tournaments\, fantastic food\, traditional dance\, activities for children\, and evening žurke! Check out our website for a full schedule of events!
URL:https://izprveruke.com/event/serbian-days-vancouver-bc/
LOCATION:St Sava Serbian Orthodox Church Vancouver\, 505 E 63rd Avenue\, Vancouver\, V5X 2K3
CATEGORIES:Festivali
ATTACH;FMTTYPE=image/jpeg:https://izprveruke.com/wp-content/uploads/2022/08/SD_banner_outline.jpg
GEO:49.2135061;-123.0939813
X-APPLE-STRUCTURED-LOCATION;VALUE=URI;X-ADDRESS=St Sava Serbian Orthodox Church Vancouver 505 E 63rd Avenue Vancouver V5X 2K3;X-APPLE-RADIUS=500;X-TITLE=505 E 63rd Avenue:geo:-123.0939813,49.2135061
END:VEVENT
BEGIN:VEVENT
DTSTART;TZID=America/Los_Angeles:20220903T200000
DTEND;TZID=America/Los_Angeles:20220903T235900
DTSTAMP:20260425T081719
CREATED:20220401T022553Z
LAST-MODIFIED:20220827T172742Z
UID:10000834-1662235200-1662249540@izprveruke.com
SUMMARY:MC Stojan - Toronto
DESCRIPTION:Performing live MC STOJAN\nMusic by DJ Miljan (AE toronto)\n19+ event | ID mandatory 
URL:https://izprveruke.com/event/mc-stojan-toronto/
LOCATION:Axis Club\, 722 College St.\, Toronto\, Ontario\, Canada
CATEGORIES:Koncerti
ATTACH;FMTTYPE=image/png:https://izprveruke.com/wp-content/uploads/2022/03/mcstojan.png
GEO:43.6553528;-79.4194363
X-APPLE-STRUCTURED-LOCATION;VALUE=URI;X-ADDRESS=Axis Club 722 College St. Toronto Ontario Canada;X-APPLE-RADIUS=500;X-TITLE=722 College St.:geo:-79.4194363,43.6553528
END:VEVENT
BEGIN:VEVENT
DTSTART;TZID=America/Los_Angeles:20220903T203000
DTEND;TZID=America/Los_Angeles:20220903T235900
DTSTAMP:20260425T081719
CREATED:20220808T074818Z
LAST-MODIFIED:20220820T182857Z
UID:10000888-1662237000-1662249540@izprveruke.com
SUMMARY:Hurricane - Chicago
DESCRIPTION:Vise informacija 773-425-3911
URL:https://izprveruke.com/event/hurricane-chicago/
LOCATION:Holiday Inn\, 5300 W Touhy Ave.\, Skokie\, Illinois\, United States
CATEGORIES:Koncerti
ATTACH;FMTTYPE=image/png:https://izprveruke.com/wp-content/uploads/2022/08/hurricane.png
GEO:42.012648;-87.7608039
X-APPLE-STRUCTURED-LOCATION;VALUE=URI;X-ADDRESS=Holiday Inn 5300 W Touhy Ave. Skokie Illinois United States;X-APPLE-RADIUS=500;X-TITLE=5300 W Touhy Ave.:geo:-87.7608039,42.012648
END:VEVENT
BEGIN:VEVENT
DTSTART;TZID=America/Los_Angeles:20220903T203000
DTEND;TZID=America/Los_Angeles:20220903T235900
DTSTAMP:20260425T081719
CREATED:20220618T041256Z
LAST-MODIFIED:20220618T041300Z
UID:10000876-1662237000-1662249540@izprveruke.com
SUMMARY:Natasa Bekvalac - New York
DESCRIPTION:Natasa Bekvalac & bend live in NYC
URL:https://izprveruke.com/event/natasa-bekvalac-new-york/
LOCATION:Melrose Ballroom\, 36-08 33rd St.\, New York\, NY\, United States
CATEGORIES:Koncerti
ATTACH;FMTTYPE=image/jpeg:https://izprveruke.com/wp-content/uploads/2022/06/natasabekvalac.jpg
GEO:40.7555992;-73.9286147
X-APPLE-STRUCTURED-LOCATION;VALUE=URI;X-ADDRESS=Melrose Ballroom 36-08 33rd St. New York NY United States;X-APPLE-RADIUS=500;X-TITLE=36-08 33rd St.:geo:-73.9286147,40.7555992
END:VEVENT
BEGIN:VEVENT
DTSTART;TZID=America/Los_Angeles:20220903T203000
DTEND;TZID=America/Los_Angeles:20220903T235900
DTSTAMP:20260425T081719
CREATED:20220609T062558Z
LAST-MODIFIED:20220609T063222Z
UID:10000865-1662237000-1662249540@izprveruke.com
SUMMARY:Sasa Matic - Cleveland
DESCRIPTION:Sasa Matic & Bend \n\n\n\nVise informacija 440-667-5734
URL:https://izprveruke.com/event/sasa-matic-cleveland/
LOCATION:The Odeon\, 1295 Old River Rd.\, Cleveland\, Ohio\, United States
CATEGORIES:Filmovi
ATTACH;FMTTYPE=image/jpeg:https://izprveruke.com/wp-content/uploads/2022/06/sasamatic.jpg
GEO:41.4984604;-81.7028319
X-APPLE-STRUCTURED-LOCATION;VALUE=URI;X-ADDRESS=The Odeon 1295 Old River Rd. Cleveland Ohio United States;X-APPLE-RADIUS=500;X-TITLE=1295 Old River Rd.:geo:-81.7028319,41.4984604
END:VEVENT
BEGIN:VEVENT
DTSTART;TZID=America/Los_Angeles:20220904T203000
DTEND;TZID=America/Los_Angeles:20220904T235900
DTSTAMP:20260425T081719
CREATED:20220808T075102Z
LAST-MODIFIED:20220820T182850Z
UID:10000889-1662323400-1662335940@izprveruke.com
SUMMARY:Hurricane - Jacksonville
DESCRIPTION:Vise informacija 904-514-7304
URL:https://izprveruke.com/event/hurricane-jacksonville/
LOCATION:Cuba Libre at Havana Jax\, 2578 Atlantic Blvd.\, Jacksonville\, Florida\, United States
CATEGORIES:Koncerti
ATTACH;FMTTYPE=image/png:https://izprveruke.com/wp-content/uploads/2022/08/hurricane.png
GEO:30.3053976;-81.6374906
X-APPLE-STRUCTURED-LOCATION;VALUE=URI;X-ADDRESS=Cuba Libre at Havana Jax 2578 Atlantic Blvd. Jacksonville Florida United States;X-APPLE-RADIUS=500;X-TITLE=2578 Atlantic Blvd.:geo:-81.6374906,30.3053976
END:VEVENT
BEGIN:VEVENT
DTSTART;TZID=America/Los_Angeles:20220904T203000
DTEND;TZID=America/Los_Angeles:20220904T235900
DTSTAMP:20260425T081719
CREATED:20220804T053204Z
LAST-MODIFIED:20220804T054219Z
UID:10000883-1662323400-1662335940@izprveruke.com
SUMMARY:Natasa Bekvalac - Washington\, DC
DESCRIPTION:Vise informacija 571-332-1160 & 571-577-9525
URL:https://izprveruke.com/event/natasa-bekvalac-washington-dc/
LOCATION:California
CATEGORIES:Koncerti
ATTACH;FMTTYPE=image/jpeg:https://izprveruke.com/wp-content/uploads/2022/06/natasabekvalac.jpg
END:VEVENT
BEGIN:VEVENT
DTSTART;TZID=America/Los_Angeles:20220904T203000
DTEND;TZID=America/Los_Angeles:20220904T235900
DTSTAMP:20260425T081719
CREATED:20220609T062821Z
LAST-MODIFIED:20220609T062825Z
UID:10000866-1662323400-1662335940@izprveruke.com
SUMMARY:Sasa Matic - Atlanta
DESCRIPTION:Sasa Matic & Bend
URL:https://izprveruke.com/event/sasa-matic-atlanta/
LOCATION:Royal Ballroom\, 6185 Buford hwy Bldg C\, Peachtree Corners\, GA\, United States
CATEGORIES:Koncerti
ATTACH;FMTTYPE=image/jpeg:https://izprveruke.com/wp-content/uploads/2022/06/sasamatic.jpg
GEO:33.9320852;-84.2245905
X-APPLE-STRUCTURED-LOCATION;VALUE=URI;X-ADDRESS=Royal Ballroom 6185 Buford hwy Bldg C Peachtree Corners GA United States;X-APPLE-RADIUS=500;X-TITLE=6185 Buford hwy Bldg C:geo:-84.2245905,33.9320852
END:VEVENT
BEGIN:VEVENT
DTSTART;TZID=America/Los_Angeles:20220905T203000
DTEND;TZID=America/Los_Angeles:20220905T235900
DTSTAMP:20260425T081719
CREATED:20220609T063108Z
LAST-MODIFIED:20220609T063421Z
UID:10000867-1662409800-1662422340@izprveruke.com
SUMMARY:Sasa Matic - Miami
DESCRIPTION:Sasa Matic & Bend
URL:https://izprveruke.com/event/sasa-matic-miami/
LOCATION:Rakija Grill\, 139 NE 3rd Ave.\, Miami\, FL\, United States
CATEGORIES:Koncerti
ATTACH;FMTTYPE=image/jpeg:https://izprveruke.com/wp-content/uploads/2022/06/sasamatic.jpg
GEO:25.7760215;-80.1884795
X-APPLE-STRUCTURED-LOCATION;VALUE=URI;X-ADDRESS=Rakija Grill 139 NE 3rd Ave. Miami FL United States;X-APPLE-RADIUS=500;X-TITLE=139 NE 3rd Ave.:geo:-80.1884795,25.7760215
END:VEVENT
BEGIN:VEVENT
DTSTART;TZID=America/Los_Angeles:20220906T203000
DTEND;TZID=America/Los_Angeles:20220906T235900
DTSTAMP:20260425T081719
CREATED:20220808T075232Z
LAST-MODIFIED:20220820T182836Z
UID:10000890-1662496200-1662508740@izprveruke.com
SUMMARY:Hurricane - Miami
DESCRIPTION:Vise informacija 305-773-5071
URL:https://izprveruke.com/event/hurricane-miami/
LOCATION:Rakija Grill\, 139 NE 3rd Ave.\, Miami\, FL\, United States
CATEGORIES:Koncerti
ATTACH;FMTTYPE=image/png:https://izprveruke.com/wp-content/uploads/2022/08/hurricane.png
GEO:25.7760215;-80.1884795
X-APPLE-STRUCTURED-LOCATION;VALUE=URI;X-ADDRESS=Rakija Grill 139 NE 3rd Ave. Miami FL United States;X-APPLE-RADIUS=500;X-TITLE=139 NE 3rd Ave.:geo:-80.1884795,25.7760215
END:VEVENT
BEGIN:VEVENT
DTSTART;TZID=America/Los_Angeles:20220907T203000
DTEND;TZID=America/Los_Angeles:20220907T235900
DTSTAMP:20260425T081719
CREATED:20220804T053456Z
LAST-MODIFIED:20220907T014708Z
UID:10000884-1662582600-1662595140@izprveruke.com
SUMMARY:Natasa Bekvalac - Las Vegas
DESCRIPTION:Vise informacija 702-630-3677
URL:https://izprveruke.com/event/natasa-bekvalac-las-vegas/
LOCATION:Club Ego\, 1000 E Sahara Ave.\, Las Vegas\, Nevada\, United States
CATEGORIES:Koncerti
ATTACH;FMTTYPE=image/jpeg:https://izprveruke.com/wp-content/uploads/2022/06/natasabekvalac.jpg
GEO:36.1443929;-115.1410671
X-APPLE-STRUCTURED-LOCATION;VALUE=URI;X-ADDRESS=Club Ego 1000 E Sahara Ave. Las Vegas Nevada United States;X-APPLE-RADIUS=500;X-TITLE=1000 E Sahara Ave.:geo:-115.1410671,36.1443929
END:VEVENT
BEGIN:VEVENT
DTSTART;TZID=America/Los_Angeles:20220907T203000
DTEND;TZID=America/Los_Angeles:20220907T235900
DTSTAMP:20260425T081719
CREATED:20220609T063108Z
LAST-MODIFIED:20220907T014448Z
UID:10000868-1662582600-1662595140@izprveruke.com
SUMMARY:Sasa Matic - Miami
DESCRIPTION:Sasa Matic & Bend
URL:https://izprveruke.com/event/sasa-matic-miami-2022-09-07/
LOCATION:Rakija Grill\, 139 NE 3rd Ave.\, Miami\, FL\, United States
CATEGORIES:Koncerti
ATTACH;FMTTYPE=image/jpeg:https://izprveruke.com/wp-content/uploads/2022/06/sasamatic.jpg
GEO:25.7760215;-80.1884795
X-APPLE-STRUCTURED-LOCATION;VALUE=URI;X-ADDRESS=Rakija Grill 139 NE 3rd Ave. Miami FL United States;X-APPLE-RADIUS=500;X-TITLE=139 NE 3rd Ave.:geo:-80.1884795,25.7760215
END:VEVENT
BEGIN:VEVENT
DTSTART;TZID=America/Los_Angeles:20220909T203000
DTEND;TZID=America/Los_Angeles:20220909T235900
DTSTAMP:20260425T081719
CREATED:20220905T192414Z
LAST-MODIFIED:20220907T014622Z
UID:10000902-1662755400-1662767940@izprveruke.com
SUMMARY:Natasa Bekvalac - Chicago
DESCRIPTION:Exclusive VIP concert. Reservations 312-866-1186
URL:https://izprveruke.com/event/natasa-bekvalac-chicago-2/
LOCATION:Compass Arena\, 625 Joliet Rd\, Wilowbrook\, IL\, United States
CATEGORIES:Koncerti
ATTACH;FMTTYPE=image/jpeg:https://izprveruke.com/wp-content/uploads/2022/06/natasabekvalac.jpg
GEO:41.7453652;-87.9396252
X-APPLE-STRUCTURED-LOCATION;VALUE=URI;X-ADDRESS=Compass Arena 625 Joliet Rd Wilowbrook IL United States;X-APPLE-RADIUS=500;X-TITLE=625 Joliet Rd:geo:-87.9396252,41.7453652
END:VEVENT
BEGIN:VEVENT
DTSTART;TZID=America/Los_Angeles:20220909T203000
DTEND;TZID=America/Los_Angeles:20220909T235900
DTSTAMP:20260425T081719
CREATED:20220808T075407Z
LAST-MODIFIED:20220820T182828Z
UID:10000891-1662755400-1662767940@izprveruke.com
SUMMARY:Hurricane - Atlanta
DESCRIPTION:Vise informacija 678-517-0001
URL:https://izprveruke.com/event/hurricane-atlanta/
LOCATION:Ehall Atlanta\, 1550 Beaver Ruin Rd.\, Norcross\, GA\, United States
CATEGORIES:Koncerti
ATTACH;FMTTYPE=image/png:https://izprveruke.com/wp-content/uploads/2022/08/hurricane.png
GEO:33.9316301;-84.1473473
X-APPLE-STRUCTURED-LOCATION;VALUE=URI;X-ADDRESS=Ehall Atlanta 1550 Beaver Ruin Rd. Norcross GA United States;X-APPLE-RADIUS=500;X-TITLE=1550 Beaver Ruin Rd.:geo:-84.1473473,33.9316301
END:VEVENT
BEGIN:VEVENT
DTSTART;TZID=America/Los_Angeles:20220909T203000
DTEND;TZID=America/Los_Angeles:20220909T235900
DTSTAMP:20260425T081719
CREATED:20220609T063902Z
LAST-MODIFIED:20220609T063906Z
UID:10000869-1662755400-1662767940@izprveruke.com
SUMMARY:Sasa Matic - Phoenix
DESCRIPTION:Sasa Matic & Bend
URL:https://izprveruke.com/event/sasa-matic-phoenix/
LOCATION:CB Live\, 21001 N Tatum Blvd.\, Phoenix\, AZ\, United States
CATEGORIES:Koncerti
ATTACH;FMTTYPE=image/jpeg:https://izprveruke.com/wp-content/uploads/2022/06/sasamatic.jpg
GEO:33.6765082;-111.9761103
X-APPLE-STRUCTURED-LOCATION;VALUE=URI;X-ADDRESS=CB Live 21001 N Tatum Blvd. Phoenix AZ United States;X-APPLE-RADIUS=500;X-TITLE=21001 N Tatum Blvd.:geo:-111.9761103,33.6765082
END:VEVENT
BEGIN:VEVENT
DTSTART;TZID=America/Los_Angeles:20220910T203000
DTEND;TZID=America/Los_Angeles:20220910T235900
DTSTAMP:20260425T081719
CREATED:20220808T075605Z
LAST-MODIFIED:20220820T182817Z
UID:10000892-1662841800-1662854340@izprveruke.com
SUMMARY:Hurricane - New York
DESCRIPTION:Vise informacija 914-548-2585
URL:https://izprveruke.com/event/hurricane-new-york/
LOCATION:Anemos\, 41-15 34th Ave.\, Queens\, New York\, United States
CATEGORIES:Koncerti
ATTACH;FMTTYPE=image/png:https://izprveruke.com/wp-content/uploads/2022/08/hurricane.png
GEO:40.7561989;-73.9194027
X-APPLE-STRUCTURED-LOCATION;VALUE=URI;X-ADDRESS=Anemos 41-15 34th Ave. Queens New York United States;X-APPLE-RADIUS=500;X-TITLE=41-15 34th Ave.:geo:-73.9194027,40.7561989
END:VEVENT
BEGIN:VEVENT
DTSTART;TZID=America/Los_Angeles:20220910T203000
DTEND;TZID=America/Los_Angeles:20220910T235900
DTSTAMP:20260425T081719
CREATED:20220804T053718Z
LAST-MODIFIED:20220910T170047Z
UID:10000885-1662841800-1662854340@izprveruke.com
SUMMARY:Natasa Bekvalac - St. Louis
DESCRIPTION:Vise informacija 314-707-3271
URL:https://izprveruke.com/event/natasa-bekvalac-st-louis/
LOCATION:Europe Night Club\, 710 N 15th St.\, St. Louis\, Missouri\, United States
CATEGORIES:Koncerti
ATTACH;FMTTYPE=image/jpeg:https://izprveruke.com/wp-content/uploads/2022/06/natasabekvalac.jpg
GEO:38.6333546;-90.1998882
X-APPLE-STRUCTURED-LOCATION;VALUE=URI;X-ADDRESS=Europe Night Club 710 N 15th St. St. Louis Missouri United States;X-APPLE-RADIUS=500;X-TITLE=710 N 15th St.:geo:-90.1998882,38.6333546
END:VEVENT
BEGIN:VEVENT
DTSTART;TZID=America/Los_Angeles:20220910T203000
DTEND;TZID=America/Los_Angeles:20220910T235900
DTSTAMP:20260425T081719
CREATED:20220609T064419Z
LAST-MODIFIED:20220630T042001Z
UID:10000870-1662841800-1662854340@izprveruke.com
SUMMARY:Sasa Matic - Chicago
DESCRIPTION:Sasa Matic & Bend
URL:https://izprveruke.com/event/sasa-matic-chicago/
LOCATION:Joe’s Live\, 5441 Park Pl.\, Rosemont\, Illinois\, United States
CATEGORIES:Koncerti
ATTACH;FMTTYPE=image/jpeg:https://izprveruke.com/wp-content/uploads/2022/06/sasamatic.jpg
ORGANIZER;CN="Pure Live Music":MAILTO:info@purelivemusic.com
GEO:41.9780701;-87.8673276
X-APPLE-STRUCTURED-LOCATION;VALUE=URI;X-ADDRESS=Joe’s Live 5441 Park Pl. Rosemont Illinois United States;X-APPLE-RADIUS=500;X-TITLE=5441 Park Pl.:geo:-87.8673276,41.9780701
END:VEVENT
BEGIN:VEVENT
DTSTART;TZID=America/Los_Angeles:20220914T203000
DTEND;TZID=America/Los_Angeles:20220914T235900
DTSTAMP:20260425T081719
CREATED:20220902T024425Z
LAST-MODIFIED:20220902T050823Z
UID:10000896-1663187400-1663199940@izprveruke.com
SUMMARY:Sasa Matic - Las Vegas
DESCRIPTION:Sasa Matic & Bend. Vise informacija 702-807-8685
URL:https://izprveruke.com/event/sasa-matic-las-vegas/
LOCATION:Embassy Night Club\, 3355 Procyon St.\, Las Vegas\, NV\, United States
CATEGORIES:Koncerti
ATTACH;FMTTYPE=image/jpeg:https://izprveruke.com/wp-content/uploads/2022/06/sasamatic.jpg
GEO:36.1293516;-115.1884764
X-APPLE-STRUCTURED-LOCATION;VALUE=URI;X-ADDRESS=Embassy Night Club 3355 Procyon St. Las Vegas NV United States;X-APPLE-RADIUS=500;X-TITLE=3355 Procyon St.:geo:-115.1884764,36.1293516
END:VEVENT
BEGIN:VEVENT
DTSTART;TZID=America/Los_Angeles:20220914T203000
DTEND;TZID=America/Los_Angeles:20220914T235900
DTSTAMP:20260425T081719
CREATED:20220804T054059Z
LAST-MODIFIED:20220804T054103Z
UID:10000886-1663187400-1663199940@izprveruke.com
SUMMARY:Natasa Bekvalac - Naples
DESCRIPTION:Vise informacija 239-255-2422 & 239-431-7004
URL:https://izprveruke.com/event/natasa-bekvalac-naples/
LOCATION:Dogtooth Sports and Music Bar\, 5310 Shirley St.\, Naples\, Florida\, United States
CATEGORIES:Filmovi
ATTACH;FMTTYPE=image/jpeg:https://izprveruke.com/wp-content/uploads/2022/06/natasabekvalac.jpg
GEO:26.2121381;-81.7810518
X-APPLE-STRUCTURED-LOCATION;VALUE=URI;X-ADDRESS=Dogtooth Sports and Music Bar 5310 Shirley St. Naples Florida United States;X-APPLE-RADIUS=500;X-TITLE=5310 Shirley St.:geo:-81.7810518,26.2121381
END:VEVENT
BEGIN:VEVENT
DTSTART;TZID=America/Los_Angeles:20220916T203000
DTEND;TZID=America/Los_Angeles:20220916T235900
DTSTAMP:20260425T081719
CREATED:20220823T042455Z
LAST-MODIFIED:20220823T042500Z
UID:10000894-1663360200-1663372740@izprveruke.com
SUMMARY:Sasa Matic - Bowling Green
DESCRIPTION:Sasa Matic & Bend \n\n\n\nVise informacija 270-320-2180
URL:https://izprveruke.com/event/sasa-matic-bowling-green/
LOCATION:La Gala\, 601 State St.\, Bowling Green\, KY\, United States
CATEGORIES:Koncerti
ATTACH;FMTTYPE=image/jpeg:https://izprveruke.com/wp-content/uploads/2022/06/sasamatic.jpg
GEO:36.9955127;-86.4372742
X-APPLE-STRUCTURED-LOCATION;VALUE=URI;X-ADDRESS=La Gala 601 State St. Bowling Green KY United States;X-APPLE-RADIUS=500;X-TITLE=601 State St.:geo:-86.4372742,36.9955127
END:VEVENT
BEGIN:VEVENT
DTSTART;TZID=America/Los_Angeles:20220916T203000
DTEND;TZID=America/Los_Angeles:20220916T235900
DTSTAMP:20260425T081719
CREATED:20220609T065705Z
LAST-MODIFIED:20220823T042748Z
UID:10000873-1663360200-1663372740@izprveruke.com
SUMMARY:Sasa Matic - Toronto
DESCRIPTION:Sasa Matic & Bend \n\n\n\nDoors at 8pm | Concert at 10pm \n\n\n\nOpening music by Dj Miljan \n\n\n\n19+ event | ID mandatory \n\n\n\nFree parking at the venue
URL:https://izprveruke.com/event/sasa-matic-toronto/
LOCATION:Paramount Event Space\, 222 Rowntree Dairy Rd.\, Woodbridge\, ON\, Canada
CATEGORIES:Koncerti
ATTACH;FMTTYPE=image/jpeg:https://izprveruke.com/wp-content/uploads/2022/06/sasamatic.jpg
GEO:43.7835236;-79.5513875
X-APPLE-STRUCTURED-LOCATION;VALUE=URI;X-ADDRESS=Paramount Event Space 222 Rowntree Dairy Rd. Woodbridge ON Canada;X-APPLE-RADIUS=500;X-TITLE=222 Rowntree Dairy Rd.:geo:-79.5513875,43.7835236
END:VEVENT
BEGIN:VEVENT
DTSTART;TZID=America/Los_Angeles:20220917T110000
DTEND;TZID=America/Los_Angeles:20220917T180000
DTSTAMP:20260425T081719
CREATED:20220728T042815Z
LAST-MODIFIED:20220728T043215Z
UID:10000879-1663412400-1663437600@izprveruke.com
SUMMARY:Serbian Fest - Portland
DESCRIPTION:Please join us for the 15th Annual Serbian Festival on September 17th & 18th. This is a celebration of food\, wine\, dance and culture of the Serbian Orthodox people. \n\n\n\nDelicious Serbian Food: BBQ\, Roast Pig and Lamb\, Desserts\, Live Music\, National Dance\, Beer and Wine\, Kid’s Activities…and much more. \n\n\n\nALL AGES / FREE EVENT! \n\n\n\nSaturday\, September 17 11am – 10pmSunday\, September 18 11am – 6pm \n\n\n\nTaste. Experience. Discover. The culture of Serbia.
URL:https://izprveruke.com/event/serbian-fest-portland/2022-09-17/
LOCATION:St. Stephen Serbian Orthodox Church\, 11509 Southeast 27th Avenue\, Milwaukie\, Oregon\, United States
CATEGORIES:Festivali
ATTACH;FMTTYPE=image/jpeg:https://izprveruke.com/wp-content/uploads/2022/07/22SerbianFest_1200x800_v3.jpg
GEO:45.4403161;-122.6351868
X-APPLE-STRUCTURED-LOCATION;VALUE=URI;X-ADDRESS=St. Stephen Serbian Orthodox Church 11509 Southeast 27th Avenue Milwaukie Oregon United States;X-APPLE-RADIUS=500;X-TITLE=11509 Southeast 27th Avenue:geo:-122.6351868,45.4403161
END:VEVENT
BEGIN:VEVENT
DTSTART;TZID=America/Los_Angeles:20220917T203000
DTEND;TZID=America/Los_Angeles:20220917T235900
DTSTAMP:20260425T081719
CREATED:20220609T064727Z
LAST-MODIFIED:20220609T064731Z
UID:10000871-1663446600-1663459140@izprveruke.com
SUMMARY:Sasa Matic - New York
DESCRIPTION:Sasa Matic & Bend
URL:https://izprveruke.com/event/sasa-matic-new-york/
LOCATION:Melrose Ballroom\, 36-08 33rd St.\, New York\, NY\, United States
CATEGORIES:Koncerti
ATTACH;FMTTYPE=image/jpeg:https://izprveruke.com/wp-content/uploads/2022/06/sasamatic.jpg
GEO:40.7555992;-73.9286147
X-APPLE-STRUCTURED-LOCATION;VALUE=URI;X-ADDRESS=Melrose Ballroom 36-08 33rd St. New York NY United States;X-APPLE-RADIUS=500;X-TITLE=36-08 33rd St.:geo:-73.9286147,40.7555992
END:VEVENT
BEGIN:VEVENT
DTSTART;TZID=America/Los_Angeles:20220918T110000
DTEND;TZID=America/Los_Angeles:20220918T180000
DTSTAMP:20260425T081719
CREATED:20220728T042815Z
LAST-MODIFIED:20220728T043215Z
UID:10000880-1663498800-1663524000@izprveruke.com
SUMMARY:Serbian Fest - Portland
DESCRIPTION:Please join us for the 15th Annual Serbian Festival on September 17th & 18th. This is a celebration of food\, wine\, dance and culture of the Serbian Orthodox people. \n\n\n\nDelicious Serbian Food: BBQ\, Roast Pig and Lamb\, Desserts\, Live Music\, National Dance\, Beer and Wine\, Kid’s Activities…and much more. \n\n\n\nALL AGES / FREE EVENT! \n\n\n\nSaturday\, September 17 11am – 10pmSunday\, September 18 11am – 6pm \n\n\n\nTaste. Experience. Discover. The culture of Serbia.
URL:https://izprveruke.com/event/serbian-fest-portland/2022-09-18/
LOCATION:St. Stephen Serbian Orthodox Church\, 11509 Southeast 27th Avenue\, Milwaukie\, Oregon\, United States
CATEGORIES:Festivali
ATTACH;FMTTYPE=image/jpeg:https://izprveruke.com/wp-content/uploads/2022/07/22SerbianFest_1200x800_v3.jpg
GEO:45.4403161;-122.6351868
X-APPLE-STRUCTURED-LOCATION;VALUE=URI;X-ADDRESS=St. Stephen Serbian Orthodox Church 11509 Southeast 27th Avenue Milwaukie Oregon United States;X-APPLE-RADIUS=500;X-TITLE=11509 Southeast 27th Avenue:geo:-122.6351868,45.4403161
END:VEVENT
END:VCALENDAR