BEGIN:VCALENDAR
VERSION:2.0
PRODID:-//Iz Prve Ruke - Koncerti u Americi i Kanadi | Lokalna Dešavanja - ECPv6.15.20//NONSGML v1.0//EN
CALSCALE:GREGORIAN
METHOD:PUBLISH
X-WR-CALNAME:Iz Prve Ruke - Koncerti u Americi i Kanadi | Lokalna Dešavanja
X-ORIGINAL-URL:https://izprveruke.com
X-WR-CALDESC:Events for Iz Prve Ruke - Koncerti u Americi i Kanadi | Lokalna Dešavanja
REFRESH-INTERVAL;VALUE=DURATION:PT1H
X-Robots-Tag:noindex
X-PUBLISHED-TTL:PT1H
BEGIN:VTIMEZONE
TZID:America/Los_Angeles
BEGIN:DAYLIGHT
TZOFFSETFROM:-0800
TZOFFSETTO:-0700
TZNAME:PDT
DTSTART:20230312T100000
END:DAYLIGHT
BEGIN:STANDARD
TZOFFSETFROM:-0700
TZOFFSETTO:-0800
TZNAME:PST
DTSTART:20231105T090000
END:STANDARD
BEGIN:DAYLIGHT
TZOFFSETFROM:-0800
TZOFFSETTO:-0700
TZNAME:PDT
DTSTART:20240310T100000
END:DAYLIGHT
BEGIN:STANDARD
TZOFFSETFROM:-0700
TZOFFSETTO:-0800
TZNAME:PST
DTSTART:20241103T090000
END:STANDARD
BEGIN:DAYLIGHT
TZOFFSETFROM:-0800
TZOFFSETTO:-0700
TZNAME:PDT
DTSTART:20250309T100000
END:DAYLIGHT
BEGIN:STANDARD
TZOFFSETFROM:-0700
TZOFFSETTO:-0800
TZNAME:PST
DTSTART:20251102T090000
END:STANDARD
END:VTIMEZONE
BEGIN:VEVENT
DTSTART;TZID=America/Los_Angeles:20240202T203000
DTEND;TZID=America/Los_Angeles:20240202T235900
DTSTAMP:20260425T090537
CREATED:20240118T034808Z
LAST-MODIFIED:20240201T031057Z
UID:10001349-1706905800-1706918340@izprveruke.com
SUMMARY:Darko Lazic - St. Louis
DESCRIPTION:Darko Lazic live in St. Louis. Vise informacija 314-489-4404
URL:https://izprveruke.com/event/darko-lazic-st-louis/
LOCATION:Falls Convention Center\, 300 Admiral Weinel Blvd.\, Columbia\, Illinois\, United States
CATEGORIES:Koncerti
ATTACH;FMTTYPE=image/jpeg:https://izprveruke.com/wp-content/uploads/2024/01/darkolazic.jpg
GEO:38.4388745;-90.2114976
X-APPLE-STRUCTURED-LOCATION;VALUE=URI;X-ADDRESS=Falls Convention Center 300 Admiral Weinel Blvd. Columbia Illinois United States;X-APPLE-RADIUS=500;X-TITLE=300 Admiral Weinel Blvd.:geo:-90.2114976,38.4388745
END:VEVENT
BEGIN:VEVENT
DTSTART;TZID=America/Los_Angeles:20240202T203000
DTEND;TZID=America/Los_Angeles:20240202T235959
DTSTAMP:20260425T090537
CREATED:20240115T213521Z
LAST-MODIFIED:20240115T220530Z
UID:10001316-1706905800-1706918399@izprveruke.com
SUMMARY:Hule & Begzo - Minneapolis
DESCRIPTION:Hule Mesaljic\, Begzo & muzicka pratnja Esef Mustafic. Vise informacija 314-467-0724
URL:https://izprveruke.com/event/hule-begzo-minneapolis/
LOCATION:VFW Post 6316\, 1374 109th Ave. NE\, Blaine\, Minnesota\, United States
CATEGORIES:Koncerti
ATTACH;FMTTYPE=image/png:https://izprveruke.com/wp-content/uploads/2022/10/hule.png
GEO:45.1677204;-93.2365487
X-APPLE-STRUCTURED-LOCATION;VALUE=URI;X-ADDRESS=VFW Post 6316 1374 109th Ave. NE Blaine Minnesota United States;X-APPLE-RADIUS=500;X-TITLE=1374 109th Ave. NE:geo:-93.2365487,45.1677204
END:VEVENT
BEGIN:VEVENT
DTSTART;TZID=America/Los_Angeles:20240203T203000
DTEND;TZID=America/Los_Angeles:20240203T235900
DTSTAMP:20260425T090537
CREATED:20240118T034725Z
LAST-MODIFIED:20240201T031043Z
UID:10001348-1706992200-1707004740@izprveruke.com
SUMMARY:Darko Lazic - Des Moines
DESCRIPTION:Darko Lazic live in Des Moines. Vise informacija 515-867-8012
URL:https://izprveruke.com/event/darko-lazic-des-moines/
LOCATION:Marriott Des Moines\, 1250 Jordan Creek Pkwy\,\, West Des Moines\, Iowa\, United States
CATEGORIES:Koncerti
ATTACH;FMTTYPE=image/jpeg:https://izprveruke.com/wp-content/uploads/2024/01/darkolazic.jpg
GEO:41.5886526;-93.8105957
X-APPLE-STRUCTURED-LOCATION;VALUE=URI;X-ADDRESS=Marriott Des Moines 1250 Jordan Creek Pkwy West Des Moines Iowa United States;X-APPLE-RADIUS=500;X-TITLE=1250 Jordan Creek Pkwy\,:geo:-93.8105957,41.5886526
END:VEVENT
BEGIN:VEVENT
DTSTART;TZID=America/Los_Angeles:20240203T203000
DTEND;TZID=America/Los_Angeles:20240203T235959
DTSTAMP:20260425T090537
CREATED:20240115T214259Z
LAST-MODIFIED:20240115T220519Z
UID:10001318-1706992200-1707004799@izprveruke.com
SUMMARY:Hule & Begzo - Louisville
DESCRIPTION:Hule Mesaljic\, Begzo & muzicka pratnja Esef Mustafic. Vise informacija 502-807-5325
URL:https://izprveruke.com/event/hule-begzo-louisville/
LOCATION:Borsalino Cafe & Grill\, 3825 Bardstown Rd.\, Louisville\, KY\, United States
CATEGORIES:Koncerti
ATTACH;FMTTYPE=image/png:https://izprveruke.com/wp-content/uploads/2022/10/hule.png
GEO:38.1961017;-85.6537025
X-APPLE-STRUCTURED-LOCATION;VALUE=URI;X-ADDRESS=Borsalino Cafe & Grill 3825 Bardstown Rd. Louisville KY United States;X-APPLE-RADIUS=500;X-TITLE=3825 Bardstown Rd.:geo:-85.6537025,38.1961017
END:VEVENT
BEGIN:VEVENT
DTSTART;TZID=America/Los_Angeles:20240209T203000
DTEND;TZID=America/Los_Angeles:20240209T235900
DTSTAMP:20260425T090537
CREATED:20240118T034307Z
LAST-MODIFIED:20240209T023506Z
UID:10001346-1707510600-1707523140@izprveruke.com
SUMMARY:Darko Lazic - Hartford
DESCRIPTION:Darko Lazic live in New Britain. Vise informacija 860-833-2812
URL:https://izprveruke.com/event/darko-lazic-hartford/
LOCATION:Casablanca Hall\, 209 Smalley St.\, New Britain\, Connecticut\, United States
CATEGORIES:Koncerti
ATTACH;FMTTYPE=image/jpeg:https://izprveruke.com/wp-content/uploads/2024/01/darkolazic.jpg
GEO:41.6736129;-72.7651105
X-APPLE-STRUCTURED-LOCATION;VALUE=URI;X-ADDRESS=Casablanca Hall 209 Smalley St. New Britain Connecticut United States;X-APPLE-RADIUS=500;X-TITLE=209 Smalley St.:geo:-72.7651105,41.6736129
END:VEVENT
BEGIN:VEVENT
DTSTART;TZID=America/Los_Angeles:20240209T203000
DTEND;TZID=America/Los_Angeles:20240209T235959
DTSTAMP:20260425T090537
CREATED:20240115T214803Z
LAST-MODIFIED:20240115T220509Z
UID:10001319-1707510600-1707523199@izprveruke.com
SUMMARY:Hule & Begzo - Detroit
DESCRIPTION:Hule Mesaljic\, Begzo & muzicka pratnja Esef Mustafic. Vise informacija 586-915-8497
URL:https://izprveruke.com/event/hule-begzo-detroit/
LOCATION:Saraj Cafe\, 28845 Hoover Rd.\, Warren\, MI\, United States
CATEGORIES:Koncerti
ATTACH;FMTTYPE=image/png:https://izprveruke.com/wp-content/uploads/2022/10/hule.png
GEO:42.5064411;-83.0072376
X-APPLE-STRUCTURED-LOCATION;VALUE=URI;X-ADDRESS=Saraj Cafe 28845 Hoover Rd. Warren MI United States;X-APPLE-RADIUS=500;X-TITLE=28845 Hoover Rd.:geo:-83.0072376,42.5064411
END:VEVENT
BEGIN:VEVENT
DTSTART;TZID=America/Los_Angeles:20240210T203000
DTEND;TZID=America/Los_Angeles:20240210T235900
DTSTAMP:20260425T090537
CREATED:20240118T034428Z
LAST-MODIFIED:20240209T023531Z
UID:10001347-1707597000-1707609540@izprveruke.com
SUMMARY:Darko Lazic - New Jersey
DESCRIPTION:Darko Lazic live in New Jersey. Vise informacija 973-703-0105
URL:https://izprveruke.com/event/darko-lazic-new-jersey/
LOCATION:Macedonian Cultural Center\, 1050 Prompton Avenue\, Cedar Grove\, NJ\, United States
CATEGORIES:Koncerti
ATTACH;FMTTYPE=image/jpeg:https://izprveruke.com/wp-content/uploads/2024/01/darkolazic.jpg
GEO:40.8517876;-74.2290319
X-APPLE-STRUCTURED-LOCATION;VALUE=URI;X-ADDRESS=Macedonian Cultural Center 1050 Prompton Avenue Cedar Grove NJ United States;X-APPLE-RADIUS=500;X-TITLE=1050 Prompton Avenue:geo:-74.2290319,40.8517876
END:VEVENT
BEGIN:VEVENT
DTSTART;TZID=America/Los_Angeles:20240210T203000
DTEND;TZID=America/Los_Angeles:20240210T235959
DTSTAMP:20260425T090537
CREATED:20240115T215023Z
LAST-MODIFIED:20240115T215026Z
UID:10001320-1707597000-1707609599@izprveruke.com
SUMMARY:Hule & Begzo - St. Louis
DESCRIPTION:Hule Mesaljic\, Begzo & muzicka pratnja Esef Mustafic. Vise informacija 314-467-0724
URL:https://izprveruke.com/event/hule-begzo-st-louis/
LOCATION:Bistro Banquet Hall\, 5209 Gravois Rd\, Saint Louis\, 63116
CATEGORIES:Koncerti
ATTACH;FMTTYPE=image/png:https://izprveruke.com/wp-content/uploads/2022/10/hule.png
GEO:38.5798646;-90.2693313
X-APPLE-STRUCTURED-LOCATION;VALUE=URI;X-ADDRESS=Bistro Banquet Hall 5209 Gravois Rd Saint Louis 63116;X-APPLE-RADIUS=500;X-TITLE=5209 Gravois Rd:geo:-90.2693313,38.5798646
END:VEVENT
BEGIN:VEVENT
DTSTART;TZID=America/Los_Angeles:20240211T203000
DTEND;TZID=America/Los_Angeles:20240211T235900
DTSTAMP:20260425T090537
CREATED:20240118T033850Z
LAST-MODIFIED:20240209T023601Z
UID:10001343-1707683400-1707695940@izprveruke.com
SUMMARY:Darko Lazic - Utica
DESCRIPTION:Darko Lazic live in Utica. Vise informacija 315-527-3856
URL:https://izprveruke.com/event/darko-lazic-utica/
LOCATION:Una Bar\, 620 Eagle St.\, Utica\, NY\, United States
CATEGORIES:Koncerti
ATTACH;FMTTYPE=image/jpeg:https://izprveruke.com/wp-content/uploads/2024/01/darkolazic.jpg
GEO:43.0893226;-75.2249112
X-APPLE-STRUCTURED-LOCATION;VALUE=URI;X-ADDRESS=Una Bar 620 Eagle St. Utica NY United States;X-APPLE-RADIUS=500;X-TITLE=620 Eagle St.:geo:-75.2249112,43.0893226
END:VEVENT
BEGIN:VEVENT
DTSTART;TZID=America/Los_Angeles:20240214T203000
DTEND;TZID=America/Los_Angeles:20240214T235900
DTSTAMP:20260425T090537
CREATED:20240115T231954Z
LAST-MODIFIED:20240214T045429Z
UID:10001338-1707942600-1707955140@izprveruke.com
SUMMARY:Darko Lazic - Las Vegas
DESCRIPTION:Darko Lazic live in Las Vegas. Vise informacija 702-824-4699
URL:https://izprveruke.com/event/darko-lazic-las-vegas/
LOCATION:Cafe Derbi\, 5920 W. Flamingo Rd.\, Las Vegas\, NV\, United States
CATEGORIES:Koncerti
ATTACH;FMTTYPE=image/jpeg:https://izprveruke.com/wp-content/uploads/2024/01/darkolazic.jpg
GEO:36.1154263;-115.2221234
X-APPLE-STRUCTURED-LOCATION;VALUE=URI;X-ADDRESS=Cafe Derbi 5920 W. Flamingo Rd. Las Vegas NV United States;X-APPLE-RADIUS=500;X-TITLE=5920 W. Flamingo Rd.:geo:-115.2221234,36.1154263
END:VEVENT
BEGIN:VEVENT
DTSTART;TZID=America/Los_Angeles:20240216T203000
DTEND;TZID=America/Los_Angeles:20240216T235900
DTSTAMP:20260425T090537
CREATED:20240118T033956Z
LAST-MODIFIED:20240214T045450Z
UID:10001344-1708115400-1708127940@izprveruke.com
SUMMARY:Darko Lazic - Portland
DESCRIPTION:Darko Lazic live in Portland. Vise informacija 503-936-9539
URL:https://izprveruke.com/event/darko-lazic-portland/
LOCATION:SLA Club\, 11610 SE Holgate Blvd.\, Portland\, OR\, United States
CATEGORIES:Koncerti
ATTACH;FMTTYPE=image/jpeg:https://izprveruke.com/wp-content/uploads/2024/01/darkolazic.jpg
GEO:45.4894625;-122.5437097
X-APPLE-STRUCTURED-LOCATION;VALUE=URI;X-ADDRESS=SLA Club 11610 SE Holgate Blvd. Portland OR United States;X-APPLE-RADIUS=500;X-TITLE=11610 SE Holgate Blvd.:geo:-122.5437097,45.4894625
END:VEVENT
BEGIN:VEVENT
DTSTART;TZID=America/Los_Angeles:20240216T203000
DTEND;TZID=America/Los_Angeles:20240216T235959
DTSTAMP:20260425T090537
CREATED:20240115T215232Z
LAST-MODIFIED:20240115T215234Z
UID:10001321-1708115400-1708127999@izprveruke.com
SUMMARY:Hule & Begzo - Atlanta
DESCRIPTION:Hule Mesaljic\, Begzo & muzicka pratnja Esef Mustafic. Vise informacija 678-698-1560
URL:https://izprveruke.com/event/hule-begzo-atlanta/
LOCATION:Lincoln’s Grill\, 219 Gwinnett Dr.\, Lawrenceville\, Georgia\, United States
CATEGORIES:Koncerti
ATTACH;FMTTYPE=image/png:https://izprveruke.com/wp-content/uploads/2022/10/hule.png
GEO:33.9432313;-83.9927606
X-APPLE-STRUCTURED-LOCATION;VALUE=URI;X-ADDRESS=Lincoln’s Grill 219 Gwinnett Dr. Lawrenceville Georgia United States;X-APPLE-RADIUS=500;X-TITLE=219 Gwinnett Dr.:geo:-83.9927606,33.9432313
END:VEVENT
BEGIN:VEVENT
DTSTART;TZID=America/Los_Angeles:20240217T203000
DTEND;TZID=America/Los_Angeles:20240217T235900
DTSTAMP:20260425T090537
CREATED:20240118T034102Z
LAST-MODIFIED:20240214T045511Z
UID:10001345-1708201800-1708214340@izprveruke.com
SUMMARY:Darko Lazic - Cleveland
DESCRIPTION:Darko Lazic live in Cleveland. Vise informacija 440-667-5734
URL:https://izprveruke.com/event/darko-lazic-cleveland/
LOCATION:Sherwin-Gilmour Party Center\, 5947 Mayfield Rd.\, Mayfield Heights\, OH\, United States
CATEGORIES:Koncerti
ATTACH;FMTTYPE=image/jpeg:https://izprveruke.com/wp-content/uploads/2024/01/darkolazic.jpg
GEO:41.5212684;-81.4650012
X-APPLE-STRUCTURED-LOCATION;VALUE=URI;X-ADDRESS=Sherwin-Gilmour Party Center 5947 Mayfield Rd. Mayfield Heights OH United States;X-APPLE-RADIUS=500;X-TITLE=5947 Mayfield Rd.:geo:-81.4650012,41.5212684
END:VEVENT
BEGIN:VEVENT
DTSTART;TZID=America/Los_Angeles:20240217T203000
DTEND;TZID=America/Los_Angeles:20240217T235900
DTSTAMP:20260425T090537
CREATED:20240214T051123Z
LAST-MODIFIED:20240214T051125Z
UID:10001353-1708201800-1708214340@izprveruke.com
SUMMARY:Rock Ko Fol - San Francisco
DESCRIPTION:Nakon ovogodisnje januarske turneje\,evropskih gradova i fantasticne publike koja je svojom podrskom\,brojem i pjevanjem zadala nove “levele” i standarde na nasim svirkama\,evo nas ponovo na mjestu gdje je sve pocelo. \n\n\n\nVise informacija 415-328-6436 
URL:https://izprveruke.com/event/rock-ko-fol-san-francisco-3/
LOCATION:Vinnie’s Bar And Grill\, 2045 Mt Diablo St.\, Concord\, California\, United States
CATEGORIES:Koncerti
ATTACH;FMTTYPE=image/jpeg:https://izprveruke.com/wp-content/uploads/2022/02/rkf.jpg
GEO:37.9778056;-122.0352215
X-APPLE-STRUCTURED-LOCATION;VALUE=URI;X-ADDRESS=Vinnie’s Bar And Grill 2045 Mt Diablo St. Concord California United States;X-APPLE-RADIUS=500;X-TITLE=2045 Mt Diablo St.:geo:-122.0352215,37.9778056
END:VEVENT
BEGIN:VEVENT
DTSTART;TZID=America/Los_Angeles:20240217T203000
DTEND;TZID=America/Los_Angeles:20240217T235959
DTSTAMP:20260425T090537
CREATED:20240115T215532Z
LAST-MODIFIED:20240115T221136Z
UID:10001322-1708201800-1708214399@izprveruke.com
SUMMARY:Hule & Begzo - Bowling Green
DESCRIPTION:Hule Mesaljic\, Begzo & muzicka pratnja Esef Mustafic. Vise informacija 270-320-2180
URL:https://izprveruke.com/event/hule-begzo-bowling-green/
LOCATION:Toro\, 1760 Scottsville Rd.\, Bowling Green\, Kentucky\, United States
CATEGORIES:Koncerti
ATTACH;FMTTYPE=image/png:https://izprveruke.com/wp-content/uploads/2022/10/hule.png
GEO:36.9675181;-86.4320548
X-APPLE-STRUCTURED-LOCATION;VALUE=URI;X-ADDRESS=Toro 1760 Scottsville Rd. Bowling Green Kentucky United States;X-APPLE-RADIUS=500;X-TITLE=1760 Scottsville Rd.:geo:-86.4320548,36.9675181
END:VEVENT
BEGIN:VEVENT
DTSTART;TZID=America/Los_Angeles:20240223T203000
DTEND;TZID=America/Los_Angeles:20240223T235900
DTSTAMP:20260425T090537
CREATED:20240214T051712Z
LAST-MODIFIED:20240214T051714Z
UID:10001354-1708720200-1708732740@izprveruke.com
SUMMARY:Rock Ko Fol - Chicago
DESCRIPTION:Rock ko Fol live in Chicago. Vise informacija 312-731-8708 
URL:https://izprveruke.com/event/rock-ko-fol-chicago-2/
LOCATION:Imperia Lounge\, 2610 W Peterson Ave.\, Chicago\, Illinois\, United States
CATEGORIES:Koncerti
ATTACH;FMTTYPE=image/jpeg:https://izprveruke.com/wp-content/uploads/2022/02/rkf.jpg
GEO:41.9906608;-87.6951336
X-APPLE-STRUCTURED-LOCATION;VALUE=URI;X-ADDRESS=Imperia Lounge 2610 W Peterson Ave. Chicago Illinois United States;X-APPLE-RADIUS=500;X-TITLE=2610 W Peterson Ave.:geo:-87.6951336,41.9906608
END:VEVENT
BEGIN:VEVENT
DTSTART;TZID=America/Los_Angeles:20240223T203000
DTEND;TZID=America/Los_Angeles:20240223T235959
DTSTAMP:20260425T090537
CREATED:20240115T220259Z
LAST-MODIFIED:20240115T220301Z
UID:10001323-1708720200-1708732799@izprveruke.com
SUMMARY:Hule & Begzo - Jacksonville
DESCRIPTION:Hule Mesaljic\, Begzo & muzicka pratnja Esef Mustafic. Vise informacija 904-525-5182
URL:https://izprveruke.com/event/hule-begzo-jacksonville/
LOCATION:The Spot Hookah Lounge\, 12226 Beach Blvd.\, Jacksonville\, FL\, United States
CATEGORIES:Koncerti
ATTACH;FMTTYPE=image/png:https://izprveruke.com/wp-content/uploads/2022/10/hule.png
GEO:30.2864931;-81.494915
X-APPLE-STRUCTURED-LOCATION;VALUE=URI;X-ADDRESS=The Spot Hookah Lounge 12226 Beach Blvd. Jacksonville FL United States;X-APPLE-RADIUS=500;X-TITLE=12226 Beach Blvd.:geo:-81.494915,30.2864931
END:VEVENT
BEGIN:VEVENT
DTSTART;TZID=America/Los_Angeles:20240224T203000
DTEND;TZID=America/Los_Angeles:20240224T235900
DTSTAMP:20260425T090537
CREATED:20240214T051851Z
LAST-MODIFIED:20240214T051853Z
UID:10001355-1708806600-1708819140@izprveruke.com
SUMMARY:Rock Ko Fol - Detroit
DESCRIPTION:Rock ko Fol live in Detroit. Vise informacija 313-610-1312
URL:https://izprveruke.com/event/rock-ko-fol-detroit/
LOCATION:Club Coyotes\, 9711 Conant St.\, Hamtramck\, MI\, United States
CATEGORIES:Koncerti
ATTACH;FMTTYPE=image/jpeg:https://izprveruke.com/wp-content/uploads/2022/02/rkf.jpg
GEO:42.3992556;-83.0507825
X-APPLE-STRUCTURED-LOCATION;VALUE=URI;X-ADDRESS=Club Coyotes 9711 Conant St. Hamtramck MI United States;X-APPLE-RADIUS=500;X-TITLE=9711 Conant St.:geo:-83.0507825,42.3992556
END:VEVENT
BEGIN:VEVENT
DTSTART;TZID=America/Los_Angeles:20240224T203000
DTEND;TZID=America/Los_Angeles:20240224T235959
DTSTAMP:20260425T090537
CREATED:20240115T220415Z
LAST-MODIFIED:20240115T220417Z
UID:10001324-1708806600-1708819199@izprveruke.com
SUMMARY:Hule & Begzo - Richmond
DESCRIPTION:Hule Mesaljic\, Begzo & muzicka pratnja Esef Mustafic. Vise informacija 804-655-9764
URL:https://izprveruke.com/event/hule-begzo-richmond/
LOCATION:Bosna Restaurant\, 8030 W Broad St.\, Henrico\, Virginia\, United States
CATEGORIES:Koncerti
ATTACH;FMTTYPE=image/png:https://izprveruke.com/wp-content/uploads/2022/10/hule.png
GEO:37.6268696;-77.5298531
X-APPLE-STRUCTURED-LOCATION;VALUE=URI;X-ADDRESS=Bosna Restaurant 8030 W Broad St. Henrico Virginia United States;X-APPLE-RADIUS=500;X-TITLE=8030 W Broad St.:geo:-77.5298531,37.6268696
END:VEVENT
BEGIN:VEVENT
DTSTART;TZID=America/Los_Angeles:20240224T210000
DTEND;TZID=America/Los_Angeles:20240225T030000
DTSTAMP:20260425T090537
CREATED:20240222T020743Z
LAST-MODIFIED:20240222T020926Z
UID:10001359-1708808400-1708830000@izprveruke.com
SUMMARY:Adnan Babajic - Chicago
DESCRIPTION:Promocija nove pjesme Adnana Babajica “Budala” uz specijalne goste. Ulaz slobodan.
URL:https://izprveruke.com/event/adnan-babajic-skadarliya/
LOCATION:Skadarliya\, 9237 West Ogden Ave.\, Brookfield\, IL\, United States
CATEGORIES:Žurke
ATTACH;FMTTYPE=image/png:https://izprveruke.com/wp-content/uploads/2022/12/adnanbabajic.png
GEO:41.8167634;-87.8534024
X-APPLE-STRUCTURED-LOCATION;VALUE=URI;X-ADDRESS=Skadarliya 9237 West Ogden Ave. Brookfield IL United States;X-APPLE-RADIUS=500;X-TITLE=9237 West Ogden Ave.:geo:-87.8534024,41.8167634
END:VEVENT
BEGIN:VEVENT
DTSTART;TZID=America/Los_Angeles:20240301T203000
DTEND;TZID=America/Los_Angeles:20240301T235900
DTSTAMP:20260425T090537
CREATED:20240214T052237Z
LAST-MODIFIED:20240214T052445Z
UID:10001357-1709325000-1709337540@izprveruke.com
SUMMARY:Maya Berovic - Chicago
DESCRIPTION:Maya Berovic live in Chicago. \n\n\n\nVise info 773-425-3911
URL:https://izprveruke.com/event/maya-berovic-chicago/
LOCATION:Stereo Nightclub\, 5616 W Diversey Ave.\, Chicago\, Illinois\, United States
CATEGORIES:Koncerti
ATTACH;FMTTYPE=image/jpeg:https://izprveruke.com/wp-content/uploads/2023/11/mayaberovic.jpg
GEO:41.931541;-87.7669881
X-APPLE-STRUCTURED-LOCATION;VALUE=URI;X-ADDRESS=Stereo Nightclub 5616 W Diversey Ave. Chicago Illinois United States;X-APPLE-RADIUS=500;X-TITLE=5616 W Diversey Ave.:geo:-87.7669881,41.931541
END:VEVENT
BEGIN:VEVENT
DTSTART;TZID=America/Los_Angeles:20240301T203000
DTEND;TZID=America/Los_Angeles:20240301T235959
DTSTAMP:20260425T090537
CREATED:20240117T021857Z
LAST-MODIFIED:20240117T021859Z
UID:10001340-1709325000-1709337599@izprveruke.com
SUMMARY:Hule & Begzo - Manchester
DESCRIPTION:Hule Mesaljic\, Begzo & muzicka pratnja Esef Mustafic.
URL:https://izprveruke.com/event/hule-begzo-manchester/
LOCATION:3Kitchen Restaurant\, 333 Valley St.\, Manchester\, New Hampshire\, United States
CATEGORIES:Koncerti
ATTACH;FMTTYPE=image/png:https://izprveruke.com/wp-content/uploads/2022/10/hule.png
GEO:42.9810527;-71.4546736
X-APPLE-STRUCTURED-LOCATION;VALUE=URI;X-ADDRESS=3Kitchen Restaurant 333 Valley St. Manchester New Hampshire United States;X-APPLE-RADIUS=500;X-TITLE=333 Valley St.:geo:-71.4546736,42.9810527
END:VEVENT
BEGIN:VEVENT
DTSTART;TZID=America/Los_Angeles:20240302T203000
DTEND;TZID=America/Los_Angeles:20240302T235900
DTSTAMP:20260425T090537
CREATED:20240214T052635Z
LAST-MODIFIED:20240214T052636Z
UID:10001358-1709411400-1709423940@izprveruke.com
SUMMARY:Maya Berovic - New York
DESCRIPTION:Maya Berovic live in NYC. \n\n\n\nVise info 917-568-3496 & 646-261-3252
URL:https://izprveruke.com/event/maya-berovic-new-york/
LOCATION:Stereo Nightclub\, 5616 W Diversey Ave.\, Chicago\, Illinois\, United States
CATEGORIES:Koncerti
ATTACH;FMTTYPE=image/jpeg:https://izprveruke.com/wp-content/uploads/2023/11/mayaberovic.jpg
GEO:41.931541;-87.7669881
X-APPLE-STRUCTURED-LOCATION;VALUE=URI;X-ADDRESS=Stereo Nightclub 5616 W Diversey Ave. Chicago Illinois United States;X-APPLE-RADIUS=500;X-TITLE=5616 W Diversey Ave.:geo:-87.7669881,41.931541
END:VEVENT
BEGIN:VEVENT
DTSTART;TZID=America/Los_Angeles:20240302T203000
DTEND;TZID=America/Los_Angeles:20240302T235959
DTSTAMP:20260425T090537
CREATED:20240115T221230Z
LAST-MODIFIED:20240117T021440Z
UID:10001325-1709411400-1709423999@izprveruke.com
SUMMARY:Hule & Begzo - Utica
DESCRIPTION:Hule Mesaljic\, Begzo & muzicka pratnja Esef Mustafic. Vise informacija 315-527-3856
URL:https://izprveruke.com/event/hule-begzo-utica/
LOCATION:Una Bar\, 620 Eagle St.\, Utica\, NY\, United States
CATEGORIES:Koncerti
ATTACH;FMTTYPE=image/png:https://izprveruke.com/wp-content/uploads/2022/10/hule.png
GEO:43.0893226;-75.2249112
X-APPLE-STRUCTURED-LOCATION;VALUE=URI;X-ADDRESS=Una Bar 620 Eagle St. Utica NY United States;X-APPLE-RADIUS=500;X-TITLE=620 Eagle St.:geo:-75.2249112,43.0893226
END:VEVENT
BEGIN:VEVENT
DTSTART;TZID=America/Los_Angeles:20240405T203000
DTEND;TZID=America/Los_Angeles:20240405T235900
DTSTAMP:20260425T090537
CREATED:20240305T022831Z
LAST-MODIFIED:20240305T022833Z
UID:10001365-1712349000-1712361540@izprveruke.com
SUMMARY:Petar Graso - Cleveland
DESCRIPTION:Dalmacija Night with Petar Graso and the band.
URL:https://izprveruke.com/event/petar-graso-cleveland/
LOCATION:The American-Croatian Lodge\, 34900 Lakeshore Blvd #301\, Eastlake\, Ohio\, United States
CATEGORIES:Koncerti
ATTACH;FMTTYPE=image/jpeg:https://izprveruke.com/wp-content/uploads/2024/03/petargraso.jpg
GEO:41.6626205;-81.4411083
X-APPLE-STRUCTURED-LOCATION;VALUE=URI;X-ADDRESS=The American-Croatian Lodge 34900 Lakeshore Blvd #301 Eastlake Ohio United States;X-APPLE-RADIUS=500;X-TITLE=34900 Lakeshore Blvd #301:geo:-81.4411083,41.6626205
END:VEVENT
BEGIN:VEVENT
DTSTART;TZID=America/Los_Angeles:20240406T203000
DTEND;TZID=America/Los_Angeles:20240406T235900
DTSTAMP:20260425T090537
CREATED:20240305T022921Z
LAST-MODIFIED:20240305T022922Z
UID:10001366-1712435400-1712447940@izprveruke.com
SUMMARY:Petar Graso - Toronto
DESCRIPTION:Dalmacija Night with Petar Graso and the band.
URL:https://izprveruke.com/event/petar-graso-toronto/
LOCATION:Phoenix Concert Theatre\, 410 Sherbourne St.\, Toronto\, ON\, Canada
CATEGORIES:Koncerti
ATTACH;FMTTYPE=image/jpeg:https://izprveruke.com/wp-content/uploads/2024/03/petargraso.jpg
GEO:43.6646816;-79.3741437
X-APPLE-STRUCTURED-LOCATION;VALUE=URI;X-ADDRESS=Phoenix Concert Theatre 410 Sherbourne St. Toronto ON Canada;X-APPLE-RADIUS=500;X-TITLE=410 Sherbourne St.:geo:-79.3741437,43.6646816
END:VEVENT
BEGIN:VEVENT
DTSTART;TZID=America/Los_Angeles:20240407T203000
DTEND;TZID=America/Los_Angeles:20240407T235900
DTSTAMP:20260425T090537
CREATED:20240305T023007Z
LAST-MODIFIED:20240305T023008Z
UID:10001367-1712521800-1712534340@izprveruke.com
SUMMARY:Petar Graso - Vancouver
DESCRIPTION:Dalmacija Night with Petar Graso and the band.
URL:https://izprveruke.com/event/petar-graso-vancouver/
LOCATION:The Red Room\, 98 Richards St.\, Vancouver\, British Columbia\, Canada
CATEGORIES:Koncerti
ATTACH;FMTTYPE=image/jpeg:https://izprveruke.com/wp-content/uploads/2024/03/petargraso.jpg
GEO:49.2788687;-123.1197521
X-APPLE-STRUCTURED-LOCATION;VALUE=URI;X-ADDRESS=The Red Room 98 Richards St. Vancouver British Columbia Canada;X-APPLE-RADIUS=500;X-TITLE=98 Richards St.:geo:-123.1197521,49.2788687
END:VEVENT
BEGIN:VEVENT
DTSTART;TZID=America/Los_Angeles:20240411T203000
DTEND;TZID=America/Los_Angeles:20240411T235900
DTSTAMP:20260425T090538
CREATED:20240305T023100Z
LAST-MODIFIED:20240305T023101Z
UID:10001368-1712867400-1712879940@izprveruke.com
SUMMARY:Petar Graso - San Jose
DESCRIPTION:Dalmacija Night with Petar Graso and the band.
URL:https://izprveruke.com/event/petar-graso-san-jose/
LOCATION:After Bar & Grill\, 1692 Story Rd.\, San Jose\, California\, United States
CATEGORIES:Koncerti
ATTACH;FMTTYPE=image/jpeg:https://izprveruke.com/wp-content/uploads/2024/03/petargraso.jpg
GEO:37.3383899;-121.842219
X-APPLE-STRUCTURED-LOCATION;VALUE=URI;X-ADDRESS=After Bar & Grill 1692 Story Rd. San Jose California United States;X-APPLE-RADIUS=500;X-TITLE=1692 Story Rd.:geo:-121.842219,37.3383899
END:VEVENT
BEGIN:VEVENT
DTSTART;TZID=America/Los_Angeles:20240412T203000
DTEND;TZID=America/Los_Angeles:20240412T235900
DTSTAMP:20260425T090538
CREATED:20240115T230710Z
LAST-MODIFIED:20240115T231538Z
UID:10001332-1712953800-1712966340@izprveruke.com
SUMMARY:Halid Beslic - Atlanta
DESCRIPTION:Halid Beslic live in Atlanta. Vise informacija 678-517-0001
URL:https://izprveruke.com/event/halid-beslic-atlanta/
LOCATION:The Atrium\, 5479 Memorial Dr.\, Stone Mountain\, Georgia\, United States
CATEGORIES:Koncerti
ATTACH;FMTTYPE=image/jpeg:https://izprveruke.com/wp-content/uploads/2024/01/halidbeslic.jpg
GEO:33.7986857;-84.2135699
X-APPLE-STRUCTURED-LOCATION;VALUE=URI;X-ADDRESS=The Atrium 5479 Memorial Dr. Stone Mountain Georgia United States;X-APPLE-RADIUS=500;X-TITLE=5479 Memorial Dr.:geo:-84.2135699,33.7986857
END:VEVENT
BEGIN:VEVENT
DTSTART;TZID=America/Los_Angeles:20240412T203000
DTEND;TZID=America/Los_Angeles:20240412T235900
DTSTAMP:20260425T090538
CREATED:20240305T023244Z
LAST-MODIFIED:20240409T233952Z
UID:10001370-1712953800-1712966340@izprveruke.com
SUMMARY:Petar Graso - Los Angeles
DESCRIPTION:Dalmacija Night with Petar Graso and the band. More information 818-648-0582 & 714-595-4847.
URL:https://izprveruke.com/event/petar-graso-los-angeles/
LOCATION:St. Anthony Croatian Catholic Church\, 712 N Grand Ave.\, Los Angeles\, California\, United States
CATEGORIES:Koncerti
ATTACH;FMTTYPE=image/jpeg:https://izprveruke.com/wp-content/uploads/2024/03/petargraso.jpg
GEO:34.0629577;-118.2430999
X-APPLE-STRUCTURED-LOCATION;VALUE=URI;X-ADDRESS=St. Anthony Croatian Catholic Church 712 N Grand Ave. Los Angeles California United States;X-APPLE-RADIUS=500;X-TITLE=712 N Grand Ave.:geo:-118.2430999,34.0629577
END:VEVENT
END:VCALENDAR