BEGIN:VCALENDAR
VERSION:2.0
PRODID:-//Iz Prve Ruke - Koncerti u Americi i Kanadi | Lokalna Dešavanja - ECPv6.15.20//NONSGML v1.0//EN
CALSCALE:GREGORIAN
METHOD:PUBLISH
X-WR-CALNAME:Iz Prve Ruke - Koncerti u Americi i Kanadi | Lokalna Dešavanja
X-ORIGINAL-URL:https://izprveruke.com
X-WR-CALDESC:Events for Iz Prve Ruke - Koncerti u Americi i Kanadi | Lokalna Dešavanja
REFRESH-INTERVAL;VALUE=DURATION:PT1H
X-Robots-Tag:noindex
X-PUBLISHED-TTL:PT1H
BEGIN:VTIMEZONE
TZID:America/Los_Angeles
BEGIN:DAYLIGHT
TZOFFSETFROM:-0800
TZOFFSETTO:-0700
TZNAME:PDT
DTSTART:20220313T100000
END:DAYLIGHT
BEGIN:STANDARD
TZOFFSETFROM:-0700
TZOFFSETTO:-0800
TZNAME:PST
DTSTART:20221106T090000
END:STANDARD
BEGIN:DAYLIGHT
TZOFFSETFROM:-0800
TZOFFSETTO:-0700
TZNAME:PDT
DTSTART:20230312T100000
END:DAYLIGHT
BEGIN:STANDARD
TZOFFSETFROM:-0700
TZOFFSETTO:-0800
TZNAME:PST
DTSTART:20231105T090000
END:STANDARD
BEGIN:DAYLIGHT
TZOFFSETFROM:-0800
TZOFFSETTO:-0700
TZNAME:PDT
DTSTART:20240310T100000
END:DAYLIGHT
BEGIN:STANDARD
TZOFFSETFROM:-0700
TZOFFSETTO:-0800
TZNAME:PST
DTSTART:20241103T090000
END:STANDARD
BEGIN:DAYLIGHT
TZOFFSETFROM:-0800
TZOFFSETTO:-0700
TZNAME:PDT
DTSTART:20250309T100000
END:DAYLIGHT
BEGIN:STANDARD
TZOFFSETFROM:-0700
TZOFFSETTO:-0800
TZNAME:PST
DTSTART:20251102T090000
END:STANDARD
END:VTIMEZONE
BEGIN:VEVENT
DTSTART;TZID=America/Los_Angeles:20231231T203000
DTEND;TZID=America/Los_Angeles:20231231T235900
DTSTAMP:20260425T054757
CREATED:20231114T041702Z
LAST-MODIFIED:20231114T061918Z
UID:10001270-1704054600-1704067140@izprveruke.com
SUMMARY:Tanja Savic & Armin Dedic - Docek Nove 2024. - Chicago
DESCRIPTION:Tanja Savic & Armin Dedic live in Chicago. \n\n\n\nAll Inclusive | Premium Open Bar | Novogodisnja Vecera | Besplatan Parking | All Ages. \n\n\n\nVise informacija i rezervacije 773-425-3911
URL:https://izprveruke.com/event/tanja-dedic-docek-nove-2024-chicago/
LOCATION:Elmcrest Banquets\, 7370 W. Grand Ave.\, Elmwood Park\, IL\, United States
CATEGORIES:Koncerti
ATTACH;FMTTYPE=image/jpeg:https://izprveruke.com/wp-content/uploads/2023/11/tanjasavic_armindedic.jpg
GEO:41.9249815;-87.8108309
X-APPLE-STRUCTURED-LOCATION;VALUE=URI;X-ADDRESS=Elmcrest Banquets 7370 W. Grand Ave. Elmwood Park IL United States;X-APPLE-RADIUS=500;X-TITLE=7370 W. Grand Ave.:geo:-87.8108309,41.9249815
END:VEVENT
BEGIN:VEVENT
DTSTART;TZID=America/Los_Angeles:20231231T203000
DTEND;TZID=America/Los_Angeles:20231231T235900
DTSTAMP:20260425T054757
CREATED:20231114T040116Z
LAST-MODIFIED:20231114T040306Z
UID:10001269-1704054600-1704067140@izprveruke.com
SUMMARY:Emir & Lejla - Docek Nove 2024. - Bowling Green
DESCRIPTION:Emir Djulovic & Lejla Bajrami live in Bowling Green.  \n\n\n\nAll Inclusive | Open Bar | Novogodisnja vecera \n\n\n\nVise informacija i rezervacije 270-320-2180
URL:https://izprveruke.com/event/docek-nove-2024-emir-lejla-bowling-green/
LOCATION:La Gala\, 601 State St.\, Bowling Green\, KY\, United States
CATEGORIES:Koncerti
ATTACH;FMTTYPE=image/jpeg:https://izprveruke.com/wp-content/uploads/2023/11/emir_lejla.jpg
GEO:36.9955127;-86.4372742
X-APPLE-STRUCTURED-LOCATION;VALUE=URI;X-ADDRESS=La Gala 601 State St. Bowling Green KY United States;X-APPLE-RADIUS=500;X-TITLE=601 State St.:geo:-86.4372742,36.9955127
END:VEVENT
BEGIN:VEVENT
DTSTART;TZID=America/Los_Angeles:20231231T193000
DTEND;TZID=America/Los_Angeles:20240101T033000
DTSTAMP:20260425T054757
CREATED:20231223T234850Z
LAST-MODIFIED:20231223T234906Z
UID:10001301-1704051000-1704079800@izprveruke.com
SUMMARY:Boban Rajovic - Docek Nove 2024 - Cleveland
DESCRIPTION:Dođite i pridružite nam se na spektakularnom večeri muzike\, igre i slavlja u Event centru kod Svetog Save! Spremite se da proslavite svoju Novu godinu sa neverovatnim Bobanom Rajovićem. Ovaj lični događaj obećava da će biti nezaboravno\, ispunjeno visokom energijom\, fantastičnom večerom i još neverovatnijom publikom. Ne propustite ovu priliku da dočekate Novu godinu sa stilom!
URL:https://izprveruke.com/event/boban-rajovic-docek-nove-2024-cleveland/
LOCATION:Event Center at Saint Sava’s\, 2151 West Wallings Road\, Cleveland\, Ohio\, United States
CATEGORIES:Koncerti,Žurke
ATTACH;FMTTYPE=image/png:https://izprveruke.com/wp-content/uploads/2023/05/bobanrajovic.png
ORGANIZER;CN="St Sava Serbian Orthodox Church%2C Broadview Heights":MAILTO:pavle.majerle@gmail.com
GEO:41.3402991;-81.6957923
X-APPLE-STRUCTURED-LOCATION;VALUE=URI;X-ADDRESS=Event Center at Saint Sava’s 2151 West Wallings Road Cleveland Ohio United States;X-APPLE-RADIUS=500;X-TITLE=2151 West Wallings Road:geo:-81.6957923,41.3402991
END:VEVENT
BEGIN:VEVENT
DTSTART;TZID=America/Los_Angeles:20231230T203000
DTEND;TZID=America/Los_Angeles:20231230T235900
DTSTAMP:20260425T054757
CREATED:20231223T232429Z
LAST-MODIFIED:20231223T232431Z
UID:10001303-1703968200-1703980740@izprveruke.com
SUMMARY:Zeljko Vasic - Edmonton
DESCRIPTION:Zeljko Vasic live in Edmonton.  \n\n\n\nVise informacija i rezervacije 403-607-2113
URL:https://izprveruke.com/event/zeljko-vasic-edmonton/
LOCATION:Provincial Kitchen & Bar\, 4211 106 Street NW\, Edmonton\, AB\, Canada
CATEGORIES:Koncerti
ATTACH;FMTTYPE=image/jpeg:https://izprveruke.com/wp-content/uploads/2023/12/zeljkovasic.jpg
GEO:53.4796265;-113.5017718
X-APPLE-STRUCTURED-LOCATION;VALUE=URI;X-ADDRESS=Provincial Kitchen & Bar 4211 106 Street NW Edmonton AB Canada;X-APPLE-RADIUS=500;X-TITLE=4211 106 Street NW:geo:-113.5017718,53.4796265
END:VEVENT
BEGIN:VEVENT
DTSTART;TZID=America/Los_Angeles:20231230T203000
DTEND;TZID=America/Los_Angeles:20231230T235900
DTSTAMP:20260425T054757
CREATED:20231122T054946Z
LAST-MODIFIED:20231122T055309Z
UID:10001291-1703968200-1703980740@izprveruke.com
SUMMARY:Dara Bubamara & Anid Cusic - Grand Rapids
DESCRIPTION:Dara Bubamara & Anid Cusic live in Grand Rapids. \n\n\n\nVise informacija 616-272-1523 & 773-732-0148
URL:https://izprveruke.com/event/dara-bubamara-anid-cusic-grand-rapids/
LOCATION:Sheraton Grand Rapids Airport\, 5700 28th St. SE\, Grand Rapids\, Michigan\, United States
CATEGORIES:Koncerti
ATTACH;FMTTYPE=image/jpeg:https://izprveruke.com/wp-content/uploads/2023/11/darabubamara_anidcusic-1.jpg
GEO:42.9120103;-85.5257567
X-APPLE-STRUCTURED-LOCATION;VALUE=URI;X-ADDRESS=Sheraton Grand Rapids Airport 5700 28th St. SE Grand Rapids Michigan United States;X-APPLE-RADIUS=500;X-TITLE=5700 28th St. SE:geo:-85.5257567,42.9120103
END:VEVENT
BEGIN:VEVENT
DTSTART;TZID=America/Los_Angeles:20231230T203000
DTEND;TZID=America/Los_Angeles:20231230T235900
DTSTAMP:20260425T054757
CREATED:20231118T061308Z
LAST-MODIFIED:20231118T061310Z
UID:10001276-1703968200-1703980740@izprveruke.com
SUMMARY:Maya Berovic - Des Moines
DESCRIPTION:Maya Berovic live in Des Moines. \n\n\n\nVise info 515-867-8012
URL:https://izprveruke.com/event/maya-berovic-des-moines/
LOCATION:Stoney Creek Hotel\, 5291 Stoney Creek\, Johnston\, Iowa\, United States
CATEGORIES:Koncerti
ATTACH;FMTTYPE=image/jpeg:https://izprveruke.com/wp-content/uploads/2023/11/mayaberovic.jpg
GEO:41.6570545;-93.7324811
X-APPLE-STRUCTURED-LOCATION;VALUE=URI;X-ADDRESS=Stoney Creek Hotel 5291 Stoney Creek Johnston Iowa United States;X-APPLE-RADIUS=500;X-TITLE=5291 Stoney Creek:geo:-93.7324811,41.6570545
END:VEVENT
BEGIN:VEVENT
DTSTART;TZID=America/Los_Angeles:20231229T203000
DTEND;TZID=America/Los_Angeles:20231229T235900
DTSTAMP:20260425T054757
CREATED:20231223T232618Z
LAST-MODIFIED:20231223T232620Z
UID:10001304-1703881800-1703894340@izprveruke.com
SUMMARY:Zeljko Vasic - Vancouver
DESCRIPTION:Zeljko Vasic live in Vancouver.  \n\n\n\nVise informacija 403-607-2113
URL:https://izprveruke.com/event/zeljko-vasic-vancouver/
LOCATION:Balkan House Restaurant\, 7530 Edmonds St.\, Burnaby\, BC\, Canada
CATEGORIES:Koncerti
ATTACH;FMTTYPE=image/jpeg:https://izprveruke.com/wp-content/uploads/2023/12/zeljkovasic.jpg
GEO:49.222185;-122.943934
X-APPLE-STRUCTURED-LOCATION;VALUE=URI;X-ADDRESS=Balkan House Restaurant 7530 Edmonds St. Burnaby BC Canada;X-APPLE-RADIUS=500;X-TITLE=7530 Edmonds St.:geo:-122.943934,49.222185
END:VEVENT
BEGIN:VEVENT
DTSTART;TZID=America/Los_Angeles:20231229T203000
DTEND;TZID=America/Los_Angeles:20231229T235900
DTSTAMP:20260425T054757
CREATED:20231128T050557Z
LAST-MODIFIED:20231128T050600Z
UID:10001292-1703881800-1703894340@izprveruke.com
SUMMARY:Emir Djulovic - Fort Wayne
DESCRIPTION:Emir Djulovic live in Fort Wayne.  \n\n\n\nVise informacija 260-466-1520
URL:https://izprveruke.com/event/emir-djulovic-fort-wayne/
LOCATION:The Venue at Charlie’s Place\, 4201 N Wells St.\, Fort Wayne\, Indiana\, United States
CATEGORIES:Koncerti
ATTACH;FMTTYPE=image/jpeg:https://izprveruke.com/wp-content/uploads/2023/07/emirdjulovic.jpg
GEO:41.1160009;-85.149962
X-APPLE-STRUCTURED-LOCATION;VALUE=URI;X-ADDRESS=The Venue at Charlie’s Place 4201 N Wells St. Fort Wayne Indiana United States;X-APPLE-RADIUS=500;X-TITLE=4201 N Wells St.:geo:-85.149962,41.1160009
END:VEVENT
BEGIN:VEVENT
DTSTART;TZID=America/Los_Angeles:20231229T203000
DTEND;TZID=America/Los_Angeles:20231229T235900
DTSTAMP:20260425T054757
CREATED:20231122T054725Z
LAST-MODIFIED:20231122T055246Z
UID:10001290-1703881800-1703894340@izprveruke.com
SUMMARY:Dara Bubamara & Anid Cusic - Bowling Green
DESCRIPTION:Dara Bubamara & Anid Cusic live in Bowling Green. \n\n\n\nVise informacija 270-320-2180
URL:https://izprveruke.com/event/dara-bubamara-anid-cusic-bowling-green/
LOCATION:La Gala\, 601 State St.\, Bowling Green\, KY\, United States
CATEGORIES:Koncerti
ATTACH;FMTTYPE=image/jpeg:https://izprveruke.com/wp-content/uploads/2023/11/darabubamara_anidcusic-1.jpg
GEO:36.9955127;-86.4372742
X-APPLE-STRUCTURED-LOCATION;VALUE=URI;X-ADDRESS=La Gala 601 State St. Bowling Green KY United States;X-APPLE-RADIUS=500;X-TITLE=601 State St.:geo:-86.4372742,36.9955127
END:VEVENT
BEGIN:VEVENT
DTSTART;TZID=America/Los_Angeles:20231229T203000
DTEND;TZID=America/Los_Angeles:20231229T235900
DTSTAMP:20260425T054757
CREATED:20231122T052627Z
LAST-MODIFIED:20231122T052629Z
UID:10001284-1703881800-1703894340@izprveruke.com
SUMMARY:Tanja Savic & Armin Dedic - St. Petersburg
DESCRIPTION:Tanja Savic & Armin Dedic live in St. Petersburg. \n\n\n\nVise informacija 561-268-6757
URL:https://izprveruke.com/event/tanja-savic-armin-dedic-st-petersburg/
LOCATION:MK Event Hall\, 7599 Park Blvd. #400\, Pinellas Park\, Florida\, United States
CATEGORIES:Koncerti
ATTACH;FMTTYPE=image/jpeg:https://izprveruke.com/wp-content/uploads/2023/11/tanjasavic_armindedic.jpg
GEO:27.8396466;-82.7426582
X-APPLE-STRUCTURED-LOCATION;VALUE=URI;X-ADDRESS=MK Event Hall 7599 Park Blvd. #400 Pinellas Park Florida United States;X-APPLE-RADIUS=500;X-TITLE=7599 Park Blvd. #400:geo:-82.7426582,27.8396466
END:VEVENT
BEGIN:VEVENT
DTSTART;TZID=America/Los_Angeles:20231229T203000
DTEND;TZID=America/Los_Angeles:20231229T235900
DTSTAMP:20260425T054757
CREATED:20231118T061109Z
LAST-MODIFIED:20231118T061111Z
UID:10001275-1703881800-1703894340@izprveruke.com
SUMMARY:Maya Berovic - Atlanta
DESCRIPTION:Maya Berovic live in Atlanta. \n\n\n\nVise info 678-517-0001
URL:https://izprveruke.com/event/maya-berovic-atlanta/
LOCATION:Ehall Atlanta\, 1550 Beaver Ruin Rd.\, Norcross\, GA\, United States
CATEGORIES:Koncerti
ATTACH;FMTTYPE=image/jpeg:https://izprveruke.com/wp-content/uploads/2023/11/mayaberovic.jpg
GEO:33.9316301;-84.1473473
X-APPLE-STRUCTURED-LOCATION;VALUE=URI;X-ADDRESS=Ehall Atlanta 1550 Beaver Ruin Rd. Norcross GA United States;X-APPLE-RADIUS=500;X-TITLE=1550 Beaver Ruin Rd.:geo:-84.1473473,33.9316301
END:VEVENT
BEGIN:VEVENT
DTSTART;TZID=America/Los_Angeles:20231227T203000
DTEND;TZID=America/Los_Angeles:20231227T235900
DTSTAMP:20260425T054757
CREATED:20231122T052927Z
LAST-MODIFIED:20231122T052929Z
UID:10001285-1703709000-1703721540@izprveruke.com
SUMMARY:Tanja Savic & Armin Dedic - Miami
DESCRIPTION:Tanja Savic & Armin Dedic live in Miami. \n\n\n\nUskoro vise informacija…
URL:https://izprveruke.com/event/tanja-savic-armin-dedic-miami/
LOCATION:AZ
CATEGORIES:Koncerti
ATTACH;FMTTYPE=image/jpeg:https://izprveruke.com/wp-content/uploads/2023/11/tanjasavic_armindedic.jpg
END:VEVENT
BEGIN:VEVENT
DTSTART;TZID=America/Los_Angeles:20231226T203000
DTEND;TZID=America/Los_Angeles:20231226T235900
DTSTAMP:20260425T054757
CREATED:20231122T054632Z
LAST-MODIFIED:20231122T055225Z
UID:10001289-1703622600-1703635140@izprveruke.com
SUMMARY:Dara Bubamara & Anid Cusic - Naples
DESCRIPTION:Dara Bubamara & Anid Cusic live in Naples. \n\n\n\nVise informacija 239-255-2422
URL:https://izprveruke.com/event/dara-bubamara-anid-cusic-naples/
LOCATION:Dogtooth Sports and Music Bar\, 5310 Shirley St.\, Naples\, Florida\, United States
CATEGORIES:Koncerti
ATTACH;FMTTYPE=image/jpeg:https://izprveruke.com/wp-content/uploads/2023/11/darabubamara_anidcusic-1.jpg
GEO:26.2121381;-81.7810518
X-APPLE-STRUCTURED-LOCATION;VALUE=URI;X-ADDRESS=Dogtooth Sports and Music Bar 5310 Shirley St. Naples Florida United States;X-APPLE-RADIUS=500;X-TITLE=5310 Shirley St.:geo:-81.7810518,26.2121381
END:VEVENT
BEGIN:VEVENT
DTSTART;TZID=America/Los_Angeles:20231225T203000
DTEND;TZID=America/Los_Angeles:20231225T235900
DTSTAMP:20260425T054757
CREATED:20231209T035217Z
LAST-MODIFIED:20231209T035219Z
UID:10001299-1703536200-1703548740@izprveruke.com
SUMMARY:Dara Bubamara & Anid Cusic - Jacksonville
DESCRIPTION:Dara Bubamara & Anid Cusic live in Jacksonville. \n\n\n\nUskoro vise informacija…
URL:https://izprveruke.com/event/dara-bubamara-anid-cusic-jacksonville/
LOCATION:AZ
CATEGORIES:Koncerti
ATTACH;FMTTYPE=image/jpeg:https://izprveruke.com/wp-content/uploads/2023/11/darabubamara_anidcusic-1.jpg
END:VEVENT
BEGIN:VEVENT
DTSTART;TZID=America/Los_Angeles:20231225T203000
DTEND;TZID=America/Los_Angeles:20231225T235900
DTSTAMP:20260425T054757
CREATED:20231122T052519Z
LAST-MODIFIED:20231220T034211Z
UID:10001283-1703536200-1703548740@izprveruke.com
SUMMARY:Tanja Savic & Armin Dedic - Detroit
DESCRIPTION:Tanja Savic & Armin Dedic live in Detroit. \n\n\n\nVise informacija 586-915-8497
URL:https://izprveruke.com/event/tanja-savic-armin-dedic-detroit/
LOCATION:Yu-Go Lounge\, 23800 Schoenherr Rd.\, Warren\, Michigan\, United States
CATEGORIES:Koncerti
ATTACH;FMTTYPE=image/jpeg:https://izprveruke.com/wp-content/uploads/2023/11/tanjasavic_armindedic.jpg
GEO:42.4698291;-82.9857292
X-APPLE-STRUCTURED-LOCATION;VALUE=URI;X-ADDRESS=Yu-Go Lounge 23800 Schoenherr Rd. Warren Michigan United States;X-APPLE-RADIUS=500;X-TITLE=23800 Schoenherr Rd.:geo:-82.9857292,42.4698291
END:VEVENT
BEGIN:VEVENT
DTSTART;TZID=America/Los_Angeles:20231224T203000
DTEND;TZID=America/Los_Angeles:20231224T235900
DTSTAMP:20260425T054757
CREATED:20231122T054529Z
LAST-MODIFIED:20231209T035114Z
UID:10001288-1703449800-1703462340@izprveruke.com
SUMMARY:Dara Bubamara & Anid Cusic - Utica
DESCRIPTION:Dara Bubamara & Anid Cusic live in Utica. \n\n\n\nUskoro vise informacija…
URL:https://izprveruke.com/event/dara-bubamara-anid-cusic-utica/
LOCATION:AZ
CATEGORIES:Koncerti
ATTACH;FMTTYPE=image/jpeg:https://izprveruke.com/wp-content/uploads/2023/11/darabubamara_anidcusic-1.jpg
END:VEVENT
BEGIN:VEVENT
DTSTART;TZID=America/Los_Angeles:20231224T203000
DTEND;TZID=America/Los_Angeles:20231224T235900
DTSTAMP:20260425T054757
CREATED:20231122T052158Z
LAST-MODIFIED:20231122T052159Z
UID:10001281-1703449800-1703462340@izprveruke.com
SUMMARY:Tanja Savic & Armin Dedic - New Jersey
DESCRIPTION:Tanja Savic & Armin Dedic live in New Jersey. \n\n\n\nVise informacija 973-703-0105
URL:https://izprveruke.com/event/tanja-savic-armin-dedic-new-jersey/
LOCATION:Macedonian Cultural Center\, 1050 Prompton Avenue\, Cedar Grove\, NJ\, United States
CATEGORIES:Koncerti
ATTACH;FMTTYPE=image/jpeg:https://izprveruke.com/wp-content/uploads/2023/11/tanjasavic_armindedic.jpg
GEO:40.8517876;-74.2290319
X-APPLE-STRUCTURED-LOCATION;VALUE=URI;X-ADDRESS=Macedonian Cultural Center 1050 Prompton Avenue Cedar Grove NJ United States;X-APPLE-RADIUS=500;X-TITLE=1050 Prompton Avenue:geo:-74.2290319,40.8517876
END:VEVENT
BEGIN:VEVENT
DTSTART;TZID=America/Los_Angeles:20231224T203000
DTEND;TZID=America/Los_Angeles:20231224T235900
DTSTAMP:20260425T054757
CREATED:20231114T035229Z
LAST-MODIFIED:20231114T035231Z
UID:10001266-1703449800-1703462340@izprveruke.com
SUMMARY:Emir Djulovic - Jacksonville
DESCRIPTION:Emir Djulovic live in Jacksonville.  \n\n\n\nVise informacija 904-866-2732
URL:https://izprveruke.com/event/emir-djulovic-jacksonville/
LOCATION:Smash Whispers Lounge\, 8206 Philips Hwy Unit 6\, Jacksonville\, Florida\, United States
CATEGORIES:Koncerti
ATTACH;FMTTYPE=image/jpeg:https://izprveruke.com/wp-content/uploads/2023/07/emirdjulovic.jpg
GEO:30.2198384;-81.5869658
X-APPLE-STRUCTURED-LOCATION;VALUE=URI;X-ADDRESS=Smash Whispers Lounge 8206 Philips Hwy Unit 6 Jacksonville Florida United States;X-APPLE-RADIUS=500;X-TITLE=8206 Philips Hwy Unit 6:geo:-81.5869658,30.2198384
END:VEVENT
BEGIN:VEVENT
DTSTART;TZID=America/Los_Angeles:20231223T203000
DTEND;TZID=America/Los_Angeles:20231223T235900
DTSTAMP:20260425T054757
CREATED:20231122T054412Z
LAST-MODIFIED:20231122T055109Z
UID:10001287-1703363400-1703375940@izprveruke.com
SUMMARY:Dara Bubamara & Anid Cusic - New York
DESCRIPTION:Dara Bubamara & Anid Cusic live in NYC. \n\n\n\nVise informacija 347-440-3812
URL:https://izprveruke.com/event/dara-bubamara-anid-cusic-new-york/
LOCATION:Cutting Room\, 44 East 32nd Street\, New York\, NY\, United States
CATEGORIES:Koncerti
ATTACH;FMTTYPE=image/jpeg:https://izprveruke.com/wp-content/uploads/2023/11/darabubamara_anidcusic-1.jpg
GEO:40.7127753;-74.0059728
X-APPLE-STRUCTURED-LOCATION;VALUE=URI;X-ADDRESS=Cutting Room 44 East 32nd Street New York NY United States;X-APPLE-RADIUS=500;X-TITLE=44 East 32nd Street:geo:-74.0059728,40.7127753
END:VEVENT
BEGIN:VEVENT
DTSTART;TZID=America/Los_Angeles:20231223T203000
DTEND;TZID=America/Los_Angeles:20231223T235900
DTSTAMP:20260425T054757
CREATED:20231122T052055Z
LAST-MODIFIED:20231122T052057Z
UID:10001280-1703363400-1703375940@izprveruke.com
SUMMARY:Tanja Savic & Armin Dedic - St. Louis
DESCRIPTION:Tanja Savic & Armin Dedic live in St. Louis. \n\n\n\nVise informacija 314-489-4404
URL:https://izprveruke.com/event/tanja-savic-armin-dedic-st-louis/
LOCATION:Orlando’s\, 4300 Hoffmeister Ave.\, St. Louis\, MO\, United States
CATEGORIES:Koncerti
ATTACH;FMTTYPE=image/jpeg:https://izprveruke.com/wp-content/uploads/2023/11/tanjasavic_armindedic.jpg
GEO:38.5428234;-90.2968619
X-APPLE-STRUCTURED-LOCATION;VALUE=URI;X-ADDRESS=Orlando’s 4300 Hoffmeister Ave. St. Louis MO United States;X-APPLE-RADIUS=500;X-TITLE=4300 Hoffmeister Ave.:geo:-90.2968619,38.5428234
END:VEVENT
BEGIN:VEVENT
DTSTART;TZID=America/Los_Angeles:20231223T203000
DTEND;TZID=America/Los_Angeles:20231223T235900
DTSTAMP:20260425T054757
CREATED:20231114T034944Z
LAST-MODIFIED:20231114T034947Z
UID:10001264-1703363400-1703375940@izprveruke.com
SUMMARY:Emir Djulovic - Harrisburg
DESCRIPTION:Emir Djulovic live in Harrisburg.  \n\n\n\nVise informacija 315-601-1228
URL:https://izprveruke.com/event/emir-djulovic-harrisburg/
LOCATION:New Era Restaurant\, 7415 Lincoln Hwy.\, Abbottstown\, PA\, United States
CATEGORIES:Koncerti
ATTACH;FMTTYPE=image/jpeg:https://izprveruke.com/wp-content/uploads/2023/07/emirdjulovic.jpg
GEO:39.8967283;-76.954741
X-APPLE-STRUCTURED-LOCATION;VALUE=URI;X-ADDRESS=New Era Restaurant 7415 Lincoln Hwy. Abbottstown PA United States;X-APPLE-RADIUS=500;X-TITLE=7415 Lincoln Hwy.:geo:-76.954741,39.8967283
END:VEVENT
BEGIN:VEVENT
DTSTART;TZID=America/Los_Angeles:20231222T203000
DTEND;TZID=America/Los_Angeles:20231222T235900
DTSTAMP:20260425T054757
CREATED:20231122T054317Z
LAST-MODIFIED:20231122T055040Z
UID:10001286-1703277000-1703289540@izprveruke.com
SUMMARY:Dara Bubamara & Anid Cusic - Phoenix
DESCRIPTION:Dara Bubamara & Anid Cusic live in Phoenix. \n\n\n\nVise informacija 480-433-5505
URL:https://izprveruke.com/event/dara-bubamara-anid-cusic-phoenix/
LOCATION:CB Live\, 21001 N Tatum Blvd.\, Phoenix\, AZ\, United States
CATEGORIES:Koncerti
ATTACH;FMTTYPE=image/jpeg:https://izprveruke.com/wp-content/uploads/2023/11/darabubamara_anidcusic-1.jpg
GEO:33.6765082;-111.9761103
X-APPLE-STRUCTURED-LOCATION;VALUE=URI;X-ADDRESS=CB Live 21001 N Tatum Blvd. Phoenix AZ United States;X-APPLE-RADIUS=500;X-TITLE=21001 N Tatum Blvd.:geo:-111.9761103,33.6765082
END:VEVENT
BEGIN:VEVENT
DTSTART;TZID=America/Los_Angeles:20231222T203000
DTEND;TZID=America/Los_Angeles:20231222T235900
DTSTAMP:20260425T054757
CREATED:20231122T052002Z
LAST-MODIFIED:20231122T052003Z
UID:10001279-1703277000-1703289540@izprveruke.com
SUMMARY:Tanja Savic & Armin Dedic - Cleveland
DESCRIPTION:Tanja Savic & Armin Dedic live in Cleveland. \n\n\n\nVise informacija 440-667-5734
URL:https://izprveruke.com/event/tanja-savic-armin-dedic-cleveland/
LOCATION:Sherwin-Gilmour Party Center\, 5947 Mayfield Rd.\, Mayfield Heights\, OH\, United States
CATEGORIES:Koncerti
ATTACH;FMTTYPE=image/jpeg:https://izprveruke.com/wp-content/uploads/2023/11/tanjasavic_armindedic.jpg
GEO:41.5212684;-81.4650012
X-APPLE-STRUCTURED-LOCATION;VALUE=URI;X-ADDRESS=Sherwin-Gilmour Party Center 5947 Mayfield Rd. Mayfield Heights OH United States;X-APPLE-RADIUS=500;X-TITLE=5947 Mayfield Rd.:geo:-81.4650012,41.5212684
END:VEVENT
BEGIN:VEVENT
DTSTART;TZID=America/Los_Angeles:20231222T203000
DTEND;TZID=America/Los_Angeles:20231222T235900
DTSTAMP:20260425T054757
CREATED:20231114T035122Z
LAST-MODIFIED:20231114T035124Z
UID:10001265-1703277000-1703289540@izprveruke.com
SUMMARY:Emir Djulovic - Hartford
DESCRIPTION:Emir Djulovic live in Hartford.  \n\n\n\nVise informacija 860-833-2812
URL:https://izprveruke.com/event/emir-djulovic-hartford/
LOCATION:Casablanca Hall\, 209 Smalley St.\, New Britain\, Connecticut\, United States
CATEGORIES:Koncerti
ATTACH;FMTTYPE=image/jpeg:https://izprveruke.com/wp-content/uploads/2023/07/emirdjulovic.jpg
GEO:41.6736129;-72.7651105
X-APPLE-STRUCTURED-LOCATION;VALUE=URI;X-ADDRESS=Casablanca Hall 209 Smalley St. New Britain Connecticut United States;X-APPLE-RADIUS=500;X-TITLE=209 Smalley St.:geo:-72.7651105,41.6736129
END:VEVENT
BEGIN:VEVENT
DTSTART;TZID=America/Los_Angeles:20231220T203000
DTEND;TZID=America/Los_Angeles:20231220T235900
DTSTAMP:20260425T054757
CREATED:20231122T051855Z
LAST-MODIFIED:20231122T051857Z
UID:10001278-1703104200-1703116740@izprveruke.com
SUMMARY:Tanja Savic & Armin Dedic - Las Vegas
DESCRIPTION:Tanja Savic & Armin Dedic live in Las Vegas. \n\n\n\nVise informacija i rezervacije 702-824-4699
URL:https://izprveruke.com/event/tanja-savic-armin-dedic-las-vegas/
LOCATION:Cafe Derbi\, 5920 W. Flamingo Rd.\, Las Vegas\, NV\, United States
CATEGORIES:Koncerti
ATTACH;FMTTYPE=image/jpeg:https://izprveruke.com/wp-content/uploads/2023/11/tanjasavic_armindedic.jpg
GEO:36.1154263;-115.2221234
X-APPLE-STRUCTURED-LOCATION;VALUE=URI;X-ADDRESS=Cafe Derbi 5920 W. Flamingo Rd. Las Vegas NV United States;X-APPLE-RADIUS=500;X-TITLE=5920 W. Flamingo Rd.:geo:-115.2221234,36.1154263
END:VEVENT
BEGIN:VEVENT
DTSTART;TZID=America/Los_Angeles:20231217T203000
DTEND;TZID=America/Los_Angeles:20231217T235900
DTSTAMP:20260425T054757
CREATED:20231209T025132Z
LAST-MODIFIED:20231215T183836Z
UID:10001296-1702845000-1702857540@izprveruke.com
SUMMARY:Pedja Jovanovic - Washington\, DC
DESCRIPTION:Pedja Jovanovic live in Washington\, DC. Vise informacija 571-332-1160
URL:https://izprveruke.com/event/pedja-jovanovic-washington-dc/
LOCATION:Opera Ultra Lounge\, 1400 I St NW\, Washington\, District of Columbia\, United States
CATEGORIES:Koncerti
ATTACH;FMTTYPE=image/jpeg:https://izprveruke.com/wp-content/uploads/2023/10/pedjajovanovic-1.jpg
GEO:38.9010128;-77.0323833
X-APPLE-STRUCTURED-LOCATION;VALUE=URI;X-ADDRESS=Opera Ultra Lounge 1400 I St NW Washington District of Columbia United States;X-APPLE-RADIUS=500;X-TITLE=1400 I St NW:geo:-77.0323833,38.9010128
END:VEVENT
BEGIN:VEVENT
DTSTART;TZID=America/Los_Angeles:20231216T220000
DTEND;TZID=America/Los_Angeles:20231216T235900
DTSTAMP:20260425T054757
CREATED:20231214T050340Z
LAST-MODIFIED:20231214T050401Z
UID:10001300-1702764000-1702771140@izprveruke.com
SUMMARY:Pre NYE Party - Detroit
DESCRIPTION:RH Social Club Presents Live Music by Riste Tevdoski\, Adnan Babajic\, Ivana Salipur & Bojan Vasilic. Ages 18+  \n\n\n\nReservations: 586-229-3719
URL:https://izprveruke.com/event/pre-nye-party-detroit/
LOCATION:RH Social\, 6870 N Rochester Rd.\, Rochester\, Michigan\, United States
CATEGORIES:Žurke
ATTACH;FMTTYPE=image/jpeg:https://izprveruke.com/wp-content/uploads/2023/12/riste_adnan_ivana_bojan.jpg
GEO:42.6973433;-83.1364684
X-APPLE-STRUCTURED-LOCATION;VALUE=URI;X-ADDRESS=RH Social 6870 N Rochester Rd. Rochester Michigan United States;X-APPLE-RADIUS=500;X-TITLE=6870 N Rochester Rd.:geo:-83.1364684,42.6973433
END:VEVENT
BEGIN:VEVENT
DTSTART;TZID=America/Los_Angeles:20231216T203000
DTEND;TZID=America/Los_Angeles:20231216T235900
DTSTAMP:20260425T054757
CREATED:20231122T051747Z
LAST-MODIFIED:20231122T051750Z
UID:10001277-1702758600-1702771140@izprveruke.com
SUMMARY:Tanja Savic & Armin Dedic - Portland
DESCRIPTION:Tanja Savic & Armin Dedic live in Portland. \n\n\n\nVise informacija i rezervacije 503-936-9539
URL:https://izprveruke.com/event/tanja-savic-armin-dedic-portland/
LOCATION:SLA Club\, 11610 SE Holgate Blvd.\, Portland\, OR\, United States
CATEGORIES:Koncerti
ATTACH;FMTTYPE=image/jpeg:https://izprveruke.com/wp-content/uploads/2023/11/tanjasavic_armindedic.jpg
GEO:45.4894625;-122.5437097
X-APPLE-STRUCTURED-LOCATION;VALUE=URI;X-ADDRESS=SLA Club 11610 SE Holgate Blvd. Portland OR United States;X-APPLE-RADIUS=500;X-TITLE=11610 SE Holgate Blvd.:geo:-122.5437097,45.4894625
END:VEVENT
BEGIN:VEVENT
DTSTART;TZID=America/Los_Angeles:20231216T203000
DTEND;TZID=America/Los_Angeles:20231216T235900
DTSTAMP:20260425T054757
CREATED:20231114T035614Z
LAST-MODIFIED:20231114T035615Z
UID:10001268-1702758600-1702771140@izprveruke.com
SUMMARY:Emir Djulovic - Utica
DESCRIPTION:Emir Djulovic live in Utica.  \n\n\n\nVise informacija 315-527-3856
URL:https://izprveruke.com/event/emir-djulovic-utica/
LOCATION:Valentino’s Banquet Hall\, 3899 Oneida St.\, New Hartford\, NY\, United States
CATEGORIES:Koncerti
ATTACH;FMTTYPE=image/jpeg:https://izprveruke.com/wp-content/uploads/2023/07/emirdjulovic.jpg
GEO:43.051199;-75.2737
X-APPLE-STRUCTURED-LOCATION;VALUE=URI;X-ADDRESS=Valentino’s Banquet Hall 3899 Oneida St. New Hartford NY United States;X-APPLE-RADIUS=500;X-TITLE=3899 Oneida St.:geo:-75.2737,43.051199
END:VEVENT
BEGIN:VEVENT
DTSTART;TZID=America/Los_Angeles:20231215T203000
DTEND;TZID=America/Los_Angeles:20231215T235900
DTSTAMP:20260425T054757
CREATED:20231122T052305Z
LAST-MODIFIED:20231122T052307Z
UID:10001282-1702672200-1702684740@izprveruke.com
SUMMARY:Tanja Savic & Armin Dedic - Phoenix
DESCRIPTION:Tanja Savic & Armin Dedic live in Phoenix. \n\n\n\nVise informacija 602-327-7251
URL:https://izprveruke.com/event/tanja-savic-armin-dedic-phoenix/
LOCATION:MoonLight Restaurant 2\, 5686 W Bell Rd.\, Glendale\, AZ\, United States
CATEGORIES:Koncerti
ATTACH;FMTTYPE=image/jpeg:https://izprveruke.com/wp-content/uploads/2023/11/tanjasavic_armindedic.jpg
GEO:33.6402549;-112.1817237
X-APPLE-STRUCTURED-LOCATION;VALUE=URI;X-ADDRESS=MoonLight Restaurant 2 5686 W Bell Rd. Glendale AZ United States;X-APPLE-RADIUS=500;X-TITLE=5686 W Bell Rd.:geo:-112.1817237,33.6402549
END:VEVENT
END:VCALENDAR