BEGIN:VCALENDAR
VERSION:2.0
PRODID:-//Iz Prve Ruke - Koncerti u Americi i Kanadi | Lokalna Dešavanja - ECPv6.15.20//NONSGML v1.0//EN
CALSCALE:GREGORIAN
METHOD:PUBLISH
X-WR-CALNAME:Iz Prve Ruke - Koncerti u Americi i Kanadi | Lokalna Dešavanja
X-ORIGINAL-URL:https://izprveruke.com
X-WR-CALDESC:Events for Iz Prve Ruke - Koncerti u Americi i Kanadi | Lokalna Dešavanja
REFRESH-INTERVAL;VALUE=DURATION:PT1H
X-Robots-Tag:noindex
X-PUBLISHED-TTL:PT1H
BEGIN:VTIMEZONE
TZID:America/Los_Angeles
BEGIN:DAYLIGHT
TZOFFSETFROM:-0800
TZOFFSETTO:-0700
TZNAME:PDT
DTSTART:20250309T100000
END:DAYLIGHT
BEGIN:STANDARD
TZOFFSETFROM:-0700
TZOFFSETTO:-0800
TZNAME:PST
DTSTART:20251102T090000
END:STANDARD
BEGIN:DAYLIGHT
TZOFFSETFROM:-0800
TZOFFSETTO:-0700
TZNAME:PDT
DTSTART:20260308T100000
END:DAYLIGHT
BEGIN:STANDARD
TZOFFSETFROM:-0700
TZOFFSETTO:-0800
TZNAME:PST
DTSTART:20261101T090000
END:STANDARD
BEGIN:DAYLIGHT
TZOFFSETFROM:-0800
TZOFFSETTO:-0700
TZNAME:PDT
DTSTART:20270314T100000
END:DAYLIGHT
BEGIN:STANDARD
TZOFFSETFROM:-0700
TZOFFSETTO:-0800
TZNAME:PST
DTSTART:20271107T090000
END:STANDARD
END:VTIMEZONE
BEGIN:VEVENT
DTSTART;TZID=America/Los_Angeles:20260113T203000
DTEND;TZID=America/Los_Angeles:20260113T235900
DTSTAMP:20260423T133723
CREATED:20260105T013235Z
LAST-MODIFIED:20260105T013346Z
UID:10001567-1768336200-1768348740@izprveruke.com
SUMMARY:Boban Rajovic - Docek Pravoslavne Nove 2026. - Miami
DESCRIPTION:Docek pravoslavne nove godine. Boban Rajovic i gosti Lambe Alabakovski\, Ana Maric\, DJ Detla\, DJ Crazy Slave. Vise informacija i rezervacije 954-240-5890 \n\n\n\n\n\n\nRegister on Eventbrite
URL:https://izprveruke.com/event/boban-rajovic-docek-pravoslavne-nove-2026-miami/
LOCATION:Hard Rock Daer Nightclub\, 1 Lucky St\, Hollywood\, Florida\, United States
CATEGORIES:Koncerti
ATTACH;FMTTYPE=image/jpeg:https://izprveruke.com/wp-content/uploads/2025/09/bobanrajovic.jpg
GEO:26.0537283;-80.2095341
X-APPLE-STRUCTURED-LOCATION;VALUE=URI;X-ADDRESS=Hard Rock Daer Nightclub 1 Lucky St Hollywood Florida United States;X-APPLE-RADIUS=500;X-TITLE=1 Lucky St:geo:-80.2095341,26.0537283
END:VEVENT
END:VCALENDAR