BEGIN:VCALENDAR
VERSION:2.0
PRODID:-//Iz Prve Ruke - Koncerti u Americi i Kanadi | Lokalna Dešavanja - ECPv6.15.20//NONSGML v1.0//EN
CALSCALE:GREGORIAN
METHOD:PUBLISH
X-ORIGINAL-URL:https://izprveruke.com
X-WR-CALDESC:Events for Iz Prve Ruke - Koncerti u Americi i Kanadi | Lokalna Dešavanja
REFRESH-INTERVAL;VALUE=DURATION:PT1H
X-Robots-Tag:noindex
X-PUBLISHED-TTL:PT1H
BEGIN:VTIMEZONE
TZID:America/Los_Angeles
BEGIN:DAYLIGHT
TZOFFSETFROM:-0800
TZOFFSETTO:-0700
TZNAME:PDT
DTSTART:20240310T100000
END:DAYLIGHT
BEGIN:STANDARD
TZOFFSETFROM:-0700
TZOFFSETTO:-0800
TZNAME:PST
DTSTART:20241103T090000
END:STANDARD
BEGIN:DAYLIGHT
TZOFFSETFROM:-0800
TZOFFSETTO:-0700
TZNAME:PDT
DTSTART:20250309T100000
END:DAYLIGHT
BEGIN:STANDARD
TZOFFSETFROM:-0700
TZOFFSETTO:-0800
TZNAME:PST
DTSTART:20251102T090000
END:STANDARD
BEGIN:DAYLIGHT
TZOFFSETFROM:-0800
TZOFFSETTO:-0700
TZNAME:PDT
DTSTART:20260308T100000
END:DAYLIGHT
BEGIN:STANDARD
TZOFFSETFROM:-0700
TZOFFSETTO:-0800
TZNAME:PST
DTSTART:20261101T090000
END:STANDARD
END:VTIMEZONE
BEGIN:VEVENT
DTSTART;TZID=America/Los_Angeles:20251031T203000
DTEND;TZID=America/Los_Angeles:20251031T235900
DTSTAMP:20260423T171803
CREATED:20250818T013041Z
LAST-MODIFIED:20251016T203930Z
UID:10001509-1761942600-1761955140@izprveruke.com
SUMMARY:Aco Pejovic - St. Louis
DESCRIPTION:Aco Pejovic live in St. Louis. Vise informacija 314-445-9406
URL:https://izprveruke.com/event/aco-pejovic-st-louis/
LOCATION:River City Casino Hotel\, 777 River City Casino Blvd.\, St. Louis\, Missouri\, United States
CATEGORIES:Koncerti
ATTACH;FMTTYPE=image/png:https://izprveruke.com/wp-content/uploads/2023/10/acopejovic.png
GEO:38.5308368;-90.2644983
X-APPLE-STRUCTURED-LOCATION;VALUE=URI;X-ADDRESS=River City Casino Hotel 777 River City Casino Blvd. St. Louis Missouri United States;X-APPLE-RADIUS=500;X-TITLE=777 River City Casino Blvd.:geo:-90.2644983,38.5308368
END:VEVENT
BEGIN:VEVENT
DTSTART;TZID=America/Los_Angeles:20251031T203000
DTEND;TZID=America/Los_Angeles:20251031T235900
DTSTAMP:20260423T171803
CREATED:20250924T020258Z
LAST-MODIFIED:20250924T020300Z
UID:10001526-1761942600-1761955140@izprveruke.com
SUMMARY:Boban Rajovic - San Jose
DESCRIPTION:Boban Rajovic live in San Jose! Vise informacija 510-229-0725 & 510-690-4585
URL:https://izprveruke.com/event/boban-rajovic-san-jose-2/
LOCATION:After Bar & Grill\, 1692 Story Rd.\, San Jose\, California\, United States
CATEGORIES:Koncerti
ATTACH;FMTTYPE=image/jpeg:https://izprveruke.com/wp-content/uploads/2025/09/bobanrajovic.jpg
GEO:37.3383899;-121.842219
X-APPLE-STRUCTURED-LOCATION;VALUE=URI;X-ADDRESS=After Bar & Grill 1692 Story Rd. San Jose California United States;X-APPLE-RADIUS=500;X-TITLE=1692 Story Rd.:geo:-121.842219,37.3383899
END:VEVENT
BEGIN:VEVENT
DTSTART;TZID=America/Los_Angeles:20251031T203000
DTEND;TZID=America/Los_Angeles:20251031T235900
DTSTAMP:20260423T171803
CREATED:20250925T022705Z
LAST-MODIFIED:20250925T022708Z
UID:10001530-1761942600-1761955140@izprveruke.com
SUMMARY:Nikola Rokvic - Cleveland
DESCRIPTION:Nikola Rokvic live in Cleveland. Vise informacija i rezervacije 440-667-5734
URL:https://izprveruke.com/event/nikola-rokvic-cleveland/
LOCATION:Sherwin-Gilmour Party Center\, 5947 Mayfield Rd.\, Mayfield Heights\, OH\, United States
CATEGORIES:Koncerti
ATTACH;FMTTYPE=image/jpeg:https://izprveruke.com/wp-content/uploads/2025/09/nikolarokvic.jpg
GEO:41.5212684;-81.4650012
X-APPLE-STRUCTURED-LOCATION;VALUE=URI;X-ADDRESS=Sherwin-Gilmour Party Center 5947 Mayfield Rd. Mayfield Heights OH United States;X-APPLE-RADIUS=500;X-TITLE=5947 Mayfield Rd.:geo:-81.4650012,41.5212684
END:VEVENT
BEGIN:VEVENT
DTSTART;TZID=America/Los_Angeles:20251101T203000
DTEND;TZID=America/Los_Angeles:20251101T235900
DTSTAMP:20260423T171803
CREATED:20250818T013125Z
LAST-MODIFIED:20251016T204049Z
UID:10001510-1762029000-1762041540@izprveruke.com
SUMMARY:Aco Pejovic - Chicago
DESCRIPTION:Aco Pejovic live in Chicago. Vise informacija 630-504-4282
URL:https://izprveruke.com/event/aco-pejovic-chicago-2/
LOCATION:Compass Arena\, 625 Joliet Rd\, Wilowbrook\, IL\, United States
CATEGORIES:Koncerti
ATTACH;FMTTYPE=image/png:https://izprveruke.com/wp-content/uploads/2023/10/acopejovic.png
GEO:41.7453652;-87.9396252
X-APPLE-STRUCTURED-LOCATION;VALUE=URI;X-ADDRESS=Compass Arena 625 Joliet Rd Wilowbrook IL United States;X-APPLE-RADIUS=500;X-TITLE=625 Joliet Rd:geo:-87.9396252,41.7453652
END:VEVENT
BEGIN:VEVENT
DTSTART;TZID=America/Los_Angeles:20251101T203000
DTEND;TZID=America/Los_Angeles:20251101T235900
DTSTAMP:20260423T171803
CREATED:20250924T020146Z
LAST-MODIFIED:20251016T204325Z
UID:10001525-1762029000-1762041540@izprveruke.com
SUMMARY:Boban Rajovic - Salt Lake City
DESCRIPTION:Boban Rajovic live in Salt Lake City! Vise informacija 801-300-6011
URL:https://izprveruke.com/event/boban-rajovic-salt-lake-city/
LOCATION:801 Event Center\, 1055 W N Temple\, Salt Lake City\, Utah\, United States
CATEGORIES:Koncerti
ATTACH;FMTTYPE=image/jpeg:https://izprveruke.com/wp-content/uploads/2025/09/bobanrajovic.jpg
GEO:40.7700711;-111.9221347
X-APPLE-STRUCTURED-LOCATION;VALUE=URI;X-ADDRESS=801 Event Center 1055 W N Temple Salt Lake City Utah United States;X-APPLE-RADIUS=500;X-TITLE=1055 W N Temple:geo:-111.9221347,40.7700711
END:VEVENT
BEGIN:VEVENT
DTSTART;TZID=America/Los_Angeles:20251101T203000
DTEND;TZID=America/Los_Angeles:20251101T235900
DTSTAMP:20260423T171803
CREATED:20250925T022922Z
LAST-MODIFIED:20251101T182934Z
UID:10001531-1762029000-1762041540@izprveruke.com
SUMMARY:Nikola Rokvic - New York
DESCRIPTION:Nikola Rokvic live in NYC. Vise informacija i rezervacije 914-548-2585 & 203-706-7680
URL:https://izprveruke.com/event/nikola-rokvic-new-york/
LOCATION:Cutting Room\, 44 East 32nd Street\, New York\, NY\, United States
CATEGORIES:Koncerti
ATTACH;FMTTYPE=image/jpeg:https://izprveruke.com/wp-content/uploads/2025/09/nikolarokvic.jpg
GEO:40.7127753;-74.0059728
X-APPLE-STRUCTURED-LOCATION;VALUE=URI;X-ADDRESS=Cutting Room 44 East 32nd Street New York NY United States;X-APPLE-RADIUS=500;X-TITLE=44 East 32nd Street:geo:-74.0059728,40.7127753
END:VEVENT
BEGIN:VEVENT
DTSTART;TZID=America/Los_Angeles:20251102T203000
DTEND;TZID=America/Los_Angeles:20251102T235900
DTSTAMP:20260423T171803
CREATED:20250925T023030Z
LAST-MODIFIED:20250925T023032Z
UID:10001532-1762115400-1762127940@izprveruke.com
SUMMARY:Nikola Rokvic - Washington\, DC
DESCRIPTION:Nikola Rokvic live in Washington\, DC. Vise informacija i rezervacije 202-235-0055
URL:https://izprveruke.com/event/nikola-rokvic-washington-dc/
LOCATION:Greenhouse Bistro\, 2070 Chain Bridge Rd\, Vienna\, District of Columbia\, United States
CATEGORIES:Koncerti
ATTACH;FMTTYPE=image/jpeg:https://izprveruke.com/wp-content/uploads/2025/09/nikolarokvic.jpg
GEO:38.9232098;-77.103146
X-APPLE-STRUCTURED-LOCATION;VALUE=URI;X-ADDRESS=Greenhouse Bistro 2070 Chain Bridge Rd Vienna District of Columbia United States;X-APPLE-RADIUS=500;X-TITLE=2070 Chain Bridge Rd:geo:-77.103146,38.9232098
END:VEVENT
END:VCALENDAR