BEGIN:VCALENDAR
VERSION:2.0
PRODID:-//Iz Prve Ruke - Koncerti u Americi i Kanadi | Lokalna Dešavanja - ECPv6.15.20//NONSGML v1.0//EN
CALSCALE:GREGORIAN
METHOD:PUBLISH
X-ORIGINAL-URL:https://izprveruke.com
X-WR-CALDESC:Events for Iz Prve Ruke - Koncerti u Americi i Kanadi | Lokalna Dešavanja
REFRESH-INTERVAL;VALUE=DURATION:PT1H
X-Robots-Tag:noindex
X-PUBLISHED-TTL:PT1H
BEGIN:VTIMEZONE
TZID:America/Los_Angeles
BEGIN:DAYLIGHT
TZOFFSETFROM:-0800
TZOFFSETTO:-0700
TZNAME:PDT
DTSTART:20240310T100000
END:DAYLIGHT
BEGIN:STANDARD
TZOFFSETFROM:-0700
TZOFFSETTO:-0800
TZNAME:PST
DTSTART:20241103T090000
END:STANDARD
BEGIN:DAYLIGHT
TZOFFSETFROM:-0800
TZOFFSETTO:-0700
TZNAME:PDT
DTSTART:20250309T100000
END:DAYLIGHT
BEGIN:STANDARD
TZOFFSETFROM:-0700
TZOFFSETTO:-0800
TZNAME:PST
DTSTART:20251102T090000
END:STANDARD
BEGIN:DAYLIGHT
TZOFFSETFROM:-0800
TZOFFSETTO:-0700
TZNAME:PDT
DTSTART:20260308T100000
END:DAYLIGHT
BEGIN:STANDARD
TZOFFSETFROM:-0700
TZOFFSETTO:-0800
TZNAME:PST
DTSTART:20261101T090000
END:STANDARD
END:VTIMEZONE
BEGIN:VEVENT
DTSTART;TZID=America/Los_Angeles:20250411T203000
DTEND;TZID=America/Los_Angeles:20250411T235900
DTSTAMP:20260424T035009
CREATED:20250312T005820Z
LAST-MODIFIED:20250312T005824Z
UID:10001479-1744403400-1744415940@izprveruke.com
SUMMARY:Enes Begovic - Phoenix
DESCRIPTION:Enes Begovic live in Phoenix. Vise informacija 480-433-5505
URL:https://izprveruke.com/event/enes-begovic-phoenix/
LOCATION:CB Live\, 21001 N Tatum Blvd.\, Phoenix\, AZ\, United States
CATEGORIES:Koncerti
ATTACH;FMTTYPE=image/jpeg:https://izprveruke.com/wp-content/uploads/2024/10/enesbegovic.jpg
GEO:33.6765082;-111.9761103
X-APPLE-STRUCTURED-LOCATION;VALUE=URI;X-ADDRESS=CB Live 21001 N Tatum Blvd. Phoenix AZ United States;X-APPLE-RADIUS=500;X-TITLE=21001 N Tatum Blvd.:geo:-111.9761103,33.6765082
END:VEVENT
BEGIN:VEVENT
DTSTART;TZID=America/Los_Angeles:20250412T203000
DTEND;TZID=America/Los_Angeles:20250412T235900
DTSTAMP:20260424T035009
CREATED:20250312T005932Z
LAST-MODIFIED:20250312T005933Z
UID:10001480-1744489800-1744502340@izprveruke.com
SUMMARY:Enes Begovic - San Jose
DESCRIPTION:Enes Begovic live in San Jose. Vise informacija 510-229-0725
URL:https://izprveruke.com/event/enes-begovic-san-jose/
LOCATION:After Bar & Grill\, 1692 Story Rd.\, San Jose\, California\, United States
CATEGORIES:Koncerti
ATTACH;FMTTYPE=image/jpeg:https://izprveruke.com/wp-content/uploads/2024/10/enesbegovic.jpg
GEO:37.3383899;-121.842219
X-APPLE-STRUCTURED-LOCATION;VALUE=URI;X-ADDRESS=After Bar & Grill 1692 Story Rd. San Jose California United States;X-APPLE-RADIUS=500;X-TITLE=1692 Story Rd.:geo:-121.842219,37.3383899
END:VEVENT
END:VCALENDAR