BEGIN:VCALENDAR
VERSION:2.0
PRODID:-//Iz Prve Ruke - Koncerti u Americi i Kanadi | Lokalna Dešavanja - ECPv6.15.20//NONSGML v1.0//EN
CALSCALE:GREGORIAN
METHOD:PUBLISH
X-ORIGINAL-URL:https://izprveruke.com
X-WR-CALDESC:Events for Iz Prve Ruke - Koncerti u Americi i Kanadi | Lokalna Dešavanja
REFRESH-INTERVAL;VALUE=DURATION:PT1H
X-Robots-Tag:noindex
X-PUBLISHED-TTL:PT1H
BEGIN:VTIMEZONE
TZID:America/Los_Angeles
BEGIN:DAYLIGHT
TZOFFSETFROM:-0800
TZOFFSETTO:-0700
TZNAME:PDT
DTSTART:20230312T100000
END:DAYLIGHT
BEGIN:STANDARD
TZOFFSETFROM:-0700
TZOFFSETTO:-0800
TZNAME:PST
DTSTART:20231105T090000
END:STANDARD
BEGIN:DAYLIGHT
TZOFFSETFROM:-0800
TZOFFSETTO:-0700
TZNAME:PDT
DTSTART:20240310T100000
END:DAYLIGHT
BEGIN:STANDARD
TZOFFSETFROM:-0700
TZOFFSETTO:-0800
TZNAME:PST
DTSTART:20241103T090000
END:STANDARD
BEGIN:DAYLIGHT
TZOFFSETFROM:-0800
TZOFFSETTO:-0700
TZNAME:PDT
DTSTART:20250309T100000
END:DAYLIGHT
BEGIN:STANDARD
TZOFFSETFROM:-0700
TZOFFSETTO:-0800
TZNAME:PST
DTSTART:20251102T090000
END:STANDARD
END:VTIMEZONE
BEGIN:VEVENT
DTSTART;TZID=America/Los_Angeles:20241025T200000
DTEND;TZID=America/Los_Angeles:20241025T235900
DTSTAMP:20260425T090320
CREATED:20240910T023422Z
LAST-MODIFIED:20240910T025806Z
UID:10001393-1729886400-1729900740@izprveruke.com
SUMMARY:Bajaga & Instruktori - Chicago
DESCRIPTION:Dodjite da proslavimo zajedno 40 godina ljubavi i muzike uz spektakularanu scenu i zvuk\, i nezaboravno putovanje kroz 40 godina hitova.
URL:https://izprveruke.com/event/bajaga-chicago/
LOCATION:Ramova Theatre\, South Halsted Street\, Chicago\, Illinois\, 60609\, United States
CATEGORIES:Koncerti
ATTACH;FMTTYPE=image/jpeg:https://izprveruke.com/wp-content/uploads/2024/09/bajaga.jpg
GEO:41.8301391;-87.646222
X-APPLE-STRUCTURED-LOCATION;VALUE=URI;X-ADDRESS=Ramova Theatre South Halsted Street Chicago Illinois 60609 United States;X-APPLE-RADIUS=500;X-TITLE=South Halsted Street:geo:-87.646222,41.8301391
END:VEVENT
BEGIN:VEVENT
DTSTART;TZID=America/Los_Angeles:20241026T200000
DTEND;TZID=America/Los_Angeles:20241026T235900
DTSTAMP:20260425T090320
CREATED:20240910T024324Z
LAST-MODIFIED:20240910T025659Z
UID:10001394-1729972800-1729987140@izprveruke.com
SUMMARY:Bajaga & Instruktori - New York
DESCRIPTION:Dodjite da proslavimo zajedno 40 godina ljubavi i muzike uz spektakularanu scenu i zvuk\, i nezaboravno putovanje kroz 40 godina hitova.
URL:https://izprveruke.com/event/bajaga-new-york/
LOCATION:Cutting Room\, 44 East 32nd Street\, New York\, NY\, United States
CATEGORIES:Koncerti
ATTACH;FMTTYPE=image/jpeg:https://izprveruke.com/wp-content/uploads/2024/09/bajaga.jpg
GEO:40.7127753;-74.0059728
X-APPLE-STRUCTURED-LOCATION;VALUE=URI;X-ADDRESS=Cutting Room 44 East 32nd Street New York NY United States;X-APPLE-RADIUS=500;X-TITLE=44 East 32nd Street:geo:-74.0059728,40.7127753
END:VEVENT
BEGIN:VEVENT
DTSTART;TZID=America/Los_Angeles:20241027T200000
DTEND;TZID=America/Los_Angeles:20241027T235900
DTSTAMP:20260425T090320
CREATED:20241022T015524Z
LAST-MODIFIED:20241022T015527Z
UID:10001415-1730059200-1730073540@izprveruke.com
SUMMARY:Bajaga & Instruktori - Boston
DESCRIPTION:Dodjite da proslavimo zajedno 40 godina ljubavi i muzike uz spektakularanu scenu i zvuk\, i nezaboravno putovanje kroz 40 godina hitova.
URL:https://izprveruke.com/event/bajaga-instruktori-boston/
LOCATION:Urban Wild Boston\, Boston\, Michigan\, United States
CATEGORIES:Koncerti
ATTACH;FMTTYPE=image/jpeg:https://izprveruke.com/wp-content/uploads/2024/09/bajaga.jpg
GEO:42.3600825;-71.0588801
END:VEVENT
END:VCALENDAR