BEGIN:VCALENDAR
VERSION:2.0
PRODID:-//Iz Prve Ruke - Koncerti u Americi i Kanadi | Lokalna Dešavanja - ECPv6.15.20//NONSGML v1.0//EN
CALSCALE:GREGORIAN
METHOD:PUBLISH
X-ORIGINAL-URL:https://izprveruke.com
X-WR-CALDESC:Events for Iz Prve Ruke - Koncerti u Americi i Kanadi | Lokalna Dešavanja
REFRESH-INTERVAL;VALUE=DURATION:PT1H
X-Robots-Tag:noindex
X-PUBLISHED-TTL:PT1H
BEGIN:VTIMEZONE
TZID:America/Los_Angeles
BEGIN:DAYLIGHT
TZOFFSETFROM:-0800
TZOFFSETTO:-0700
TZNAME:PDT
DTSTART:20230312T100000
END:DAYLIGHT
BEGIN:STANDARD
TZOFFSETFROM:-0700
TZOFFSETTO:-0800
TZNAME:PST
DTSTART:20231105T090000
END:STANDARD
BEGIN:DAYLIGHT
TZOFFSETFROM:-0800
TZOFFSETTO:-0700
TZNAME:PDT
DTSTART:20240310T100000
END:DAYLIGHT
BEGIN:STANDARD
TZOFFSETFROM:-0700
TZOFFSETTO:-0800
TZNAME:PST
DTSTART:20241103T090000
END:STANDARD
BEGIN:DAYLIGHT
TZOFFSETFROM:-0800
TZOFFSETTO:-0700
TZNAME:PDT
DTSTART:20250309T100000
END:DAYLIGHT
BEGIN:STANDARD
TZOFFSETFROM:-0700
TZOFFSETTO:-0800
TZNAME:PST
DTSTART:20251102T090000
END:STANDARD
END:VTIMEZONE
BEGIN:VEVENT
DTSTART;TZID=America/Los_Angeles:20240920T203000
DTEND;TZID=America/Los_Angeles:20240920T235900
DTSTAMP:20260425T032709
CREATED:20240727T133956Z
LAST-MODIFIED:20240910T033708Z
UID:10001386-1726864200-1726876740@izprveruke.com
SUMMARY:Halid Beslic - San Jose
DESCRIPTION:Halid Beslic live in San Jose. Vise informacija 510.229.0725 & 510.690.4585
URL:https://izprveruke.com/event/halid-beslic-san-jose/
LOCATION:Capos Event Center\, Monterey Road\, Gilroy\, California\, 95020\, United States
CATEGORIES:Koncerti
ATTACH;FMTTYPE=image/jpeg:https://izprveruke.com/wp-content/uploads/2024/01/halidbeslic.jpg
GEO:37.0094311;-121.5694034
X-APPLE-STRUCTURED-LOCATION;VALUE=URI;X-ADDRESS=Capos Event Center Monterey Road Gilroy California 95020 United States;X-APPLE-RADIUS=500;X-TITLE=Monterey Road:geo:-121.5694034,37.0094311
END:VEVENT
BEGIN:VEVENT
DTSTART;TZID=America/Los_Angeles:20240921T203000
DTEND;TZID=America/Los_Angeles:20240921T235900
DTSTAMP:20260425T032709
CREATED:20240727T134033Z
LAST-MODIFIED:20240910T033436Z
UID:10001387-1726950600-1726963140@izprveruke.com
SUMMARY:Halid Beslic - Dallas
DESCRIPTION:Halid Beslic live in Dallas. Vise informacija (469) 314-6626 & (713) 336-3605.
URL:https://izprveruke.com/event/halid-beslic-dallas/
LOCATION:Crown Plaza Dallas Downtown\, 1015 Elm Street\, Dallas\, Texas\, United States
CATEGORIES:Koncerti
ATTACH;FMTTYPE=image/jpeg:https://izprveruke.com/wp-content/uploads/2024/01/halidbeslic.jpg
GEO:32.7809621;-96.8035658
X-APPLE-STRUCTURED-LOCATION;VALUE=URI;X-ADDRESS=Crown Plaza Dallas Downtown 1015 Elm Street Dallas Texas United States;X-APPLE-RADIUS=500;X-TITLE=1015 Elm Street:geo:-96.8035658,32.7809621
END:VEVENT
BEGIN:VEVENT
DTSTART;TZID=America/Los_Angeles:20240921T210000
DTEND;TZID=America/Los_Angeles:20240921T235900
DTSTAMP:20260425T032709
CREATED:20240901T021917Z
LAST-MODIFIED:20240905T211920Z
UID:10001391-1726952400-1726963140@izprveruke.com
SUMMARY:Davor Badrov - Cleveland
DESCRIPTION:Noc kafanse muzike (21+). Davor Badrov\, Dragana Jovic w/ beats by DJ Spaz. Vise informacija i rezervacije 440-667-5734
URL:https://izprveruke.com/event/davor-badrov-cleveland/
LOCATION:Tricky Tortoise\, Erie Street\, Willoughby\, Ohio\, 44094\, United States
CATEGORIES:Koncerti
ATTACH;FMTTYPE=image/jpeg:https://izprveruke.com/wp-content/uploads/2023/06/davorbadrov.jpg
GEO:41.6415379;-81.4055032
X-APPLE-STRUCTURED-LOCATION;VALUE=URI;X-ADDRESS=Tricky Tortoise Erie Street Willoughby Ohio 44094 United States;X-APPLE-RADIUS=500;X-TITLE=Erie Street:geo:-81.4055032,41.6415379
END:VEVENT
END:VCALENDAR