BEGIN:VCALENDAR
VERSION:2.0
PRODID:-//Iz Prve Ruke - Koncerti u Americi i Kanadi | Lokalna Dešavanja - ECPv6.15.20//NONSGML v1.0//EN
CALSCALE:GREGORIAN
METHOD:PUBLISH
X-WR-CALNAME:Iz Prve Ruke - Koncerti u Americi i Kanadi | Lokalna Dešavanja
X-ORIGINAL-URL:https://izprveruke.com
X-WR-CALDESC:Events for Iz Prve Ruke - Koncerti u Americi i Kanadi | Lokalna Dešavanja
REFRESH-INTERVAL;VALUE=DURATION:PT1H
X-Robots-Tag:noindex
X-PUBLISHED-TTL:PT1H
BEGIN:VTIMEZONE
TZID:America/Los_Angeles
BEGIN:DAYLIGHT
TZOFFSETFROM:-0800
TZOFFSETTO:-0700
TZNAME:PDT
DTSTART:20210314T100000
END:DAYLIGHT
BEGIN:STANDARD
TZOFFSETFROM:-0700
TZOFFSETTO:-0800
TZNAME:PST
DTSTART:20211107T090000
END:STANDARD
BEGIN:DAYLIGHT
TZOFFSETFROM:-0800
TZOFFSETTO:-0700
TZNAME:PDT
DTSTART:20220313T100000
END:DAYLIGHT
BEGIN:STANDARD
TZOFFSETFROM:-0700
TZOFFSETTO:-0800
TZNAME:PST
DTSTART:20221106T090000
END:STANDARD
BEGIN:DAYLIGHT
TZOFFSETFROM:-0800
TZOFFSETTO:-0700
TZNAME:PDT
DTSTART:20230312T100000
END:DAYLIGHT
BEGIN:STANDARD
TZOFFSETFROM:-0700
TZOFFSETTO:-0800
TZNAME:PST
DTSTART:20231105T090000
END:STANDARD
END:VTIMEZONE
BEGIN:VEVENT
DTSTART;TZID=America/Los_Angeles:20220326T203000
DTEND;TZID=America/Los_Angeles:20220326T235900
DTSTAMP:20260423T145239
CREATED:20220309T070452Z
LAST-MODIFIED:20220309T073342Z
UID:10000826-1648326600-1648339140@izprveruke.com
SUMMARY:Bosanac\, Dzidza\, Sanel - Atlanta
DESCRIPTION:Dragan Stojkovic Bosanac\, Dzidza Stojkovic\, Sanel Smolo & Velid Nukicic.
URL:https://izprveruke.com/event/bosanac-dzidza-sanel-atlanta/
LOCATION:VIP Room Restaurant & Lounge Inc.\, 745 Beaver Ruin Rd. Ste 200\, Liburn\, GA\, United States
CATEGORIES:Koncerti
ATTACH;FMTTYPE=image/jpeg:https://izprveruke.com/wp-content/uploads/2022/03/bosanacdzidzasanel.jpg
GEO:33.9108428;-84.132165
X-APPLE-STRUCTURED-LOCATION;VALUE=URI;X-ADDRESS=VIP Room Restaurant & Lounge Inc. 745 Beaver Ruin Rd. Ste 200 Liburn GA United States;X-APPLE-RADIUS=500;X-TITLE=745 Beaver Ruin Rd. Ste 200:geo:-84.132165,33.9108428
END:VEVENT
BEGIN:VEVENT
DTSTART;TZID=America/Los_Angeles:20220326T203000
DTEND;TZID=America/Los_Angeles:20220326T235900
DTSTAMP:20260423T145239
CREATED:20220212T074207Z
LAST-MODIFIED:20220212T074210Z
UID:10000800-1648326600-1648339140@izprveruke.com
SUMMARY:Rock Ko Fol - Toronto
DESCRIPTION:
URL:https://izprveruke.com/event/rock-ko-fol-toronto/
LOCATION:The Rockpile\, 5555 Dundas St. W\, Etobicoke\, ON\, Canada
CATEGORIES:Koncerti
ATTACH;FMTTYPE=image/jpeg:https://izprveruke.com/wp-content/uploads/2022/02/rkf.jpg
GEO:43.6294549;-79.5489727
X-APPLE-STRUCTURED-LOCATION;VALUE=URI;X-ADDRESS=The Rockpile 5555 Dundas St. W Etobicoke ON Canada;X-APPLE-RADIUS=500;X-TITLE=5555 Dundas St. W:geo:-79.5489727,43.6294549
END:VEVENT
BEGIN:VEVENT
DTSTART;TZID=America/Los_Angeles:20220326T203000
DTEND;TZID=America/Los_Angeles:20220326T235900
DTSTAMP:20260423T145239
CREATED:20220211T054215Z
LAST-MODIFIED:20220309T063921Z
UID:10000787-1648326600-1648339140@izprveruke.com
SUMMARY:Dzenan Loncarevic - New York
DESCRIPTION:21+ \n\n\n\nProof of vaccination required.
URL:https://izprveruke.com/event/dzenan-loncarevic-new-york/
LOCATION:Melrose Ballroom\, 36-08 33rd St.\, New York\, NY\, United States
CATEGORIES:Koncerti
ATTACH;FMTTYPE=image/jpeg:https://izprveruke.com/wp-content/uploads/2022/02/dzenan.jpg
GEO:40.7555992;-73.9286147
X-APPLE-STRUCTURED-LOCATION;VALUE=URI;X-ADDRESS=Melrose Ballroom 36-08 33rd St. New York NY United States;X-APPLE-RADIUS=500;X-TITLE=36-08 33rd St.:geo:-73.9286147,40.7555992
END:VEVENT
BEGIN:VEVENT
DTSTART;TZID=America/Los_Angeles:20220327T203000
DTEND;TZID=America/Los_Angeles:20220327T235900
DTSTAMP:20260423T145239
CREATED:20220309T071532Z
LAST-MODIFIED:20220309T073426Z
UID:10000827-1648413000-1648425540@izprveruke.com
SUMMARY:Bosanac\, Dzidza\, Sanel - Waterloo
DESCRIPTION:Dragan Stojkovic Bosanac\, Dzidza Stojkovic\, Sanel Smolo & Velid Nukicic.
URL:https://izprveruke.com/event/bosanac-dzidza-sanel-waterloo/
LOCATION:Club Ambassador\, 313 W 5th St.\, Waterloo\, IA\, United States
CATEGORIES:Koncerti
ATTACH;FMTTYPE=image/jpeg:https://izprveruke.com/wp-content/uploads/2022/03/bosanacdzidzasanel.jpg
GEO:42.4931718;-92.3397677
X-APPLE-STRUCTURED-LOCATION;VALUE=URI;X-ADDRESS=Club Ambassador 313 W 5th St. Waterloo IA United States;X-APPLE-RADIUS=500;X-TITLE=313 W 5th St.:geo:-92.3397677,42.4931718
END:VEVENT
BEGIN:VEVENT
DTSTART;TZID=America/Los_Angeles:20220327T203000
DTEND;TZID=America/Los_Angeles:20220327T235900
DTSTAMP:20260423T145239
CREATED:20220211T054319Z
LAST-MODIFIED:20220327T065954Z
UID:10000788-1648413000-1648425540@izprveruke.com
SUMMARY:Dzenan Loncarevic - Washington\, DC
DESCRIPTION:Dzenan Loncarevic & Bend
URL:https://izprveruke.com/event/dzenan-loncarevic-washington-dc/
LOCATION:Opera Ultra Lounge\, 1400 I St NW\, Washington\, District of Columbia\, United States
CATEGORIES:Koncerti
ATTACH;FMTTYPE=image/jpeg:https://izprveruke.com/wp-content/uploads/2022/02/dzenan.jpg
GEO:38.9010128;-77.0323833
X-APPLE-STRUCTURED-LOCATION;VALUE=URI;X-ADDRESS=Opera Ultra Lounge 1400 I St NW Washington District of Columbia United States;X-APPLE-RADIUS=500;X-TITLE=1400 I St NW:geo:-77.0323833,38.9010128
END:VEVENT
BEGIN:VEVENT
DTSTART;TZID=America/Los_Angeles:20220415T193000
DTEND;TZID=America/Los_Angeles:20220415T233000
DTSTAMP:20260423T145239
CREATED:20220313T002531Z
LAST-MODIFIED:20220313T195550Z
UID:10000830-1650051000-1650065400@izprveruke.com
SUMMARY:Ilda Saulic - Montreal
DESCRIPTION:Vise informacija: \nBorko 514-809-6368Milos 514-993-1055Daniel 514-651-2248
URL:https://izprveruke.com/event/ilda-saulic-montreal/
LOCATION:Plaza Volare\, 6600 Chem. de la Côte-de-Liesse\, Montreal\, Canada
CATEGORIES:Koncerti
ATTACH;FMTTYPE=image/jpeg:https://izprveruke.com/wp-content/uploads/2022/03/IMG_3733-2-e1647131073758.jpg
GEO:45.4840743;-73.6913184
X-APPLE-STRUCTURED-LOCATION;VALUE=URI;X-ADDRESS=Plaza Volare 6600 Chem. de la Côte-de-Liesse Montreal Canada;X-APPLE-RADIUS=500;X-TITLE=6600 Chem. de la Côte-de-Liesse:geo:-73.6913184,45.4840743
END:VEVENT
BEGIN:VEVENT
DTSTART;TZID=America/Los_Angeles:20220416T193000
DTEND;TZID=America/Los_Angeles:20220416T235900
DTSTAMP:20260423T145239
CREATED:20220313T002918Z
LAST-MODIFIED:20220313T195736Z
UID:10000832-1650137400-1650153540@izprveruke.com
SUMMARY:Ilda Saulic - Toronto
DESCRIPTION:Vise informacija: \nBorko 514-809-6368Milos 514-993-1055Daniel 514-651-2248
URL:https://izprveruke.com/event/ilda-saulic-toronto/
LOCATION:Banquet Hall SCA Oplenac\, 895 Rangeview Rd\, Mississauga\, Canada
CATEGORIES:Koncerti
ATTACH;FMTTYPE=image/jpeg:https://izprveruke.com/wp-content/uploads/2022/03/IMG_3733-2-e1647131073758.jpg
ORGANIZER;CN="MBD Events":MAILTO:mbdeventscanada@gmail.com
GEO:43.5731046;-79.559905
X-APPLE-STRUCTURED-LOCATION;VALUE=URI;X-ADDRESS=Banquet Hall SCA Oplenac 895 Rangeview Rd Mississauga Canada;X-APPLE-RADIUS=500;X-TITLE=895 Rangeview Rd:geo:-79.559905,43.5731046
END:VEVENT
BEGIN:VEVENT
DTSTART;TZID=America/Los_Angeles:20220417T193000
DTEND;TZID=America/Los_Angeles:20220417T235900
DTSTAMP:20260423T145239
CREATED:20220313T002750Z
LAST-MODIFIED:20220313T200833Z
UID:10000831-1650223800-1650239940@izprveruke.com
SUMMARY:Ilda Saulic - Kitchener
DESCRIPTION:Za vise informacija: \nBorko 514-809-6368Miloš 514-993-1055Daniel 514-651-2248
URL:https://izprveruke.com/event/ilda-saulic-kitchener/
LOCATION:St. George Banquet Hall\, 665 King St N\, Waterloo\, Canada
CATEGORIES:Koncerti
ATTACH;FMTTYPE=image/jpeg:https://izprveruke.com/wp-content/uploads/2022/03/IMG_3733-2-e1647131073758.jpg
ORGANIZER;CN="MBD Events":MAILTO:mbdeventscanada@gmail.com
GEO:43.5090148;-80.5423041
X-APPLE-STRUCTURED-LOCATION;VALUE=URI;X-ADDRESS=St. George Banquet Hall 665 King St N Waterloo Canada;X-APPLE-RADIUS=500;X-TITLE=665 King St N:geo:-80.5423041,43.5090148
END:VEVENT
BEGIN:VEVENT
DTSTART;TZID=America/Los_Angeles:20220506T203000
DTEND;TZID=America/Los_Angeles:20220506T235900
DTSTAMP:20260423T145239
CREATED:20220505T201045Z
LAST-MODIFIED:20220505T201049Z
UID:10000853-1651869000-1651881540@izprveruke.com
SUMMARY:Neda Ukraden - Calgary
DESCRIPTION:Vise informacija 403-607-2113
URL:https://izprveruke.com/event/neda-ukraden-calgary/
LOCATION:Barcelona Tavern HQ\, 501-8th Avenue SW\, Calgary\, AB\, Canada
CATEGORIES:Koncerti
ATTACH;FMTTYPE=image/jpeg:https://izprveruke.com/wp-content/uploads/2022/02/nedaukraden.jpg
GEO:51.0456895;-114.0718158
X-APPLE-STRUCTURED-LOCATION;VALUE=URI;X-ADDRESS=Barcelona Tavern HQ 501-8th Avenue SW Calgary AB Canada;X-APPLE-RADIUS=500;X-TITLE=501-8th Avenue SW:geo:-114.0718158,51.0456895
END:VEVENT
BEGIN:VEVENT
DTSTART;TZID=America/Los_Angeles:20220506T203000
DTEND;TZID=America/Los_Angeles:20220506T235900
DTSTAMP:20260423T145239
CREATED:20220224T033208Z
LAST-MODIFIED:20220503T225837Z
UID:10000802-1651869000-1651881540@izprveruke.com
SUMMARY:Zdravko Colic - Atlanta
DESCRIPTION:Join us for an incredible evening with Zdravko Colic & his amazing band.
URL:https://izprveruke.com/event/zdravko-colic-atlanta/
LOCATION:The Atrium\, 5479 Memorial Dr.\, Stone Mountain\, Georgia\, United States
CATEGORIES:Koncerti
ATTACH;FMTTYPE=image/jpeg:https://izprveruke.com/wp-content/uploads/2022/02/zdravkocolic.jpg
GEO:33.7986857;-84.2135699
X-APPLE-STRUCTURED-LOCATION;VALUE=URI;X-ADDRESS=The Atrium 5479 Memorial Dr. Stone Mountain Georgia United States;X-APPLE-RADIUS=500;X-TITLE=5479 Memorial Dr.:geo:-84.2135699,33.7986857
END:VEVENT
BEGIN:VEVENT
DTSTART;TZID=America/Los_Angeles:20220506T203000
DTEND;TZID=America/Los_Angeles:20220506T235900
DTSTAMP:20260423T145239
CREATED:20220212T074622Z
LAST-MODIFIED:20220214T065515Z
UID:10000801-1651869000-1651881540@izprveruke.com
SUMMARY:Rock Ko Fol - Chicago
DESCRIPTION:
URL:https://izprveruke.com/event/rock-ko-fol-chicago/
LOCATION:Skadarliya\, 9237 West Ogden Ave.\, Brookfield\, IL\, United States
CATEGORIES:Koncerti
ATTACH;FMTTYPE=image/jpeg:https://izprveruke.com/wp-content/uploads/2022/02/rkf.jpg
GEO:41.8167634;-87.8534024
X-APPLE-STRUCTURED-LOCATION;VALUE=URI;X-ADDRESS=Skadarliya 9237 West Ogden Ave. Brookfield IL United States;X-APPLE-RADIUS=500;X-TITLE=9237 West Ogden Ave.:geo:-87.8534024,41.8167634
END:VEVENT
BEGIN:VEVENT
DTSTART;TZID=America/Los_Angeles:20220507T203000
DTEND;TZID=America/Los_Angeles:20220507T235900
DTSTAMP:20260423T145239
CREATED:20220505T201502Z
LAST-MODIFIED:20220505T201506Z
UID:10000854-1651955400-1651967940@izprveruke.com
SUMMARY:Neda Ukraden - Winnipeg
DESCRIPTION:Vise informacija 204-955-4326
URL:https://izprveruke.com/event/neda-ukraden-winnipeg/
LOCATION:Holy Eucharist Parish Center\, 460 Munroe Ave\, Winnipeg\, MB\, Canada
CATEGORIES:Koncerti
ATTACH;FMTTYPE=image/jpeg:https://izprveruke.com/wp-content/uploads/2022/02/nedaukraden.jpg
GEO:49.9177053;-97.0995995
X-APPLE-STRUCTURED-LOCATION;VALUE=URI;X-ADDRESS=Holy Eucharist Parish Center 460 Munroe Ave Winnipeg MB Canada;X-APPLE-RADIUS=500;X-TITLE=460 Munroe Ave:geo:-97.0995995,49.9177053
END:VEVENT
BEGIN:VEVENT
DTSTART;TZID=America/Los_Angeles:20220507T203000
DTEND;TZID=America/Los_Angeles:20220507T235900
DTSTAMP:20260423T145239
CREATED:20220426T051938Z
LAST-MODIFIED:20220426T051942Z
UID:10000845-1651955400-1651967940@izprveruke.com
SUMMARY:Rock Ko Fol - Des Moines
DESCRIPTION:More information 515-779-5995
URL:https://izprveruke.com/event/rock-ko-fol-des-moines/
LOCATION:Zora Rooftop Bar\, 2120 Ingersoll Ave.\, Des Moines\, Iowa\, United States
CATEGORIES:Koncerti
ATTACH;FMTTYPE=image/jpeg:https://izprveruke.com/wp-content/uploads/2022/02/rkf.jpg
GEO:41.5854432;-93.6453146
X-APPLE-STRUCTURED-LOCATION;VALUE=URI;X-ADDRESS=Zora Rooftop Bar 2120 Ingersoll Ave. Des Moines Iowa United States;X-APPLE-RADIUS=500;X-TITLE=2120 Ingersoll Ave.:geo:-93.6453146,41.5854432
END:VEVENT
BEGIN:VEVENT
DTSTART;TZID=America/Los_Angeles:20220507T203000
DTEND;TZID=America/Los_Angeles:20220507T235900
DTSTAMP:20260423T145239
CREATED:20220224T033419Z
LAST-MODIFIED:20220503T225859Z
UID:10000803-1651955400-1651967940@izprveruke.com
SUMMARY:Zdravko Colic - Phoenix
DESCRIPTION:All Ages Main Floor21+ Balcony \n\n\n\nJoin us for an incredible evening with Zdravko Colic & his amazing band
URL:https://izprveruke.com/event/zdravko-colic-phoenix/
LOCATION:Marquee Theater\, 730 N Mill Ave.\, Tempe\, Arizona\, United States
CATEGORIES:Koncerti
ATTACH;FMTTYPE=image/jpeg:https://izprveruke.com/wp-content/uploads/2022/02/zdravkocolic.jpg
ORGANIZER;CN="Pure Live Music":MAILTO:info@purelivemusic.com
GEO:33.4369422;-111.944005
X-APPLE-STRUCTURED-LOCATION;VALUE=URI;X-ADDRESS=Marquee Theater 730 N Mill Ave. Tempe Arizona United States;X-APPLE-RADIUS=500;X-TITLE=730 N Mill Ave.:geo:-111.944005,33.4369422
END:VEVENT
BEGIN:VEVENT
DTSTART;TZID=America/Los_Angeles:20220513T203000
DTEND;TZID=America/Los_Angeles:20220513T235900
DTSTAMP:20260423T145239
CREATED:20220505T201856Z
LAST-MODIFIED:20220505T201915Z
UID:10000855-1652473800-1652486340@izprveruke.com
SUMMARY:Neda Ukraden - Mississauga
DESCRIPTION:Vise informacija 416-846-3661
URL:https://izprveruke.com/event/neda-ukraden-mississauga/
LOCATION:Fancy Kafana\, 4910 Tomken Rd.\, Mississauga\, ON\, Canada
CATEGORIES:Koncerti
ATTACH;FMTTYPE=image/jpeg:https://izprveruke.com/wp-content/uploads/2022/02/nedaukraden.jpg
GEO:43.6254236;-79.6312179
X-APPLE-STRUCTURED-LOCATION;VALUE=URI;X-ADDRESS=Fancy Kafana 4910 Tomken Rd. Mississauga ON Canada;X-APPLE-RADIUS=500;X-TITLE=4910 Tomken Rd.:geo:-79.6312179,43.6254236
END:VEVENT
BEGIN:VEVENT
DTSTART;TZID=America/Los_Angeles:20220513T203000
DTEND;TZID=America/Los_Angeles:20220513T235900
DTSTAMP:20260423T145239
CREATED:20220503T224924Z
LAST-MODIFIED:20220504T193346Z
UID:10000848-1652473800-1652486340@izprveruke.com
SUMMARY:Osman Hadzic - Jacksonville
DESCRIPTION:Vise informacija 904-514-7304
URL:https://izprveruke.com/event/osman-hadzic-jacksonville/
LOCATION:Yamas Hookah\, 9753 Deer Lake Ct.\, Jacksonville\, Florida\, United States
CATEGORIES:Koncerti
ATTACH;FMTTYPE=image/jpeg:https://izprveruke.com/wp-content/uploads/2022/05/osmanhadzic.jpg
GEO:30.2659461;-81.5555934
X-APPLE-STRUCTURED-LOCATION;VALUE=URI;X-ADDRESS=Yamas Hookah 9753 Deer Lake Ct. Jacksonville Florida United States;X-APPLE-RADIUS=500;X-TITLE=9753 Deer Lake Ct.:geo:-81.5555934,30.2659461
END:VEVENT
BEGIN:VEVENT
DTSTART;TZID=America/Los_Angeles:20220513T203000
DTEND;TZID=America/Los_Angeles:20220513T235900
DTSTAMP:20260423T145239
CREATED:20220224T033742Z
LAST-MODIFIED:20220503T225924Z
UID:10000804-1652473800-1652486340@izprveruke.com
SUMMARY:Zdravko Colic - Los Angeles
DESCRIPTION:Ages 21+. Join us for an incredible evening with Zdravko Colic & his amazing band.
URL:https://izprveruke.com/event/zdravko-colic-los-angeles/
LOCATION:The Mayan Theater\, 1038 S Hill Street\, Los Angeles\, California\, United States
CATEGORIES:Koncerti
ATTACH;FMTTYPE=image/jpeg:https://izprveruke.com/wp-content/uploads/2022/02/zdravkocolic.jpg
ORGANIZER;CN="Pure Live Music":MAILTO:info@purelivemusic.com
GEO:34.0404736;-118.259021
X-APPLE-STRUCTURED-LOCATION;VALUE=URI;X-ADDRESS=The Mayan Theater 1038 S Hill Street Los Angeles California United States;X-APPLE-RADIUS=500;X-TITLE=1038 S Hill Street:geo:-118.259021,34.0404736
END:VEVENT
BEGIN:VEVENT
DTSTART;TZID=America/Los_Angeles:20220514T203000
DTEND;TZID=America/Los_Angeles:20220514T235900
DTSTAMP:20260423T145239
CREATED:20220505T202347Z
LAST-MODIFIED:20220505T202351Z
UID:10000856-1652560200-1652572740@izprveruke.com
SUMMARY:Neda Ukraden - Windsor
DESCRIPTION:
URL:https://izprveruke.com/event/neda-ukraden-windsor/
LOCATION:Slovak Centre\, 1520 Chandler Rd.\, Windsor\, ON\, Canada
CATEGORIES:Koncerti
ATTACH;FMTTYPE=image/jpeg:https://izprveruke.com/wp-content/uploads/2022/02/nedaukraden.jpg
GEO:42.31283;-82.9907676
X-APPLE-STRUCTURED-LOCATION;VALUE=URI;X-ADDRESS=Slovak Centre 1520 Chandler Rd. Windsor ON Canada;X-APPLE-RADIUS=500;X-TITLE=1520 Chandler Rd.:geo:-82.9907676,42.31283
END:VEVENT
BEGIN:VEVENT
DTSTART;TZID=America/Los_Angeles:20220514T203000
DTEND;TZID=America/Los_Angeles:20220514T235900
DTSTAMP:20260423T145239
CREATED:20220503T224757Z
LAST-MODIFIED:20220503T224800Z
UID:10000847-1652560200-1652572740@izprveruke.com
SUMMARY:Osman Hadzic - Clearwater
DESCRIPTION:Vise informacija 727-400-4047
URL:https://izprveruke.com/event/osman-hadzic-clearwater/
LOCATION:De Lukas Restaurant and Bar\, 1343 Cleveland St.\, Clearwater\, FL\, United States
CATEGORIES:Koncerti
ATTACH;FMTTYPE=image/jpeg:https://izprveruke.com/wp-content/uploads/2022/05/osmanhadzic.jpg
GEO:27.965308;-82.7812484
X-APPLE-STRUCTURED-LOCATION;VALUE=URI;X-ADDRESS=De Lukas Restaurant and Bar 1343 Cleveland St. Clearwater FL United States;X-APPLE-RADIUS=500;X-TITLE=1343 Cleveland St.:geo:-82.7812484,27.965308
END:VEVENT
BEGIN:VEVENT
DTSTART;TZID=America/Los_Angeles:20220514T203000
DTEND;TZID=America/Los_Angeles:20220514T235900
DTSTAMP:20260423T145239
CREATED:20220224T034019Z
LAST-MODIFIED:20220420T183656Z
UID:10000805-1652560200-1652572740@izprveruke.com
SUMMARY:Zdravko Colic - Vancouver\, BC
DESCRIPTION:SOLD OUT \n\n\n\nAges 19+ \n\n\n\nJoin us for an incredible evening with Zdravko Colic & his amazing band.
URL:https://izprveruke.com/event/zdravko-colic-vancouver-bc/
LOCATION:Hard Rock Casino\, 2080 United Blvd.\, Coquitlam\, BC\, Canada
CATEGORIES:Koncerti
ATTACH;FMTTYPE=image/jpeg:https://izprveruke.com/wp-content/uploads/2022/02/zdravkocolic.jpg
ORGANIZER;CN="Pure Live Music":MAILTO:info@purelivemusic.com
GEO:49.2271838;-122.8369942
X-APPLE-STRUCTURED-LOCATION;VALUE=URI;X-ADDRESS=Hard Rock Casino 2080 United Blvd. Coquitlam BC Canada;X-APPLE-RADIUS=500;X-TITLE=2080 United Blvd.:geo:-122.8369942,49.2271838
END:VEVENT
BEGIN:VEVENT
DTSTART;TZID=America/Los_Angeles:20220518T203000
DTEND;TZID=America/Los_Angeles:20220518T235900
DTSTAMP:20260423T145239
CREATED:20220503T225107Z
LAST-MODIFIED:20220503T225111Z
UID:10000849-1652905800-1652918340@izprveruke.com
SUMMARY:Osman Hadzic - Miami
DESCRIPTION:
URL:https://izprveruke.com/event/osman-hadzic-miami/
LOCATION:Rakija Grill\, 139 NE 3rd Ave.\, Miami\, FL\, United States
CATEGORIES:Koncerti
ATTACH;FMTTYPE=image/jpeg:https://izprveruke.com/wp-content/uploads/2022/05/osmanhadzic.jpg
GEO:25.7760215;-80.1884795
X-APPLE-STRUCTURED-LOCATION;VALUE=URI;X-ADDRESS=Rakija Grill 139 NE 3rd Ave. Miami FL United States;X-APPLE-RADIUS=500;X-TITLE=139 NE 3rd Ave.:geo:-80.1884795,25.7760215
END:VEVENT
BEGIN:VEVENT
DTSTART;TZID=America/Los_Angeles:20220520T203000
DTEND;TZID=America/Los_Angeles:20220520T235900
DTSTAMP:20260423T145239
CREATED:20220503T225258Z
LAST-MODIFIED:20220503T225302Z
UID:10000850-1653078600-1653091140@izprveruke.com
SUMMARY:Osman Hadzic - Louisville
DESCRIPTION:Vise informacija 502-807-5325
URL:https://izprveruke.com/event/osman-hadzic-louisville/
LOCATION:Borsalino Cafe & Grill\, 3825 Bardstown Rd.\, Louisville\, KY\, United States
CATEGORIES:Koncerti
ATTACH;FMTTYPE=image/jpeg:https://izprveruke.com/wp-content/uploads/2022/05/osmanhadzic.jpg
GEO:38.1961017;-85.6537025
X-APPLE-STRUCTURED-LOCATION;VALUE=URI;X-ADDRESS=Borsalino Cafe & Grill 3825 Bardstown Rd. Louisville KY United States;X-APPLE-RADIUS=500;X-TITLE=3825 Bardstown Rd.:geo:-85.6537025,38.1961017
END:VEVENT
BEGIN:VEVENT
DTSTART;TZID=America/Los_Angeles:20220520T203000
DTEND;TZID=America/Los_Angeles:20220520T235900
DTSTAMP:20260423T145239
CREATED:20220426T052134Z
LAST-MODIFIED:20220426T052137Z
UID:10000846-1653078600-1653091140@izprveruke.com
SUMMARY:Rock Ko Fol - Phoenix
DESCRIPTION:Rock Ko Fol Live in Phoenix
URL:https://izprveruke.com/event/rock-ko-fol-phoenix/
LOCATION:CB Live\, 21001 N Tatum Blvd.\, Phoenix\, AZ\, United States
CATEGORIES:Koncerti
ATTACH;FMTTYPE=image/jpeg:https://izprveruke.com/wp-content/uploads/2022/02/rkf.jpg
GEO:33.6765082;-111.9761103
X-APPLE-STRUCTURED-LOCATION;VALUE=URI;X-ADDRESS=CB Live 21001 N Tatum Blvd. Phoenix AZ United States;X-APPLE-RADIUS=500;X-TITLE=21001 N Tatum Blvd.:geo:-111.9761103,33.6765082
END:VEVENT
BEGIN:VEVENT
DTSTART;TZID=America/Los_Angeles:20220520T203000
DTEND;TZID=America/Los_Angeles:20220520T235900
DTSTAMP:20260423T145239
CREATED:20220224T034238Z
LAST-MODIFIED:20220302T013655Z
UID:10000806-1653078600-1653091140@izprveruke.com
SUMMARY:Zdravko Colic - Toronto
DESCRIPTION:Ages 19+ \n\n\n\nJoin us for an incredible evening with Zdravko Colic & his amazing band
URL:https://izprveruke.com/event/zdravko-colic-toronto/
LOCATION:Rebel\, 11 Polson St.\, Toronto\, ON\, Canada
CATEGORIES:Koncerti
ATTACH;FMTTYPE=image/jpeg:https://izprveruke.com/wp-content/uploads/2022/02/zdravkocolic.jpg
ORGANIZER;CN="Pure Live Music":MAILTO:info@purelivemusic.com
GEO:43.6407774;-79.3545752
X-APPLE-STRUCTURED-LOCATION;VALUE=URI;X-ADDRESS=Rebel 11 Polson St. Toronto ON Canada;X-APPLE-RADIUS=500;X-TITLE=11 Polson St.:geo:-79.3545752,43.6407774
END:VEVENT
BEGIN:VEVENT
DTSTART;TZID=America/Los_Angeles:20220522T203000
DTEND;TZID=America/Los_Angeles:20220522T235900
DTSTAMP:20260423T145239
CREATED:20220415T045647Z
LAST-MODIFIED:20220415T045734Z
UID:10000836-1653251400-1653263940@izprveruke.com
SUMMARY:Zdravko Colic - Edmonton
DESCRIPTION:Join us for an incredible evening with Zdravko Colic & his amazing band
URL:https://izprveruke.com/event/zdravko-colic-edmonton/
LOCATION:Union Hall\, 6240 99 St. NW\, Edmonton\, Alberta\, Canada
CATEGORIES:Koncerti
ATTACH;FMTTYPE=image/jpeg:https://izprveruke.com/wp-content/uploads/2022/02/zdravkocolic.jpg
ORGANIZER;CN="Pure Live Music":MAILTO:info@purelivemusic.com
GEO:53.4986139;-113.4874713
X-APPLE-STRUCTURED-LOCATION;VALUE=URI;X-ADDRESS=Union Hall 6240 99 St. NW Edmonton Alberta Canada;X-APPLE-RADIUS=500;X-TITLE=6240 99 St. NW:geo:-113.4874713,53.4986139
END:VEVENT
BEGIN:VEVENT
DTSTART;TZID=America/Los_Angeles:20220527T203000
DTEND;TZID=America/Los_Angeles:20220527T235900
DTSTAMP:20260423T145239
CREATED:20220503T225600Z
LAST-MODIFIED:20220518T174641Z
UID:10000852-1653683400-1653695940@izprveruke.com
SUMMARY:Osman Hadzic - Austin
DESCRIPTION:Vise informacija 713-336-3605
URL:https://izprveruke.com/event/osman-hadzic-austin/
LOCATION:Balkan Cafe & Grill\, 11800 N Lamar Blvd.\, Austin\, Texas\, United States
CATEGORIES:Koncerti
ATTACH;FMTTYPE=image/jpeg:https://izprveruke.com/wp-content/uploads/2022/05/osmanhadzic.jpg
GEO:30.3877257;-97.6841092
X-APPLE-STRUCTURED-LOCATION;VALUE=URI;X-ADDRESS=Balkan Cafe & Grill 11800 N Lamar Blvd. Austin Texas United States;X-APPLE-RADIUS=500;X-TITLE=11800 N Lamar Blvd.:geo:-97.6841092,30.3877257
END:VEVENT
BEGIN:VEVENT
DTSTART;TZID=America/Los_Angeles:20220527T203000
DTEND;TZID=America/Los_Angeles:20220527T235900
DTSTAMP:20260423T145239
CREATED:20220224T034552Z
LAST-MODIFIED:20220302T013842Z
UID:10000807-1653683400-1653695940@izprveruke.com
SUMMARY:Zdravko Colic - Chicago
DESCRIPTION:Ages 21+ \n\n\n\nJoin us for an incredible evening with Zdravko Colic & his amazing band
URL:https://izprveruke.com/event/zdravko-colic-chicago/
LOCATION:Joe’s Live\, 5441 Park Pl.\, Rosemont\, Illinois\, United States
CATEGORIES:Koncerti
ATTACH;FMTTYPE=image/jpeg:https://izprveruke.com/wp-content/uploads/2022/02/zdravkocolic.jpg
ORGANIZER;CN="Pure Live Music":MAILTO:info@purelivemusic.com
GEO:41.9780701;-87.8673276
X-APPLE-STRUCTURED-LOCATION;VALUE=URI;X-ADDRESS=Joe’s Live 5441 Park Pl. Rosemont Illinois United States;X-APPLE-RADIUS=500;X-TITLE=5441 Park Pl.:geo:-87.8673276,41.9780701
END:VEVENT
BEGIN:VEVENT
DTSTART;TZID=America/Los_Angeles:20220528T203000
DTEND;TZID=America/Los_Angeles:20220528T235900
DTSTAMP:20260423T145239
CREATED:20220224T035444Z
LAST-MODIFIED:20220302T013955Z
UID:10000808-1653769800-1653782340@izprveruke.com
SUMMARY:Zdravko Colic - New York
DESCRIPTION:Ages 21+ \n\n\n\nJoin us for an incredible evening with Zdravko Colic & his amazing band
URL:https://izprveruke.com/event/zdravko-colic-new-york/
LOCATION:Melrose Ballroom\, 36-08 33rd St.\, New York\, NY\, United States
CATEGORIES:Koncerti
ATTACH;FMTTYPE=image/jpeg:https://izprveruke.com/wp-content/uploads/2022/02/zdravkocolic.jpg
ORGANIZER;CN="Pure Live Music":MAILTO:info@purelivemusic.com
GEO:40.7555992;-73.9286147
X-APPLE-STRUCTURED-LOCATION;VALUE=URI;X-ADDRESS=Melrose Ballroom 36-08 33rd St. New York NY United States;X-APPLE-RADIUS=500;X-TITLE=36-08 33rd St.:geo:-73.9286147,40.7555992
END:VEVENT
BEGIN:VEVENT
DTSTART;TZID=America/Los_Angeles:20220529T203000
DTEND;TZID=America/Los_Angeles:20220529T235900
DTSTAMP:20260423T145239
CREATED:20220503T225450Z
LAST-MODIFIED:20220503T225453Z
UID:10000851-1653856200-1653868740@izprveruke.com
SUMMARY:Osman Hadzic - Utica
DESCRIPTION:Osman Hadzic & Amela Husovic + DJ Nikko
URL:https://izprveruke.com/event/osman-hadzic-utica/
LOCATION:Una Bar\, 620 Eagle St.\, Utica\, NY\, United States
CATEGORIES:Koncerti
ATTACH;FMTTYPE=image/jpeg:https://izprveruke.com/wp-content/uploads/2022/05/osmanhadzic.jpg
GEO:43.0893226;-75.2249112
X-APPLE-STRUCTURED-LOCATION;VALUE=URI;X-ADDRESS=Una Bar 620 Eagle St. Utica NY United States;X-APPLE-RADIUS=500;X-TITLE=620 Eagle St.:geo:-75.2249112,43.0893226
END:VEVENT
BEGIN:VEVENT
DTSTART;TZID=America/Los_Angeles:20220603T200000
DTEND;TZID=America/Los_Angeles:20220603T235900
DTSTAMP:20260423T145239
CREATED:20220401T023724Z
LAST-MODIFIED:20220401T023726Z
UID:10000835-1654286400-1654300740@izprveruke.com
SUMMARY:Halid Bešlić - Toronto
DESCRIPTION:19+ | Halid Beslic & Full Band
URL:https://izprveruke.com/event/halid-beslic-toronto/
LOCATION:Rebel\, 11 Polson St.\, Toronto\, ON\, Canada
CATEGORIES:Koncerti
ATTACH;FMTTYPE=image/png:https://izprveruke.com/wp-content/uploads/2022/03/halidbeslic.png
GEO:43.6407774;-79.3545752
X-APPLE-STRUCTURED-LOCATION;VALUE=URI;X-ADDRESS=Rebel 11 Polson St. Toronto ON Canada;X-APPLE-RADIUS=500;X-TITLE=11 Polson St.:geo:-79.3545752,43.6407774
END:VEVENT
END:VCALENDAR