BEGIN:VCALENDAR
VERSION:2.0
PRODID:-//Iz Prve Ruke - Koncerti u Americi i Kanadi | Lokalna Dešavanja - ECPv6.15.20//NONSGML v1.0//EN
CALSCALE:GREGORIAN
METHOD:PUBLISH
X-ORIGINAL-URL:https://izprveruke.com
X-WR-CALDESC:Events for Iz Prve Ruke - Koncerti u Americi i Kanadi | Lokalna Dešavanja
REFRESH-INTERVAL;VALUE=DURATION:PT1H
X-Robots-Tag:noindex
X-PUBLISHED-TTL:PT1H
BEGIN:VTIMEZONE
TZID:America/Los_Angeles
BEGIN:DAYLIGHT
TZOFFSETFROM:-0800
TZOFFSETTO:-0700
TZNAME:PDT
DTSTART:20220313T100000
END:DAYLIGHT
BEGIN:STANDARD
TZOFFSETFROM:-0700
TZOFFSETTO:-0800
TZNAME:PST
DTSTART:20221106T090000
END:STANDARD
BEGIN:DAYLIGHT
TZOFFSETFROM:-0800
TZOFFSETTO:-0700
TZNAME:PDT
DTSTART:20230312T100000
END:DAYLIGHT
BEGIN:STANDARD
TZOFFSETFROM:-0700
TZOFFSETTO:-0800
TZNAME:PST
DTSTART:20231105T090000
END:STANDARD
BEGIN:DAYLIGHT
TZOFFSETFROM:-0800
TZOFFSETTO:-0700
TZNAME:PDT
DTSTART:20240310T100000
END:DAYLIGHT
BEGIN:STANDARD
TZOFFSETFROM:-0700
TZOFFSETTO:-0800
TZNAME:PST
DTSTART:20241103T090000
END:STANDARD
END:VTIMEZONE
BEGIN:VEVENT
DTSTART;TZID=America/Los_Angeles:20230107T203000
DTEND;TZID=America/Los_Angeles:20230107T235900
DTSTAMP:20260424T124325
CREATED:20221220T081452Z
LAST-MODIFIED:20221220T081458Z
UID:10001020-1673123400-1673135940@izprveruke.com
SUMMARY:Denial Ahmetovic - Louisville
DESCRIPTION:Vise informacija 502-807-5325
URL:https://izprveruke.com/event/denial-ahmetovic-louisville/
LOCATION:Borsalino Cafe & Grill\, 3825 Bardstown Rd.\, Louisville\, KY\, United States
CATEGORIES:Koncerti
ATTACH;FMTTYPE=image/png:https://izprveruke.com/wp-content/uploads/2022/12/denialahmeotovic.png
GEO:38.1961017;-85.6537025
X-APPLE-STRUCTURED-LOCATION;VALUE=URI;X-ADDRESS=Borsalino Cafe & Grill 3825 Bardstown Rd. Louisville KY United States;X-APPLE-RADIUS=500;X-TITLE=3825 Bardstown Rd.:geo:-85.6537025,38.1961017
END:VEVENT
BEGIN:VEVENT
DTSTART;TZID=America/Los_Angeles:20230111T203000
DTEND;TZID=America/Los_Angeles:20230111T235900
DTSTAMP:20260424T124325
CREATED:20230104T083502Z
LAST-MODIFIED:20230104T083506Z
UID:10001035-1673469000-1673481540@izprveruke.com
SUMMARY:Emina Tufo - Las Vegas
DESCRIPTION:Vise informacija 702-818-3616
URL:https://izprveruke.com/event/emina-tufo-las-vegas/
LOCATION:Cafe Derbi\, 5920 W. Flamingo Rd.\, Las Vegas\, NV\, United States
CATEGORIES:Koncerti
ATTACH;FMTTYPE=image/png:https://izprveruke.com/wp-content/uploads/2023/01/eminatufo.png
GEO:36.1154263;-115.2221234
X-APPLE-STRUCTURED-LOCATION;VALUE=URI;X-ADDRESS=Cafe Derbi 5920 W. Flamingo Rd. Las Vegas NV United States;X-APPLE-RADIUS=500;X-TITLE=5920 W. Flamingo Rd.:geo:-115.2221234,36.1154263
END:VEVENT
BEGIN:VEVENT
DTSTART;TZID=America/Los_Angeles:20230113T203000
DTEND;TZID=America/Los_Angeles:20230113T235900
DTSTAMP:20260424T124325
CREATED:20230104T085257Z
LAST-MODIFIED:20230104T085301Z
UID:10001038-1673641800-1673654340@izprveruke.com
SUMMARY:Anica Milenkovic - Docek Srpske Nove 2023 - Dallas
DESCRIPTION:Vise informacija i rezervacije 214-441-9267
URL:https://izprveruke.com/event/anica-milenkovic-docek-srpske-nove-2023-dallas/
LOCATION:Crkva Sv. Tri Jerarha\, 2324 Village Creek Dr.\, Irving\, Texas\, United States
CATEGORIES:Koncerti
ATTACH;FMTTYPE=image/png:https://izprveruke.com/wp-content/uploads/2023/01/anicamilenkovic.png
GEO:32.7945762;-96.9762196
X-APPLE-STRUCTURED-LOCATION;VALUE=URI;X-ADDRESS=Crkva Sv. Tri Jerarha 2324 Village Creek Dr. Irving Texas United States;X-APPLE-RADIUS=500;X-TITLE=2324 Village Creek Dr.:geo:-96.9762196,32.7945762
END:VEVENT
BEGIN:VEVENT
DTSTART;TZID=America/Los_Angeles:20230113T203000
DTEND;TZID=America/Los_Angeles:20230113T235900
DTSTAMP:20260424T124325
CREATED:20221220T081927Z
LAST-MODIFIED:20221220T082539Z
UID:10001021-1673641800-1673654340@izprveruke.com
SUMMARY:Denial Ahmetovic - Grand Rapids
DESCRIPTION:Vise informacija 616-272-1583 & 616-682-2222
URL:https://izprveruke.com/event/denial-ahmetovic-grand-rapids/
LOCATION:Zeytin Restaurant\, 7437 River St SE\, Ada\, Michigan\, United States
CATEGORIES:Koncerti
ATTACH;FMTTYPE=image/png:https://izprveruke.com/wp-content/uploads/2022/12/denialahmeotovic.png
GEO:42.9546137;-85.4848172
X-APPLE-STRUCTURED-LOCATION;VALUE=URI;X-ADDRESS=Zeytin Restaurant 7437 River St SE Ada Michigan United States;X-APPLE-RADIUS=500;X-TITLE=7437 River St SE:geo:-85.4848172,42.9546137
END:VEVENT
BEGIN:VEVENT
DTSTART;TZID=America/Los_Angeles:20230114T203000
DTEND;TZID=America/Los_Angeles:20230114T235900
DTSTAMP:20260424T124325
CREATED:20230106T073614Z
LAST-MODIFIED:20230106T073619Z
UID:10001046-1673728200-1673740740@izprveruke.com
SUMMARY:Sandra Afrika & Bane Bojanic - Indiana
DESCRIPTION:Vise informacija 847-489-6236
URL:https://izprveruke.com/event/sandra-afrika-bane-bojanic-indiana/
LOCATION:Macedonian Cultural Center\, 9660 Broadway Crown Point\, Crown Point\, IN\, United States
CATEGORIES:Koncerti
ATTACH;FMTTYPE=image/png:https://izprveruke.com/wp-content/uploads/2023/01/afrika_bane.png
GEO:41.4426919;-87.3364322
X-APPLE-STRUCTURED-LOCATION;VALUE=URI;X-ADDRESS=Macedonian Cultural Center 9660 Broadway Crown Point Crown Point IN United States;X-APPLE-RADIUS=500;X-TITLE=9660 Broadway Crown Point:geo:-87.3364322,41.4426919
END:VEVENT
BEGIN:VEVENT
DTSTART;TZID=America/Los_Angeles:20230114T203000
DTEND;TZID=America/Los_Angeles:20230114T235900
DTSTAMP:20260424T124325
CREATED:20230104T085703Z
LAST-MODIFIED:20230104T085735Z
UID:10001039-1673728200-1673740740@izprveruke.com
SUMMARY:Ilda Saulic - New York
DESCRIPTION:Vise informacija 718-821-9875
URL:https://izprveruke.com/event/ilda-saulic-new-york/
LOCATION:Srpski Klub New York\, 7254 65th Pl\, Queens\, New York\, New York\, United States
CATEGORIES:Koncerti
ATTACH;FMTTYPE=image/jpeg:https://izprveruke.com/wp-content/uploads/2022/03/IMG_3733-2-e1647131073758.jpg
GEO:40.6997219;-73.8888121
X-APPLE-STRUCTURED-LOCATION;VALUE=URI;X-ADDRESS=Srpski Klub New York 7254 65th Pl Queens New York New York United States;X-APPLE-RADIUS=500;X-TITLE=7254 65th Pl\, Queens:geo:-73.8888121,40.6997219
END:VEVENT
BEGIN:VEVENT
DTSTART;TZID=America/Los_Angeles:20230114T203000
DTEND;TZID=America/Los_Angeles:20230114T235900
DTSTAMP:20260424T124325
CREATED:20221220T082141Z
LAST-MODIFIED:20221223T014444Z
UID:10001022-1673728200-1673740740@izprveruke.com
SUMMARY:Denial Ahmetovic - Detroit
DESCRIPTION:Vise informacija 586-915-8497
URL:https://izprveruke.com/event/denial-ahmetovic-detroit/
LOCATION:Premier Events Center\, 20400 S Nunneley Rd.\, Clinton Twp\, Michigan\, United States
CATEGORIES:Koncerti
ATTACH;FMTTYPE=image/png:https://izprveruke.com/wp-content/uploads/2022/12/denialahmeotovic.png
GEO:42.5685909;-82.9141163
X-APPLE-STRUCTURED-LOCATION;VALUE=URI;X-ADDRESS=Premier Events Center 20400 S Nunneley Rd. Clinton Twp Michigan United States;X-APPLE-RADIUS=500;X-TITLE=20400 S Nunneley Rd.:geo:-82.9141163,42.5685909
END:VEVENT
BEGIN:VEVENT
DTSTART;TZID=America/Los_Angeles:20230115T203000
DTEND;TZID=America/Los_Angeles:20230115T235900
DTSTAMP:20260424T124325
CREATED:20230111T084055Z
LAST-MODIFIED:20230114T015153Z
UID:10001060-1673814600-1673827140@izprveruke.com
SUMMARY:Sandra Afrika - Utica
DESCRIPTION:Vise informacija 315-527-3856
URL:https://izprveruke.com/event/sandra-afrika-utica/
LOCATION:Una Bar\, 620 Eagle St.\, Utica\, NY\, United States
CATEGORIES:Koncerti
ATTACH;FMTTYPE=image/png:https://izprveruke.com/wp-content/uploads/2023/01/sandraafrika.png
GEO:43.0893226;-75.2249112
X-APPLE-STRUCTURED-LOCATION;VALUE=URI;X-ADDRESS=Una Bar 620 Eagle St. Utica NY United States;X-APPLE-RADIUS=500;X-TITLE=620 Eagle St.:geo:-75.2249112,43.0893226
END:VEVENT
BEGIN:VEVENT
DTSTART;TZID=America/Los_Angeles:20230120T203000
DTEND;TZID=America/Los_Angeles:20230120T235900
DTSTAMP:20260424T124325
CREATED:20230114T014616Z
LAST-MODIFIED:20230114T015210Z
UID:10001064-1674246600-1674259140@izprveruke.com
SUMMARY:Sandra Afrika - Chicago
DESCRIPTION:Sandra Afrika\, Sanja Grahovac & DJ Spaz \n\n\n\nVise informacija 315-527-3856
URL:https://izprveruke.com/event/sandra-afrika-chicago/
LOCATION:Underground\, 56 West Illinois St.\, Chicago\, Illinois\, United States
CATEGORIES:Koncerti
ATTACH;FMTTYPE=image/png:https://izprveruke.com/wp-content/uploads/2023/01/sandraafrika.png
GEO:41.891128;-87.6300881
X-APPLE-STRUCTURED-LOCATION;VALUE=URI;X-ADDRESS=Underground 56 West Illinois St. Chicago Illinois United States;X-APPLE-RADIUS=500;X-TITLE=56 West Illinois St.:geo:-87.6300881,41.891128
END:VEVENT
BEGIN:VEVENT
DTSTART;TZID=America/Los_Angeles:20230120T203000
DTEND;TZID=America/Los_Angeles:20230120T235900
DTSTAMP:20260424T124325
CREATED:20230106T082835Z
LAST-MODIFIED:20230106T082843Z
UID:10001051-1674246600-1674259140@izprveruke.com
SUMMARY:Denial Ahmetovic - Manchester
DESCRIPTION:Vise informacija 603-365-7451
URL:https://izprveruke.com/event/denial-ahmetovic-manchester/
LOCATION:The Bungalow Bar & Grill\, 333 Valley St.\, Manchester\, NH\, United States
CATEGORIES:Koncerti
ATTACH;FMTTYPE=image/png:https://izprveruke.com/wp-content/uploads/2022/12/denialahmeotovic.png
GEO:42.9810401;-71.4546575
X-APPLE-STRUCTURED-LOCATION;VALUE=URI;X-ADDRESS=The Bungalow Bar & Grill 333 Valley St. Manchester NH United States;X-APPLE-RADIUS=500;X-TITLE=333 Valley St.:geo:-71.4546575,42.9810401
END:VEVENT
BEGIN:VEVENT
DTSTART;TZID=America/Los_Angeles:20230121T203000
DTEND;TZID=America/Los_Angeles:20230121T235900
DTSTAMP:20260424T124325
CREATED:20230111T083430Z
LAST-MODIFIED:20230114T015231Z
UID:10001055-1674333000-1674345540@izprveruke.com
SUMMARY:Sandra Afrika - St. Petersburg
DESCRIPTION:Vise informacija 561-268-6757
URL:https://izprveruke.com/event/sandra-afrika-st-petersburg/
LOCATION:Acropolis Greek Taverna\, 515 Central Ave.\, St. Petersburg\, Florida\, United States
CATEGORIES:Koncerti
ATTACH;FMTTYPE=image/png:https://izprveruke.com/wp-content/uploads/2023/01/sandraafrika.png
GEO:27.7714485;-82.6406423
X-APPLE-STRUCTURED-LOCATION;VALUE=URI;X-ADDRESS=Acropolis Greek Taverna 515 Central Ave. St. Petersburg Florida United States;X-APPLE-RADIUS=500;X-TITLE=515 Central Ave.:geo:-82.6406423,27.7714485
END:VEVENT
BEGIN:VEVENT
DTSTART;TZID=America/Los_Angeles:20230121T203000
DTEND;TZID=America/Los_Angeles:20230121T235900
DTSTAMP:20260424T124325
CREATED:20221220T082312Z
LAST-MODIFIED:20221220T082318Z
UID:10001023-1674333000-1674345540@izprveruke.com
SUMMARY:Denial Ahmetovic - St. Louis
DESCRIPTION:Vise informacija 314-730-0113
URL:https://izprveruke.com/event/denial-ahmetovic-st-louis/
LOCATION:Bistro Banquet Hall\, 5209 Gravois Rd\, Saint Louis\, 63116
CATEGORIES:Koncerti
ATTACH;FMTTYPE=image/png:https://izprveruke.com/wp-content/uploads/2022/12/denialahmeotovic.png
GEO:38.5798646;-90.2693313
X-APPLE-STRUCTURED-LOCATION;VALUE=URI;X-ADDRESS=Bistro Banquet Hall 5209 Gravois Rd Saint Louis 63116;X-APPLE-RADIUS=500;X-TITLE=5209 Gravois Rd:geo:-90.2693313,38.5798646
END:VEVENT
BEGIN:VEVENT
DTSTART;TZID=America/Los_Angeles:20230122T203000
DTEND;TZID=America/Los_Angeles:20230122T235900
DTSTAMP:20260424T124325
CREATED:20230111T083651Z
LAST-MODIFIED:20230114T015249Z
UID:10001057-1674419400-1674431940@izprveruke.com
SUMMARY:Sandra Afrika - Jacksonville
DESCRIPTION:Vise informacija 904-514-7304
URL:https://izprveruke.com/event/sandra-afrika-jacksonville/
LOCATION:Smash Whispers Lounge\, 8206 Philips Hwy Unit 6\, Jacksonville\, Florida\, United States
CATEGORIES:Koncerti
ATTACH;FMTTYPE=image/png:https://izprveruke.com/wp-content/uploads/2023/01/sandraafrika.png
GEO:30.2198384;-81.5869658
X-APPLE-STRUCTURED-LOCATION;VALUE=URI;X-ADDRESS=Smash Whispers Lounge 8206 Philips Hwy Unit 6 Jacksonville Florida United States;X-APPLE-RADIUS=500;X-TITLE=8206 Philips Hwy Unit 6:geo:-81.5869658,30.2198384
END:VEVENT
BEGIN:VEVENT
DTSTART;TZID=America/Los_Angeles:20230125T203000
DTEND;TZID=America/Los_Angeles:20230125T235900
DTSTAMP:20260424T124325
CREATED:20230111T083958Z
LAST-MODIFIED:20230114T015309Z
UID:10001059-1674678600-1674691140@izprveruke.com
SUMMARY:Sandra Afrika - Miami
DESCRIPTION:Vise informacija 305-922-3779
URL:https://izprveruke.com/event/sandra-afrika-miami/
LOCATION:Aaru @ The Four Ambassadors\, 801 Brickell Bay Dr.\, Miami\, Florida\, United States
CATEGORIES:Koncerti
ATTACH;FMTTYPE=image/png:https://izprveruke.com/wp-content/uploads/2023/01/sandraafrika.png
GEO:25.7653453;-80.1890505
X-APPLE-STRUCTURED-LOCATION;VALUE=URI;X-ADDRESS=Aaru @ The Four Ambassadors 801 Brickell Bay Dr. Miami Florida United States;X-APPLE-RADIUS=500;X-TITLE=801 Brickell Bay Dr.:geo:-80.1890505,25.7653453
END:VEVENT
BEGIN:VEVENT
DTSTART;TZID=America/Los_Angeles:20230127T203000
DTEND;TZID=America/Los_Angeles:20230127T235900
DTSTAMP:20260424T124325
CREATED:20230111T083755Z
LAST-MODIFIED:20230114T015125Z
UID:10001058-1674851400-1674863940@izprveruke.com
SUMMARY:Sandra Afrika - St. Louis
DESCRIPTION:Sandra Afrika & DJ Hadzic \n\n\n\nVise informacija 314-489-4404 & 314-445-9406
URL:https://izprveruke.com/event/sandra-afrika-st-louis/
LOCATION:Start Bar\, 1000 Spruce St.\, St. Louis\, Missouri\, United States
CATEGORIES:Koncerti
ATTACH;FMTTYPE=image/png:https://izprveruke.com/wp-content/uploads/2023/01/sandraafrika.png
GEO:38.623593;-90.197057
X-APPLE-STRUCTURED-LOCATION;VALUE=URI;X-ADDRESS=Start Bar 1000 Spruce St. St. Louis Missouri United States;X-APPLE-RADIUS=500;X-TITLE=1000 Spruce St.:geo:-90.197057,38.623593
END:VEVENT
BEGIN:VEVENT
DTSTART;TZID=America/Los_Angeles:20230128T203000
DTEND;TZID=America/Los_Angeles:20230128T235900
DTSTAMP:20260424T124325
CREATED:20230111T083602Z
LAST-MODIFIED:20230114T015519Z
UID:10001056-1674937800-1674950340@izprveruke.com
SUMMARY:Sandra Afrika - Detroit
DESCRIPTION:Vise informacija 586-873-3945
URL:https://izprveruke.com/event/sandra-afrika-detroit/
LOCATION:Premier Events Center\, 20400 S Nunneley Rd.\, Clinton Twp\, Michigan\, United States
CATEGORIES:Koncerti
ATTACH;FMTTYPE=image/png:https://izprveruke.com/wp-content/uploads/2023/01/sandraafrika.png
GEO:42.5685909;-82.9141163
X-APPLE-STRUCTURED-LOCATION;VALUE=URI;X-ADDRESS=Premier Events Center 20400 S Nunneley Rd. Clinton Twp Michigan United States;X-APPLE-RADIUS=500;X-TITLE=20400 S Nunneley Rd.:geo:-82.9141163,42.5685909
END:VEVENT
BEGIN:VEVENT
DTSTART;TZID=America/Los_Angeles:20230203T203000
DTEND;TZID=America/Los_Angeles:20230203T235900
DTSTAMP:20260424T124325
CREATED:20230118T071015Z
LAST-MODIFIED:20230130T200203Z
UID:10001071-1675456200-1675468740@izprveruke.com
SUMMARY:Viki Miljkovic & Nermin Hadzic - Detroit
DESCRIPTION:Vise informacija 586-873-3945
URL:https://izprveruke.com/event/viki-miljkovic-nermin-hadzic-detroit/
LOCATION:Premier Event Center\, 20400 S Nunneley Rd.\, Clinton Township\, Michigan\, United States
CATEGORIES:Koncerti
ATTACH;FMTTYPE=image/png:https://izprveruke.com/wp-content/uploads/2022/11/viki_nerminhadzic.png
GEO:42.5685908;-82.9141009
X-APPLE-STRUCTURED-LOCATION;VALUE=URI;X-ADDRESS=Premier Event Center 20400 S Nunneley Rd. Clinton Township Michigan United States;X-APPLE-RADIUS=500;X-TITLE=20400 S Nunneley Rd.:geo:-82.9141009,42.5685908
END:VEVENT
BEGIN:VEVENT
DTSTART;TZID=America/Los_Angeles:20230203T203000
DTEND;TZID=America/Los_Angeles:20230203T235900
DTSTAMP:20260424T124325
CREATED:20230105T070332Z
LAST-MODIFIED:20230105T071308Z
UID:10001040-1675456200-1675468740@izprveruke.com
SUMMARY:Dragana Mirkovic - Phoenix
DESCRIPTION:Dragana Mirkovic & Band live in Phoenix. \n\n\n\nSpecial guest: DJ Deki \n\n\n\nInfo: 480-433-5505
URL:https://izprveruke.com/event/dragana-mirkovic-phoenix/
LOCATION:CB Live\, 21001 N Tatum Blvd.\, Phoenix\, AZ\, United States
CATEGORIES:Koncerti
ATTACH;FMTTYPE=image/png:https://izprveruke.com/wp-content/uploads/2023/01/draganamirkovic-e1673429271253.png
GEO:33.6765082;-111.9761103
X-APPLE-STRUCTURED-LOCATION;VALUE=URI;X-ADDRESS=CB Live 21001 N Tatum Blvd. Phoenix AZ United States;X-APPLE-RADIUS=500;X-TITLE=21001 N Tatum Blvd.:geo:-111.9761103,33.6765082
END:VEVENT
BEGIN:VEVENT
DTSTART;TZID=America/Los_Angeles:20230204T203000
DTEND;TZID=America/Los_Angeles:20230204T235900
DTSTAMP:20260424T124325
CREATED:20230118T071045Z
LAST-MODIFIED:20230130T200241Z
UID:10001072-1675542600-1675555140@izprveruke.com
SUMMARY:Viki Miljkovic & Nermin Hadzic - St. Louis
DESCRIPTION:Vise informacija 314-489-4404
URL:https://izprveruke.com/event/viki-miljkovic-nermin-hadzic-st-louis/
LOCATION:Orlando’s\, 4300 Hoffmeister Ave.\, St. Louis\, MO\, United States
CATEGORIES:Koncerti
ATTACH;FMTTYPE=image/png:https://izprveruke.com/wp-content/uploads/2022/11/viki_nerminhadzic.png
GEO:38.5428234;-90.2968619
X-APPLE-STRUCTURED-LOCATION;VALUE=URI;X-ADDRESS=Orlando’s 4300 Hoffmeister Ave. St. Louis MO United States;X-APPLE-RADIUS=500;X-TITLE=4300 Hoffmeister Ave.:geo:-90.2968619,38.5428234
END:VEVENT
BEGIN:VEVENT
DTSTART;TZID=America/Los_Angeles:20230204T203000
DTEND;TZID=America/Los_Angeles:20230204T235900
DTSTAMP:20260424T124325
CREATED:20230105T070531Z
LAST-MODIFIED:20230109T064356Z
UID:10001041-1675542600-1675555140@izprveruke.com
SUMMARY:Dragana Mirkovic - New York
DESCRIPTION:Dragana Mirkovic & Band live in New York. \n\n\n\nInfo: 917-568-3496 & 646-261-3252
URL:https://izprveruke.com/event/dragana-mirkovic-new-york/
LOCATION:Melrose Ballroom\, 36-08 33rd St.\, New York\, NY\, United States
CATEGORIES:Koncerti
ATTACH;FMTTYPE=image/png:https://izprveruke.com/wp-content/uploads/2023/01/draganamirkovic-e1673429271253.png
GEO:40.7555992;-73.9286147
X-APPLE-STRUCTURED-LOCATION;VALUE=URI;X-ADDRESS=Melrose Ballroom 36-08 33rd St. New York NY United States;X-APPLE-RADIUS=500;X-TITLE=36-08 33rd St.:geo:-73.9286147,40.7555992
END:VEVENT
BEGIN:VEVENT
DTSTART;TZID=America/Los_Angeles:20230210T203000
DTEND;TZID=America/Los_Angeles:20230210T235900
DTSTAMP:20260424T124325
CREATED:20230118T071108Z
LAST-MODIFIED:20230130T200320Z
UID:10001073-1676061000-1676073540@izprveruke.com
SUMMARY:Viki Miljkovic & Nermin Hadzic - Bowling Green
DESCRIPTION:Vise informacija 270-320-2180
URL:https://izprveruke.com/event/viki-miljkovic-nermin-hadzic-bowling-green/
LOCATION:La Gala\, 601 State St.\, Bowling Green\, KY\, United States
CATEGORIES:Koncerti
ATTACH;FMTTYPE=image/png:https://izprveruke.com/wp-content/uploads/2022/11/viki_nerminhadzic.png
GEO:36.9955127;-86.4372742
X-APPLE-STRUCTURED-LOCATION;VALUE=URI;X-ADDRESS=La Gala 601 State St. Bowling Green KY United States;X-APPLE-RADIUS=500;X-TITLE=601 State St.:geo:-86.4372742,36.9955127
END:VEVENT
BEGIN:VEVENT
DTSTART;TZID=America/Los_Angeles:20230210T203000
DTEND;TZID=America/Los_Angeles:20230210T235900
DTSTAMP:20260424T124325
CREATED:20230105T070648Z
LAST-MODIFIED:20230105T070655Z
UID:10001042-1676061000-1676073540@izprveruke.com
SUMMARY:Dragana Mirkovic - Atlanta
DESCRIPTION:Dragana Mirkovic & Band live in Atlanta. \n\n\n\nInfo: 770-743-5234
URL:https://izprveruke.com/event/dragana-mirkovic-atlanta/
LOCATION:Royal Ballroom\, 6185 Buford hwy Bldg C\, Peachtree Corners\, GA\, United States
CATEGORIES:Koncerti
ATTACH;FMTTYPE=image/png:https://izprveruke.com/wp-content/uploads/2023/01/draganamirkovic-e1673429271253.png
GEO:33.9320852;-84.2245905
X-APPLE-STRUCTURED-LOCATION;VALUE=URI;X-ADDRESS=Royal Ballroom 6185 Buford hwy Bldg C Peachtree Corners GA United States;X-APPLE-RADIUS=500;X-TITLE=6185 Buford hwy Bldg C:geo:-84.2245905,33.9320852
END:VEVENT
BEGIN:VEVENT
DTSTART;TZID=America/Los_Angeles:20230211T203000
DTEND;TZID=America/Los_Angeles:20230211T235900
DTSTAMP:20260424T124325
CREATED:20230118T071135Z
LAST-MODIFIED:20230130T200956Z
UID:10001074-1676147400-1676159940@izprveruke.com
SUMMARY:Viki Miljkovic & Nermin Hadzic - Grand Rapids
DESCRIPTION:Vise informacija 616-272-1523
URL:https://izprveruke.com/event/viki-miljkovic-nermin-hadzic-grand-rapids/
LOCATION:DoubleTree Grand Rapids\, 4747 28th St. SE\, Grand Rapids\, Michigan\, United States
CATEGORIES:Koncerti
ATTACH;FMTTYPE=image/png:https://izprveruke.com/wp-content/uploads/2022/11/viki_nerminhadzic.png
GEO:42.9138458;-85.54971
X-APPLE-STRUCTURED-LOCATION;VALUE=URI;X-ADDRESS=DoubleTree Grand Rapids 4747 28th St. SE Grand Rapids Michigan United States;X-APPLE-RADIUS=500;X-TITLE=4747 28th St. SE:geo:-85.54971,42.9138458
END:VEVENT
BEGIN:VEVENT
DTSTART;TZID=America/Los_Angeles:20230211T203000
DTEND;TZID=America/Los_Angeles:20230211T235900
DTSTAMP:20260424T124325
CREATED:20230105T070825Z
LAST-MODIFIED:20230105T070831Z
UID:10001043-1676147400-1676159940@izprveruke.com
SUMMARY:Dragana Mirkovic - Chicago
DESCRIPTION:Dragana Mirkovic & Band live in Chicago. \n\n\n\nInfo: 708-860-4832 & 313-900-7817
URL:https://izprveruke.com/event/dragana-mirkovic-chicago/
LOCATION:Compass Arena\, 625 Joliet Rd\, Wilowbrook\, IL\, United States
CATEGORIES:Koncerti
ATTACH;FMTTYPE=image/png:https://izprveruke.com/wp-content/uploads/2023/01/draganamirkovic-e1673429271253.png
GEO:41.7453652;-87.9396252
X-APPLE-STRUCTURED-LOCATION;VALUE=URI;X-ADDRESS=Compass Arena 625 Joliet Rd Wilowbrook IL United States;X-APPLE-RADIUS=500;X-TITLE=625 Joliet Rd:geo:-87.9396252,41.7453652
END:VEVENT
BEGIN:VEVENT
DTSTART;TZID=America/Los_Angeles:20230216T203000
DTEND;TZID=America/Los_Angeles:20230216T235900
DTSTAMP:20260424T124325
CREATED:20230118T071206Z
LAST-MODIFIED:20230206T064704Z
UID:10001075-1676579400-1676591940@izprveruke.com
SUMMARY:Viki Miljkovic & Nermin Hadzic - Chicago
DESCRIPTION:Vise informacija 708-860-4832
URL:https://izprveruke.com/event/viki-miljkovic-nermin-hadzic-chicago/
LOCATION:Compass Arena\, 625 Joliet Rd\, Wilowbrook\, IL\, United States
CATEGORIES:Koncerti
ATTACH;FMTTYPE=image/png:https://izprveruke.com/wp-content/uploads/2022/11/viki_nerminhadzic.png
GEO:41.7453652;-87.9396252
X-APPLE-STRUCTURED-LOCATION;VALUE=URI;X-ADDRESS=Compass Arena 625 Joliet Rd Wilowbrook IL United States;X-APPLE-RADIUS=500;X-TITLE=625 Joliet Rd:geo:-87.9396252,41.7453652
END:VEVENT
BEGIN:VEVENT
DTSTART;TZID=America/Los_Angeles:20230217T203000
DTEND;TZID=America/Los_Angeles:20230217T235900
DTSTAMP:20260424T124325
CREATED:20230118T071241Z
LAST-MODIFIED:20230130T202232Z
UID:10001076-1676665800-1676678340@izprveruke.com
SUMMARY:Viki Miljkovic & Nermin Hadzic - Hartford
DESCRIPTION:Vise informacija 860-833-2812
URL:https://izprveruke.com/event/viki-miljkovic-nermin-hadzic-hartford/
LOCATION:Casablanca Hall\, 209 Smalley St.\, New Britain\, Connecticut\, United States
CATEGORIES:Koncerti
ATTACH;FMTTYPE=image/png:https://izprveruke.com/wp-content/uploads/2022/11/viki_nerminhadzic.png
GEO:41.6736129;-72.7651105
X-APPLE-STRUCTURED-LOCATION;VALUE=URI;X-ADDRESS=Casablanca Hall 209 Smalley St. New Britain Connecticut United States;X-APPLE-RADIUS=500;X-TITLE=209 Smalley St.:geo:-72.7651105,41.6736129
END:VEVENT
BEGIN:VEVENT
DTSTART;TZID=America/Los_Angeles:20230217T203000
DTEND;TZID=America/Los_Angeles:20230217T235900
DTSTAMP:20260424T124325
CREATED:20230111T085455Z
LAST-MODIFIED:20230206T065141Z
UID:10001061-1676665800-1676678340@izprveruke.com
SUMMARY:Zeljko Bebek - Toronto
DESCRIPTION:19+ | Vise informacija 416-993-2697
URL:https://izprveruke.com/event/zeljko-bebek-toronto/
LOCATION:The Opera House\, 735 Queen St E\, Toronto\, Ontario\, Canada
CATEGORIES:Koncerti
ATTACH;FMTTYPE=image/png:https://izprveruke.com/wp-content/uploads/2023/01/zeljkobebek.png
ORGANIZER;CN="Gremy":MAILTO:info@gremy.com
GEO:43.6588139;-79.3487126
X-APPLE-STRUCTURED-LOCATION;VALUE=URI;X-ADDRESS=The Opera House 735 Queen St E Toronto Ontario Canada;X-APPLE-RADIUS=500;X-TITLE=735 Queen St E:geo:-79.3487126,43.6588139
END:VEVENT
BEGIN:VEVENT
DTSTART;TZID=America/Los_Angeles:20230217T203000
DTEND;TZID=America/Los_Angeles:20230217T235900
DTSTAMP:20260424T124325
CREATED:20230105T071026Z
LAST-MODIFIED:20230105T173805Z
UID:10001044-1676665800-1676678340@izprveruke.com
SUMMARY:Dragana Mirkovic - Detroit
DESCRIPTION:Dragana Mirkovic & Band live in Detroit. \n\n\n\nInfo: 586-822-3278
URL:https://izprveruke.com/event/dragana-mirkovic-detroit/
LOCATION:Macedonian Cultural Center\, 43133 Ryan Rd.\, Sterling Heights\, MI\, United States
CATEGORIES:Koncerti
ATTACH;FMTTYPE=image/png:https://izprveruke.com/wp-content/uploads/2023/01/draganamirkovic-e1673429271253.png
GEO:42.6089531;-83.0729681
X-APPLE-STRUCTURED-LOCATION;VALUE=URI;X-ADDRESS=Macedonian Cultural Center 43133 Ryan Rd. Sterling Heights MI United States;X-APPLE-RADIUS=500;X-TITLE=43133 Ryan Rd.:geo:-83.0729681,42.6089531
END:VEVENT
BEGIN:VEVENT
DTSTART;TZID=America/Los_Angeles:20230218T180000
DTEND;TZID=America/Los_Angeles:20230218T223000
DTSTAMP:20260424T124325
CREATED:20230111T085526Z
LAST-MODIFIED:20230210T062615Z
UID:10001062-1676743200-1676759400@izprveruke.com
SUMMARY:Zeljko Bebek - Vancouver
DESCRIPTION:19+ | Vise informacija 604-710-4599
URL:https://izprveruke.com/event/zeljko-bebek-vancouver/
LOCATION:Studio Nightclub\, 919 Granville Street\, Vancouver\, BC\, Canada
CATEGORIES:Koncerti
ATTACH;FMTTYPE=image/png:https://izprveruke.com/wp-content/uploads/2023/01/zeljkobebek.png
GEO:49.2802425;-123.1220143
X-APPLE-STRUCTURED-LOCATION;VALUE=URI;X-ADDRESS=Studio Nightclub 919 Granville Street Vancouver BC Canada;X-APPLE-RADIUS=500;X-TITLE=919 Granville Street:geo:-123.1220143,49.2802425
END:VEVENT
BEGIN:VEVENT
DTSTART;TZID=America/Los_Angeles:20230218T203000
DTEND;TZID=America/Los_Angeles:20230218T235900
DTSTAMP:20260424T124325
CREATED:20230118T071314Z
LAST-MODIFIED:20230130T202445Z
UID:10001077-1676752200-1676764740@izprveruke.com
SUMMARY:Viki Miljkovic & Nermin Hadzic - Des Moines
DESCRIPTION:Vise informacija 515-867-8012
URL:https://izprveruke.com/event/viki-miljkovic-nermin-hadzic-des-moines/
LOCATION:West Des Moines Marriot\, 1250 Jordan Creek Parkway\, Des Moines\, 50266
CATEGORIES:Koncerti
ATTACH;FMTTYPE=image/png:https://izprveruke.com/wp-content/uploads/2022/11/viki_nerminhadzic.png
GEO:41.5886453;-93.8106005
X-APPLE-STRUCTURED-LOCATION;VALUE=URI;X-ADDRESS=West Des Moines Marriot 1250 Jordan Creek Parkway Des Moines 50266;X-APPLE-RADIUS=500;X-TITLE=1250 Jordan Creek Parkway:geo:-93.8106005,41.5886453
END:VEVENT
END:VCALENDAR