BEGIN:VCALENDAR
VERSION:2.0
PRODID:-//Iz Prve Ruke - Koncerti u Americi i Kanadi | Lokalna Dešavanja - ECPv6.15.20//NONSGML v1.0//EN
CALSCALE:GREGORIAN
METHOD:PUBLISH
X-WR-CALNAME:Iz Prve Ruke - Koncerti u Americi i Kanadi | Lokalna Dešavanja
X-ORIGINAL-URL:https://izprveruke.com
X-WR-CALDESC:Events for Iz Prve Ruke - Koncerti u Americi i Kanadi | Lokalna Dešavanja
REFRESH-INTERVAL;VALUE=DURATION:PT1H
X-Robots-Tag:noindex
X-PUBLISHED-TTL:PT1H
BEGIN:VTIMEZONE
TZID:America/Los_Angeles
BEGIN:DAYLIGHT
TZOFFSETFROM:-0800
TZOFFSETTO:-0700
TZNAME:PDT
DTSTART:20250309T100000
END:DAYLIGHT
BEGIN:STANDARD
TZOFFSETFROM:-0700
TZOFFSETTO:-0800
TZNAME:PST
DTSTART:20251102T090000
END:STANDARD
BEGIN:DAYLIGHT
TZOFFSETFROM:-0800
TZOFFSETTO:-0700
TZNAME:PDT
DTSTART:20260308T100000
END:DAYLIGHT
BEGIN:STANDARD
TZOFFSETFROM:-0700
TZOFFSETTO:-0800
TZNAME:PST
DTSTART:20261101T090000
END:STANDARD
BEGIN:DAYLIGHT
TZOFFSETFROM:-0800
TZOFFSETTO:-0700
TZNAME:PDT
DTSTART:20270314T100000
END:DAYLIGHT
BEGIN:STANDARD
TZOFFSETFROM:-0700
TZOFFSETTO:-0800
TZNAME:PST
DTSTART:20271107T090000
END:STANDARD
END:VTIMEZONE
BEGIN:VEVENT
DTSTART;TZID=America/Los_Angeles:20260524T200000
DTEND;TZID=America/Los_Angeles:20260524T235900
DTSTAMP:20260423T085734
CREATED:20260411T030529Z
LAST-MODIFIED:20260411T030531Z
UID:10001604-1779652800-1779667140@izprveruke.com
SUMMARY:Dzenan Loncarevic - St. Petersburg
DESCRIPTION:Dzenan Loncarevic live in St. Petersburg. Vise informacija 561-268-6757
URL:https://izprveruke.com/event/dzenan-loncarevic-st-petersburg-2/
LOCATION:The Event Hall\, 6152 126th Ave. N\, Largo\, Florida\, United States
CATEGORIES:Koncerti
ATTACH;FMTTYPE=image/jpeg:https://izprveruke.com/wp-content/uploads/2022/02/dzenan.jpg
GEO:27.884989;-82.7188233
X-APPLE-STRUCTURED-LOCATION;VALUE=URI;X-ADDRESS=The Event Hall 6152 126th Ave. N Largo Florida United States;X-APPLE-RADIUS=500;X-TITLE=6152 126th Ave. N:geo:-82.7188233,27.884989
END:VEVENT
END:VCALENDAR