BEGIN:VCALENDAR
VERSION:2.0
PRODID:-//Iz Prve Ruke - Koncerti u Americi i Kanadi | Lokalna Dešavanja - ECPv6.15.20//NONSGML v1.0//EN
CALSCALE:GREGORIAN
METHOD:PUBLISH
X-WR-CALNAME:Iz Prve Ruke - Koncerti u Americi i Kanadi | Lokalna Dešavanja
X-ORIGINAL-URL:https://izprveruke.com
X-WR-CALDESC:Events for Iz Prve Ruke - Koncerti u Americi i Kanadi | Lokalna Dešavanja
REFRESH-INTERVAL;VALUE=DURATION:PT1H
X-Robots-Tag:noindex
X-PUBLISHED-TTL:PT1H
BEGIN:VTIMEZONE
TZID:America/Los_Angeles
BEGIN:DAYLIGHT
TZOFFSETFROM:-0800
TZOFFSETTO:-0700
TZNAME:PDT
DTSTART:20240310T100000
END:DAYLIGHT
BEGIN:STANDARD
TZOFFSETFROM:-0700
TZOFFSETTO:-0800
TZNAME:PST
DTSTART:20241103T090000
END:STANDARD
BEGIN:DAYLIGHT
TZOFFSETFROM:-0800
TZOFFSETTO:-0700
TZNAME:PDT
DTSTART:20250309T100000
END:DAYLIGHT
BEGIN:STANDARD
TZOFFSETFROM:-0700
TZOFFSETTO:-0800
TZNAME:PST
DTSTART:20251102T090000
END:STANDARD
BEGIN:DAYLIGHT
TZOFFSETFROM:-0800
TZOFFSETTO:-0700
TZNAME:PDT
DTSTART:20260308T100000
END:DAYLIGHT
BEGIN:STANDARD
TZOFFSETFROM:-0700
TZOFFSETTO:-0800
TZNAME:PST
DTSTART:20261101T090000
END:STANDARD
END:VTIMEZONE
BEGIN:VEVENT
DTSTART;TZID=America/Los_Angeles:20251107T203000
DTEND;TZID=America/Los_Angeles:20251107T235900
DTSTAMP:20260423T145301
CREATED:20250924T015232Z
LAST-MODIFIED:20250924T015234Z
UID:10001522-1762547400-1762559940@izprveruke.com
SUMMARY:Boban Rajovic - Cleveland
DESCRIPTION:Boban Rajovic live in Cleveland! Vise informacija 440-667-5734
URL:https://izprveruke.com/event/boban-rajovic-cleveland-2/
LOCATION:Sherwin-Gilmour Party Center\, 5947 Mayfield Rd.\, Mayfield Heights\, OH\, United States
CATEGORIES:Koncerti
ATTACH;FMTTYPE=image/jpeg:https://izprveruke.com/wp-content/uploads/2025/09/bobanrajovic.jpg
GEO:41.5212684;-81.4650012
X-APPLE-STRUCTURED-LOCATION;VALUE=URI;X-ADDRESS=Sherwin-Gilmour Party Center 5947 Mayfield Rd. Mayfield Heights OH United States;X-APPLE-RADIUS=500;X-TITLE=5947 Mayfield Rd.:geo:-81.4650012,41.5212684
END:VEVENT
END:VCALENDAR