BEGIN:VCALENDAR
VERSION:2.0
PRODID:-//Iz Prve Ruke - Koncerti u Americi i Kanadi | Lokalna Dešavanja - ECPv6.15.20//NONSGML v1.0//EN
CALSCALE:GREGORIAN
METHOD:PUBLISH
X-WR-CALNAME:Iz Prve Ruke - Koncerti u Americi i Kanadi | Lokalna Dešavanja
X-ORIGINAL-URL:https://izprveruke.com
X-WR-CALDESC:Events for Iz Prve Ruke - Koncerti u Americi i Kanadi | Lokalna Dešavanja
REFRESH-INTERVAL;VALUE=DURATION:PT1H
X-Robots-Tag:noindex
X-PUBLISHED-TTL:PT1H
BEGIN:VTIMEZONE
TZID:America/Los_Angeles
BEGIN:DAYLIGHT
TZOFFSETFROM:-0800
TZOFFSETTO:-0700
TZNAME:PDT
DTSTART:20240310T100000
END:DAYLIGHT
BEGIN:STANDARD
TZOFFSETFROM:-0700
TZOFFSETTO:-0800
TZNAME:PST
DTSTART:20241103T090000
END:STANDARD
BEGIN:DAYLIGHT
TZOFFSETFROM:-0800
TZOFFSETTO:-0700
TZNAME:PDT
DTSTART:20250309T100000
END:DAYLIGHT
BEGIN:STANDARD
TZOFFSETFROM:-0700
TZOFFSETTO:-0800
TZNAME:PST
DTSTART:20251102T090000
END:STANDARD
BEGIN:DAYLIGHT
TZOFFSETFROM:-0800
TZOFFSETTO:-0700
TZNAME:PDT
DTSTART:20260308T100000
END:DAYLIGHT
BEGIN:STANDARD
TZOFFSETFROM:-0700
TZOFFSETTO:-0800
TZNAME:PST
DTSTART:20261101T090000
END:STANDARD
END:VTIMEZONE
BEGIN:VEVENT
DTSTART;TZID=America/Los_Angeles:20250525T203000
DTEND;TZID=America/Los_Angeles:20250525T235900
DTSTAMP:20260424T011904
CREATED:20250507T011310Z
LAST-MODIFIED:20250522T015047Z
UID:10001502-1748205000-1748217540@izprveruke.com
SUMMARY:Dejan Petrovic Big Band - Boston
DESCRIPTION:Zvuk trube kao tradicija modernog doba​! Muzika koja pokreće svet! U vrtlogu dobrih vibracija upoznajte muziku Srbije i Balkana koja ostavlja bez daha i reči. Ako negde čujete melodije poznatih svetskih hitova\, isprepletene motivima srpske izvorne muzike\, a sve sjajno ukomponovano u jednu celinu\, znaćete da je to Dejan Petrovic Big Band. Prepoznatljivi zvuci truba\, gitare i dobar “groove” su lična karta ovog benda.
URL:https://izprveruke.com/event/dejan-petrovic-big-band-boston/
LOCATION:Urban Wild\, 100 Hood Park Dr.\, Boston\, Massachusetts\, United States
CATEGORIES:Koncerti
ATTACH;FMTTYPE=image/jpeg:https://izprveruke.com/wp-content/uploads/2025/05/dejanpetrovic.jpg
GEO:42.3792781;-71.0734127
X-APPLE-STRUCTURED-LOCATION;VALUE=URI;X-ADDRESS=Urban Wild 100 Hood Park Dr. Boston Massachusetts United States;X-APPLE-RADIUS=500;X-TITLE=100 Hood Park Dr.:geo:-71.0734127,42.3792781
END:VEVENT
END:VCALENDAR