BEGIN:VCALENDAR
VERSION:2.0
PRODID:-//Iz Prve Ruke - Koncerti u Americi i Kanadi | Lokalna Dešavanja - ECPv6.15.20//NONSGML v1.0//EN
CALSCALE:GREGORIAN
METHOD:PUBLISH
X-ORIGINAL-URL:https://izprveruke.com
X-WR-CALDESC:Events for Iz Prve Ruke - Koncerti u Americi i Kanadi | Lokalna Dešavanja
REFRESH-INTERVAL;VALUE=DURATION:PT1H
X-Robots-Tag:noindex
X-PUBLISHED-TTL:PT1H
BEGIN:VTIMEZONE
TZID:America/Los_Angeles
BEGIN:DAYLIGHT
TZOFFSETFROM:-0800
TZOFFSETTO:-0700
TZNAME:PDT
DTSTART:20240310T100000
END:DAYLIGHT
BEGIN:STANDARD
TZOFFSETFROM:-0700
TZOFFSETTO:-0800
TZNAME:PST
DTSTART:20241103T090000
END:STANDARD
BEGIN:DAYLIGHT
TZOFFSETFROM:-0800
TZOFFSETTO:-0700
TZNAME:PDT
DTSTART:20250309T100000
END:DAYLIGHT
BEGIN:STANDARD
TZOFFSETFROM:-0700
TZOFFSETTO:-0800
TZNAME:PST
DTSTART:20251102T090000
END:STANDARD
BEGIN:DAYLIGHT
TZOFFSETFROM:-0800
TZOFFSETTO:-0700
TZNAME:PDT
DTSTART:20260308T100000
END:DAYLIGHT
BEGIN:STANDARD
TZOFFSETFROM:-0700
TZOFFSETTO:-0800
TZNAME:PST
DTSTART:20261101T090000
END:STANDARD
END:VTIMEZONE
BEGIN:VEVENT
DTSTART;TZID=America/Los_Angeles:20251003T190000
DTEND;TZID=America/Los_Angeles:20251003T235900
DTSTAMP:20260423T145241
CREATED:20250924T013744Z
LAST-MODIFIED:20250924T014147Z
UID:10001519-1759518000-1759535940@izprveruke.com
SUMMARY:Amira Medunjanin - Toronto
DESCRIPTION:Amira Medunjanin live in Toronto
URL:https://izprveruke.com/event/amira-medunjanin-toronto/
LOCATION:Isabel Bader Theatre\, 93 Charles Street West\, Toronto\, Toronto\, M5S 1K6\, Canada
CATEGORIES:Koncerti
ATTACH;FMTTYPE=image/jpeg:https://izprveruke.com/wp-content/uploads/2025/09/amiramedunjanin.jpg
GEO:43.6673237;-79.3925648
X-APPLE-STRUCTURED-LOCATION;VALUE=URI;X-ADDRESS=Isabel Bader Theatre 93 Charles Street West Toronto Toronto M5S 1K6 Canada;X-APPLE-RADIUS=500;X-TITLE=93 Charles Street West:geo:-79.3925648,43.6673237
END:VEVENT
BEGIN:VEVENT
DTSTART;TZID=America/Los_Angeles:20251004T190000
DTEND;TZID=America/Los_Angeles:20251004T235900
DTSTAMP:20260423T145241
CREATED:20250924T013927Z
LAST-MODIFIED:20250924T014211Z
UID:10001520-1759604400-1759622340@izprveruke.com
SUMMARY:Amira Medunjanin - St. Louis
DESCRIPTION:Amira Medunjanin live in St. Louis
URL:https://izprveruke.com/event/amira-medunjanin-st-louis/
LOCATION:Catherine B. Berges Theatre\, 6880 Washington Ave.\, St. Louis\, Missouri\, United States
CATEGORIES:Koncerti
ATTACH;FMTTYPE=image/jpeg:https://izprveruke.com/wp-content/uploads/2025/09/amiramedunjanin.jpg
GEO:38.6548664;-90.3109445
X-APPLE-STRUCTURED-LOCATION;VALUE=URI;X-ADDRESS=Catherine B. Berges Theatre 6880 Washington Ave. St. Louis Missouri United States;X-APPLE-RADIUS=500;X-TITLE=6880 Washington Ave.:geo:-90.3109445,38.6548664
END:VEVENT
BEGIN:VEVENT
DTSTART;TZID=America/Los_Angeles:20251005T190000
DTEND;TZID=America/Los_Angeles:20251005T235900
DTSTAMP:20260423T145241
CREATED:20250924T014027Z
LAST-MODIFIED:20250924T014235Z
UID:10001521-1759690800-1759708740@izprveruke.com
SUMMARY:Amira Medunjanin - Chicago
DESCRIPTION:Amira Medunjanin live in Chicago
URL:https://izprveruke.com/event/amira-medunjanin-chicago/
LOCATION:Alhambra Palace\, 1240 W Randolph St.\, Chicago\, IL\, United States
CATEGORIES:Koncerti
ATTACH;FMTTYPE=image/jpeg:https://izprveruke.com/wp-content/uploads/2025/09/amiramedunjanin.jpg
GEO:41.8846083;-87.6581905
X-APPLE-STRUCTURED-LOCATION;VALUE=URI;X-ADDRESS=Alhambra Palace 1240 W Randolph St. Chicago IL United States;X-APPLE-RADIUS=500;X-TITLE=1240 W Randolph St.:geo:-87.6581905,41.8846083
END:VEVENT
BEGIN:VEVENT
DTSTART;TZID=America/Los_Angeles:20251010T190000
DTEND;TZID=America/Los_Angeles:20251010T235900
DTSTAMP:20260423T145241
CREATED:20250924T013250Z
LAST-MODIFIED:20250927T145321Z
UID:10001516-1760122800-1760140740@izprveruke.com
SUMMARY:Amira Medunjanin - New York
DESCRIPTION:Amira Medunjanin live in New York
URL:https://izprveruke.com/event/amira-medunjanin-new-york/
LOCATION:Cutting Room\, 44 East 32nd Street\, New York\, NY\, United States
CATEGORIES:Koncerti
ATTACH;FMTTYPE=image/jpeg:https://izprveruke.com/wp-content/uploads/2025/09/amiramedunjanin.jpg
GEO:40.7127753;-74.0059728
X-APPLE-STRUCTURED-LOCATION;VALUE=URI;X-ADDRESS=Cutting Room 44 East 32nd Street New York NY United States;X-APPLE-RADIUS=500;X-TITLE=44 East 32nd Street:geo:-74.0059728,40.7127753
END:VEVENT
BEGIN:VEVENT
DTSTART;TZID=America/Los_Angeles:20251010T203000
DTEND;TZID=America/Los_Angeles:20251010T235900
DTSTAMP:20260423T145241
CREATED:20250818T004629Z
LAST-MODIFIED:20250818T004933Z
UID:10001505-1760128200-1760140740@izprveruke.com
SUMMARY:Seka Aleksic - Chicago
DESCRIPTION:Seka Aleksic live in Chicago. VIP Concert. Vise informacija 773-275-4187
URL:https://izprveruke.com/event/seka-aleksic-chicago-2/
LOCATION:Pella Signature\, 720 Village Center Dr.\, Burr Ridge\, Illinois\, United States
CATEGORIES:Koncerti
ATTACH;FMTTYPE=image/jpeg:https://izprveruke.com/wp-content/uploads/2024/12/sekaaleksic.jpg
GEO:41.7533067;-87.9116193
X-APPLE-STRUCTURED-LOCATION;VALUE=URI;X-ADDRESS=Pella Signature 720 Village Center Dr. Burr Ridge Illinois United States;X-APPLE-RADIUS=500;X-TITLE=720 Village Center Dr.:geo:-87.9116193,41.7533067
END:VEVENT
BEGIN:VEVENT
DTSTART;TZID=America/Los_Angeles:20251011T203000
DTEND;TZID=America/Los_Angeles:20251011T235900
DTSTAMP:20260423T145241
CREATED:20250818T004851Z
LAST-MODIFIED:20250818T004853Z
UID:10001506-1760214600-1760227140@izprveruke.com
SUMMARY:Seka Aleksic - Phoenix
DESCRIPTION:Seka Aleksic live in Phoenix. Vise informacija 480-433-5505
URL:https://izprveruke.com/event/seka-aleksic-phoenix/
LOCATION:Mill’s Modern Social\, 83 E Broadway Rd.\, Tempe\, Arizona\, United States
CATEGORIES:Koncerti
ATTACH;FMTTYPE=image/jpeg:https://izprveruke.com/wp-content/uploads/2024/12/sekaaleksic.jpg
GEO:33.4070022;-111.9386095
X-APPLE-STRUCTURED-LOCATION;VALUE=URI;X-ADDRESS=Mill’s Modern Social 83 E Broadway Rd. Tempe Arizona United States;X-APPLE-RADIUS=500;X-TITLE=83 E Broadway Rd.:geo:-111.9386095,33.4070022
END:VEVENT
BEGIN:VEVENT
DTSTART;TZID=America/Los_Angeles:20251012T190000
DTEND;TZID=America/Los_Angeles:20251012T235900
DTSTAMP:20260423T145241
CREATED:20250924T013443Z
LAST-MODIFIED:20250927T145357Z
UID:10001517-1760295600-1760313540@izprveruke.com
SUMMARY:Amira Medunjanin - Boston
DESCRIPTION:Amira Medunjanin live in Boston
URL:https://izprveruke.com/event/amira-medunjanin-boston/
LOCATION:Trustey Family Theatre\, 545 Cabot Street\, Beverly\, Massachusetts\, United States
CATEGORIES:Koncerti
ATTACH;FMTTYPE=image/jpeg:https://izprveruke.com/wp-content/uploads/2025/09/amiramedunjanin.jpg
GEO:42.5685865;-70.8874307
X-APPLE-STRUCTURED-LOCATION;VALUE=URI;X-ADDRESS=Trustey Family Theatre 545 Cabot Street Beverly Massachusetts United States;X-APPLE-RADIUS=500;X-TITLE=545 Cabot Street:geo:-70.8874307,42.5685865
END:VEVENT
BEGIN:VEVENT
DTSTART;TZID=America/Los_Angeles:20251017T203000
DTEND;TZID=America/Los_Angeles:20251017T235900
DTSTAMP:20260423T145241
CREATED:20250818T005043Z
LAST-MODIFIED:20250818T005046Z
UID:10001507-1760733000-1760745540@izprveruke.com
SUMMARY:Seka Aleksic - Detroit
DESCRIPTION:Seka Aleksic live in Detroit. Vise informacija 586-822-3278
URL:https://izprveruke.com/event/seka-aleksic-detroit/
LOCATION:Macedonian Cultural Center\, 43133 Ryan Rd.\, Sterling Heights\, MI\, United States
CATEGORIES:Koncerti
ATTACH;FMTTYPE=image/jpeg:https://izprveruke.com/wp-content/uploads/2024/12/sekaaleksic.jpg
GEO:42.6089531;-83.0729681
X-APPLE-STRUCTURED-LOCATION;VALUE=URI;X-ADDRESS=Macedonian Cultural Center 43133 Ryan Rd. Sterling Heights MI United States;X-APPLE-RADIUS=500;X-TITLE=43133 Ryan Rd.:geo:-83.0729681,42.6089531
END:VEVENT
BEGIN:VEVENT
DTSTART;TZID=America/Los_Angeles:20251018T203000
DTEND;TZID=America/Los_Angeles:20251018T235900
DTSTAMP:20260423T145241
CREATED:20250818T005205Z
LAST-MODIFIED:20250818T005208Z
UID:10001508-1760819400-1760831940@izprveruke.com
SUMMARY:Seka Aleksic - Des Moines
DESCRIPTION:Seka Aleksic live in Des Moines. Vise informacija 515-778-8348
URL:https://izprveruke.com/event/seka-aleksic-des-moines/
LOCATION:Val Air Ballroom\, 301 Ashworth Rd.\, West Des Moines\, IA\, United States
CATEGORIES:Koncerti
ATTACH;FMTTYPE=image/jpeg:https://izprveruke.com/wp-content/uploads/2024/12/sekaaleksic.jpg
GEO:41.5853429;-93.706468
X-APPLE-STRUCTURED-LOCATION;VALUE=URI;X-ADDRESS=Val Air Ballroom 301 Ashworth Rd. West Des Moines IA United States;X-APPLE-RADIUS=500;X-TITLE=301 Ashworth Rd.:geo:-93.706468,41.5853429
END:VEVENT
BEGIN:VEVENT
DTSTART;TZID=America/Los_Angeles:20251025T203000
DTEND;TZID=America/Los_Angeles:20251025T235900
DTSTAMP:20260423T145241
CREATED:20250925T022536Z
LAST-MODIFIED:20250925T022537Z
UID:10001529-1761424200-1761436740@izprveruke.com
SUMMARY:Nikola Rokvic - Chicago
DESCRIPTION:Nikola Rokvic live in Chicago. Vise informacija i rezervacije 708-905-5919 & 507-210-5718
URL:https://izprveruke.com/event/nikola-rokvic-chicago/
LOCATION:Skadarliya\, 9237 West Ogden Ave.\, Brookfield\, IL\, United States
CATEGORIES:Koncerti
ATTACH;FMTTYPE=image/jpeg:https://izprveruke.com/wp-content/uploads/2025/09/nikolarokvic.jpg
GEO:41.8167634;-87.8534024
X-APPLE-STRUCTURED-LOCATION;VALUE=URI;X-ADDRESS=Skadarliya 9237 West Ogden Ave. Brookfield IL United States;X-APPLE-RADIUS=500;X-TITLE=9237 West Ogden Ave.:geo:-87.8534024,41.8167634
END:VEVENT
BEGIN:VEVENT
DTSTART;TZID=America/Los_Angeles:20251031T203000
DTEND;TZID=America/Los_Angeles:20251031T235900
DTSTAMP:20260423T145241
CREATED:20250818T013041Z
LAST-MODIFIED:20251016T203930Z
UID:10001509-1761942600-1761955140@izprveruke.com
SUMMARY:Aco Pejovic - St. Louis
DESCRIPTION:Aco Pejovic live in St. Louis. Vise informacija 314-445-9406
URL:https://izprveruke.com/event/aco-pejovic-st-louis/
LOCATION:River City Casino Hotel\, 777 River City Casino Blvd.\, St. Louis\, Missouri\, United States
CATEGORIES:Koncerti
ATTACH;FMTTYPE=image/png:https://izprveruke.com/wp-content/uploads/2023/10/acopejovic.png
GEO:38.5308368;-90.2644983
X-APPLE-STRUCTURED-LOCATION;VALUE=URI;X-ADDRESS=River City Casino Hotel 777 River City Casino Blvd. St. Louis Missouri United States;X-APPLE-RADIUS=500;X-TITLE=777 River City Casino Blvd.:geo:-90.2644983,38.5308368
END:VEVENT
BEGIN:VEVENT
DTSTART;TZID=America/Los_Angeles:20251031T203000
DTEND;TZID=America/Los_Angeles:20251031T235900
DTSTAMP:20260423T145241
CREATED:20250924T020258Z
LAST-MODIFIED:20250924T020300Z
UID:10001526-1761942600-1761955140@izprveruke.com
SUMMARY:Boban Rajovic - San Jose
DESCRIPTION:Boban Rajovic live in San Jose! Vise informacija 510-229-0725 & 510-690-4585
URL:https://izprveruke.com/event/boban-rajovic-san-jose-2/
LOCATION:After Bar & Grill\, 1692 Story Rd.\, San Jose\, California\, United States
CATEGORIES:Koncerti
ATTACH;FMTTYPE=image/jpeg:https://izprveruke.com/wp-content/uploads/2025/09/bobanrajovic.jpg
GEO:37.3383899;-121.842219
X-APPLE-STRUCTURED-LOCATION;VALUE=URI;X-ADDRESS=After Bar & Grill 1692 Story Rd. San Jose California United States;X-APPLE-RADIUS=500;X-TITLE=1692 Story Rd.:geo:-121.842219,37.3383899
END:VEVENT
BEGIN:VEVENT
DTSTART;TZID=America/Los_Angeles:20251031T203000
DTEND;TZID=America/Los_Angeles:20251031T235900
DTSTAMP:20260423T145241
CREATED:20250925T022705Z
LAST-MODIFIED:20250925T022708Z
UID:10001530-1761942600-1761955140@izprveruke.com
SUMMARY:Nikola Rokvic - Cleveland
DESCRIPTION:Nikola Rokvic live in Cleveland. Vise informacija i rezervacije 440-667-5734
URL:https://izprveruke.com/event/nikola-rokvic-cleveland/
LOCATION:Sherwin-Gilmour Party Center\, 5947 Mayfield Rd.\, Mayfield Heights\, OH\, United States
CATEGORIES:Koncerti
ATTACH;FMTTYPE=image/jpeg:https://izprveruke.com/wp-content/uploads/2025/09/nikolarokvic.jpg
GEO:41.5212684;-81.4650012
X-APPLE-STRUCTURED-LOCATION;VALUE=URI;X-ADDRESS=Sherwin-Gilmour Party Center 5947 Mayfield Rd. Mayfield Heights OH United States;X-APPLE-RADIUS=500;X-TITLE=5947 Mayfield Rd.:geo:-81.4650012,41.5212684
END:VEVENT
END:VCALENDAR