BEGIN:VCALENDAR
VERSION:2.0
PRODID:-//Iz Prve Ruke - Koncerti u Americi i Kanadi | Lokalna Dešavanja - ECPv6.15.20//NONSGML v1.0//EN
CALSCALE:GREGORIAN
METHOD:PUBLISH
X-ORIGINAL-URL:https://izprveruke.com
X-WR-CALDESC:Events for Iz Prve Ruke - Koncerti u Americi i Kanadi | Lokalna Dešavanja
REFRESH-INTERVAL;VALUE=DURATION:PT1H
X-Robots-Tag:noindex
X-PUBLISHED-TTL:PT1H
BEGIN:VTIMEZONE
TZID:America/Los_Angeles
BEGIN:DAYLIGHT
TZOFFSETFROM:-0800
TZOFFSETTO:-0700
TZNAME:PDT
DTSTART:20240310T100000
END:DAYLIGHT
BEGIN:STANDARD
TZOFFSETFROM:-0700
TZOFFSETTO:-0800
TZNAME:PST
DTSTART:20241103T090000
END:STANDARD
BEGIN:DAYLIGHT
TZOFFSETFROM:-0800
TZOFFSETTO:-0700
TZNAME:PDT
DTSTART:20250309T100000
END:DAYLIGHT
BEGIN:STANDARD
TZOFFSETFROM:-0700
TZOFFSETTO:-0800
TZNAME:PST
DTSTART:20251102T090000
END:STANDARD
BEGIN:DAYLIGHT
TZOFFSETFROM:-0800
TZOFFSETTO:-0700
TZNAME:PDT
DTSTART:20260308T100000
END:DAYLIGHT
BEGIN:STANDARD
TZOFFSETFROM:-0700
TZOFFSETTO:-0800
TZNAME:PST
DTSTART:20261101T090000
END:STANDARD
END:VTIMEZONE
BEGIN:VEVENT
DTSTART;TZID=America/Los_Angeles:20251127T203000
DTEND;TZID=America/Los_Angeles:20251127T235900
DTSTAMP:20260423T154734
CREATED:20250825T041508Z
LAST-MODIFIED:20250825T041840Z
UID:10001514-1764275400-1764287940@izprveruke.com
SUMMARY:Sasa Matic - Atlanta
DESCRIPTION:Sasa Matic & Bend live in Atlanta. Vise informacija 770-743-5234
URL:https://izprveruke.com/event/sasa-matic-atlanta-2/
LOCATION:Ehall Music Lounge\, 1550 Beaver Ruin Rd.\, Norcross\, GA\, United States
CATEGORIES:Koncerti
ATTACH;FMTTYPE=image/jpeg:https://izprveruke.com/wp-content/uploads/2022/06/sasamatic.jpg
GEO:33.6088617;-84.3451015
X-APPLE-STRUCTURED-LOCATION;VALUE=URI;X-ADDRESS=Ehall Music Lounge 1550 Beaver Ruin Rd. Norcross GA United States;X-APPLE-RADIUS=500;X-TITLE=1550 Beaver Ruin Rd.:geo:-84.3451015,33.6088617
END:VEVENT
BEGIN:VEVENT
DTSTART;TZID=America/Los_Angeles:20251127T203000
DTEND;TZID=America/Los_Angeles:20251127T235900
DTSTAMP:20260423T154734
CREATED:20251113T020202Z
LAST-MODIFIED:20251125T020403Z
UID:10001534-1764275400-1764287940@izprveruke.com
SUMMARY:Marko Bulat - Chicago
DESCRIPTION:Marko Bulat & Sanja Grahovac live in Chicago. Gost: DJ Spaz. Vise informacija i rezervacije 312-772-1003\, 219-501-3330\, 773-551-7529
URL:https://izprveruke.com/event/marko-bulat-chicago/
LOCATION:Nikola Restaurant\, 7316 W Lawrence Ave.\, Harwood Heights\, Illinois\, United States
CATEGORIES:Koncerti
ATTACH;FMTTYPE=image/jpeg:https://izprveruke.com/wp-content/uploads/2025/11/markobulat.jpg
GEO:41.9675821;-87.8106601
X-APPLE-STRUCTURED-LOCATION;VALUE=URI;X-ADDRESS=Nikola Restaurant 7316 W Lawrence Ave. Harwood Heights Illinois United States;X-APPLE-RADIUS=500;X-TITLE=7316 W Lawrence Ave.:geo:-87.8106601,41.9675821
END:VEVENT
BEGIN:VEVENT
DTSTART;TZID=America/Los_Angeles:20251127T203000
DTEND;TZID=America/Los_Angeles:20251127T235900
DTSTAMP:20260423T154734
CREATED:20251113T020642Z
LAST-MODIFIED:20251125T015401Z
UID:10001535-1764275400-1764287940@izprveruke.com
SUMMARY:Haris Berkovic & Dada Mesaljic - Chicago
DESCRIPTION:Haris Berkovic & Dada Mesaljic live in Chicago. Vise informacija 773-425-3911
URL:https://izprveruke.com/event/haris-berkovic-dada-mesaljic-chicago/
LOCATION:Villa Bella\, 9755 W Grand Ave.\, Franklin Park\, Illinois\, United States
CATEGORIES:Koncerti
ATTACH;FMTTYPE=image/jpeg:https://izprveruke.com/wp-content/uploads/2025/11/haris_dada.jpg
GEO:41.9296194;-87.8693198
X-APPLE-STRUCTURED-LOCATION;VALUE=URI;X-ADDRESS=Villa Bella 9755 W Grand Ave. Franklin Park Illinois United States;X-APPLE-RADIUS=500;X-TITLE=9755 W Grand Ave.:geo:-87.8693198,41.9296194
END:VEVENT
END:VCALENDAR