BEGIN:VCALENDAR
VERSION:2.0
PRODID:-//Iz Prve Ruke - Koncerti u Americi i Kanadi | Lokalna Dešavanja - ECPv6.15.20//NONSGML v1.0//EN
CALSCALE:GREGORIAN
METHOD:PUBLISH
X-ORIGINAL-URL:https://izprveruke.com
X-WR-CALDESC:Events for Iz Prve Ruke - Koncerti u Americi i Kanadi | Lokalna Dešavanja
REFRESH-INTERVAL;VALUE=DURATION:PT1H
X-Robots-Tag:noindex
X-PUBLISHED-TTL:PT1H
BEGIN:VTIMEZONE
TZID:America/Los_Angeles
BEGIN:DAYLIGHT
TZOFFSETFROM:-0800
TZOFFSETTO:-0700
TZNAME:PDT
DTSTART:20240310T100000
END:DAYLIGHT
BEGIN:STANDARD
TZOFFSETFROM:-0700
TZOFFSETTO:-0800
TZNAME:PST
DTSTART:20241103T090000
END:STANDARD
BEGIN:DAYLIGHT
TZOFFSETFROM:-0800
TZOFFSETTO:-0700
TZNAME:PDT
DTSTART:20250309T100000
END:DAYLIGHT
BEGIN:STANDARD
TZOFFSETFROM:-0700
TZOFFSETTO:-0800
TZNAME:PST
DTSTART:20251102T090000
END:STANDARD
BEGIN:DAYLIGHT
TZOFFSETFROM:-0800
TZOFFSETTO:-0700
TZNAME:PDT
DTSTART:20260308T100000
END:DAYLIGHT
BEGIN:STANDARD
TZOFFSETFROM:-0700
TZOFFSETTO:-0800
TZNAME:PST
DTSTART:20261101T090000
END:STANDARD
END:VTIMEZONE
BEGIN:VEVENT
DTSTART;TZID=America/Los_Angeles:20250208T203000
DTEND;TZID=America/Los_Angeles:20250208T235900
DTSTAMP:20260424T063340
CREATED:20250101T030128Z
LAST-MODIFIED:20250207T033056Z
UID:10001440-1739046600-1739059140@izprveruke.com
SUMMARY:Seka Aleksic - Atlanta
DESCRIPTION:Seka Aleksic live in Atlanta. Vise informacija 770-743-5234
URL:https://izprveruke.com/event/seka-aleksic-atlanta/
LOCATION:The Atrium\, 5479 Memorial Dr.\, Stone Mountain\, Georgia\, United States
CATEGORIES:Koncerti
ATTACH;FMTTYPE=image/jpeg:https://izprveruke.com/wp-content/uploads/2024/12/sekaaleksic.jpg
GEO:33.7986857;-84.2135699
X-APPLE-STRUCTURED-LOCATION;VALUE=URI;X-ADDRESS=The Atrium 5479 Memorial Dr. Stone Mountain Georgia United States;X-APPLE-RADIUS=500;X-TITLE=5479 Memorial Dr.:geo:-84.2135699,33.7986857
END:VEVENT
BEGIN:VEVENT
DTSTART;TZID=America/Los_Angeles:20250208T203000
DTEND;TZID=America/Los_Angeles:20250208T235900
DTSTAMP:20260424T063340
CREATED:20250111T033849Z
LAST-MODIFIED:20250111T033852Z
UID:10001446-1739046600-1739059140@izprveruke.com
SUMMARY:Collapse Band - St. Louis
DESCRIPTION:Collapse Band live in St. Louis. Vise informacija 314-518-5826
URL:https://izprveruke.com/event/collapse-band-st-louis/
LOCATION:Red Flag\, 3040 Locust St.\, St. Louis\, Missouri\, United States
CATEGORIES:Koncerti
ATTACH;FMTTYPE=image/jpeg:https://izprveruke.com/wp-content/uploads/2025/01/collapse.jpg
GEO:38.6358526;-90.2233303
X-APPLE-STRUCTURED-LOCATION;VALUE=URI;X-ADDRESS=Red Flag 3040 Locust St. St. Louis Missouri United States;X-APPLE-RADIUS=500;X-TITLE=3040 Locust St.:geo:-90.2233303,38.6358526
END:VEVENT
BEGIN:VEVENT
DTSTART;TZID=America/Los_Angeles:20250208T203000
DTEND;TZID=America/Los_Angeles:20250208T235900
DTSTAMP:20260424T063340
CREATED:20250111T042943Z
LAST-MODIFIED:20250130T013733Z
UID:10001466-1739046600-1739059140@izprveruke.com
SUMMARY:Darko Lazic - St. Louis
DESCRIPTION:Uskoro vise informacija…
URL:https://izprveruke.com/event/darko-lazic-st-louis-2/
ATTACH;FMTTYPE=image/jpeg:https://izprveruke.com/wp-content/uploads/2025/01/darkolazic.jpg
END:VEVENT
END:VCALENDAR