BEGIN:VCALENDAR
VERSION:2.0
PRODID:-//Iz Prve Ruke - Koncerti u Americi i Kanadi | Lokalna Dešavanja - ECPv6.15.20//NONSGML v1.0//EN
CALSCALE:GREGORIAN
METHOD:PUBLISH
X-ORIGINAL-URL:https://izprveruke.com
X-WR-CALDESC:Events for Iz Prve Ruke - Koncerti u Americi i Kanadi | Lokalna Dešavanja
REFRESH-INTERVAL;VALUE=DURATION:PT1H
X-Robots-Tag:noindex
X-PUBLISHED-TTL:PT1H
BEGIN:VTIMEZONE
TZID:America/Los_Angeles
BEGIN:DAYLIGHT
TZOFFSETFROM:-0800
TZOFFSETTO:-0700
TZNAME:PDT
DTSTART:20230312T100000
END:DAYLIGHT
BEGIN:STANDARD
TZOFFSETFROM:-0700
TZOFFSETTO:-0800
TZNAME:PST
DTSTART:20231105T090000
END:STANDARD
BEGIN:DAYLIGHT
TZOFFSETFROM:-0800
TZOFFSETTO:-0700
TZNAME:PDT
DTSTART:20240310T100000
END:DAYLIGHT
BEGIN:STANDARD
TZOFFSETFROM:-0700
TZOFFSETTO:-0800
TZNAME:PST
DTSTART:20241103T090000
END:STANDARD
BEGIN:DAYLIGHT
TZOFFSETFROM:-0800
TZOFFSETTO:-0700
TZNAME:PDT
DTSTART:20250309T100000
END:DAYLIGHT
BEGIN:STANDARD
TZOFFSETFROM:-0700
TZOFFSETTO:-0800
TZNAME:PST
DTSTART:20251102T090000
END:STANDARD
END:VTIMEZONE
BEGIN:VEVENT
DTSTART;TZID=America/Los_Angeles:20241221T200000
DTEND;TZID=America/Los_Angeles:20241221T235900
DTSTAMP:20260424T094246
CREATED:20241115T020541Z
LAST-MODIFIED:20241122T013429Z
UID:10001427-1734811200-1734825540@izprveruke.com
SUMMARY:Dzenan Loncarevic - Cleveland
DESCRIPTION:Dzenan Loncarevic live in Cleveland. Vise informacija 440-667-5734
URL:https://izprveruke.com/event/dzenan-loncarevic-cleveland/
LOCATION:Sherwin-Gilmour Party Center\, 5947 Mayfield Rd.\, Mayfield Heights\, OH\, United States
CATEGORIES:Koncerti
ATTACH;FMTTYPE=image/jpeg:https://izprveruke.com/wp-content/uploads/2022/02/dzenan.jpg
GEO:41.5212684;-81.4650012
X-APPLE-STRUCTURED-LOCATION;VALUE=URI;X-ADDRESS=Sherwin-Gilmour Party Center 5947 Mayfield Rd. Mayfield Heights OH United States;X-APPLE-RADIUS=500;X-TITLE=5947 Mayfield Rd.:geo:-81.4650012,41.5212684
END:VEVENT
BEGIN:VEVENT
DTSTART;TZID=America/Los_Angeles:20241221T203000
DTEND;TZID=America/Los_Angeles:20241221T235900
DTSTAMP:20260424T094246
CREATED:20241031T014313Z
LAST-MODIFIED:20241111T042341Z
UID:10001418-1734813000-1734825540@izprveruke.com
SUMMARY:Enes Begovic - Detroit
DESCRIPTION:Enes Begovic & gosti. Vise informacija 586-260-9225
URL:https://izprveruke.com/event/enes-begovic-detroit/
LOCATION:Barrister Gardens\, 24225 Harper Ave.\, St. Clair Shores\, MI\, United States
CATEGORIES:Koncerti
ATTACH;FMTTYPE=image/jpeg:https://izprveruke.com/wp-content/uploads/2024/10/enesbegovic.jpg
GEO:42.4734567;-82.9051882
X-APPLE-STRUCTURED-LOCATION;VALUE=URI;X-ADDRESS=Barrister Gardens 24225 Harper Ave. St. Clair Shores MI United States;X-APPLE-RADIUS=500;X-TITLE=24225 Harper Ave.:geo:-82.9051882,42.4734567
END:VEVENT
BEGIN:VEVENT
DTSTART;TZID=America/Los_Angeles:20241221T203000
DTEND;TZID=America/Los_Angeles:20241221T235900
DTSTAMP:20260424T094246
CREATED:20241204T033255Z
LAST-MODIFIED:20241204T033257Z
UID:10001432-1734813000-1734825540@izprveruke.com
SUMMARY:Šejla Zonić & Anid Ćušić - Atlanta
DESCRIPTION:Šejla Zonić & Anid Ćušić live in Atlanta. Info & rezervacije 770-743-5234
URL:https://izprveruke.com/event/sejla-zonic-anid-cusic-atlanta/
LOCATION:Royal Ballroom\, 6185 Buford hwy Bldg C\, Peachtree Corners\, GA\, United States
CATEGORIES:Koncerti
ATTACH;FMTTYPE=image/jpeg:https://izprveruke.com/wp-content/uploads/2024/12/sejla_anid.jpg
GEO:33.9320852;-84.2245905
X-APPLE-STRUCTURED-LOCATION;VALUE=URI;X-ADDRESS=Royal Ballroom 6185 Buford hwy Bldg C Peachtree Corners GA United States;X-APPLE-RADIUS=500;X-TITLE=6185 Buford hwy Bldg C:geo:-84.2245905,33.9320852
END:VEVENT
END:VCALENDAR