BEGIN:VCALENDAR
VERSION:2.0
PRODID:-//Iz Prve Ruke - Koncerti u Americi i Kanadi | Lokalna Dešavanja - ECPv6.15.20//NONSGML v1.0//EN
CALSCALE:GREGORIAN
METHOD:PUBLISH
X-WR-CALNAME:Iz Prve Ruke - Koncerti u Americi i Kanadi | Lokalna Dešavanja
X-ORIGINAL-URL:https://izprveruke.com
X-WR-CALDESC:Events for Iz Prve Ruke - Koncerti u Americi i Kanadi | Lokalna Dešavanja
REFRESH-INTERVAL;VALUE=DURATION:PT1H
X-Robots-Tag:noindex
X-PUBLISHED-TTL:PT1H
BEGIN:VTIMEZONE
TZID:America/Los_Angeles
BEGIN:DAYLIGHT
TZOFFSETFROM:-0800
TZOFFSETTO:-0700
TZNAME:PDT
DTSTART:20230312T100000
END:DAYLIGHT
BEGIN:STANDARD
TZOFFSETFROM:-0700
TZOFFSETTO:-0800
TZNAME:PST
DTSTART:20231105T090000
END:STANDARD
BEGIN:DAYLIGHT
TZOFFSETFROM:-0800
TZOFFSETTO:-0700
TZNAME:PDT
DTSTART:20240310T100000
END:DAYLIGHT
BEGIN:STANDARD
TZOFFSETFROM:-0700
TZOFFSETTO:-0800
TZNAME:PST
DTSTART:20241103T090000
END:STANDARD
BEGIN:DAYLIGHT
TZOFFSETFROM:-0800
TZOFFSETTO:-0700
TZNAME:PDT
DTSTART:20250309T100000
END:DAYLIGHT
BEGIN:STANDARD
TZOFFSETFROM:-0700
TZOFFSETTO:-0800
TZNAME:PST
DTSTART:20251102T090000
END:STANDARD
END:VTIMEZONE
BEGIN:VEVENT
DTSTART;TZID=America/Los_Angeles:20241213T203000
DTEND;TZID=America/Los_Angeles:20241213T235900
DTSTAMP:20260424T094249
CREATED:20241111T040645Z
LAST-MODIFIED:20241111T040647Z
UID:10001424-1734121800-1734134340@izprveruke.com
SUMMARY:Enes Begovic - Jacksonville
DESCRIPTION:Enes Begovic & gosti. Vise informacija 904-866-2732
URL:https://izprveruke.com/event/enes-begovic-jacksonville/
LOCATION:Jax Restaurant & Grill\, Atlantic Boulevard 8136\, Jacksonville\, Florida\, 32211\, United States
CATEGORIES:Koncerti
ATTACH;FMTTYPE=image/jpeg:https://izprveruke.com/wp-content/uploads/2024/10/enesbegovic.jpg
GEO:30.3134828;-81.5708671
X-APPLE-STRUCTURED-LOCATION;VALUE=URI;X-ADDRESS=Jax Restaurant & Grill Atlantic Boulevard 8136 Jacksonville Florida 32211 United States;X-APPLE-RADIUS=500;X-TITLE=Atlantic Boulevard 8136:geo:-81.5708671,30.3134828
END:VEVENT
END:VCALENDAR