BEGIN:VCALENDAR
VERSION:2.0
PRODID:-//Iz Prve Ruke - Koncerti u Americi i Kanadi | Lokalna Dešavanja - ECPv6.15.20//NONSGML v1.0//EN
CALSCALE:GREGORIAN
METHOD:PUBLISH
X-WR-CALNAME:Iz Prve Ruke - Koncerti u Americi i Kanadi | Lokalna Dešavanja
X-ORIGINAL-URL:https://izprveruke.com
X-WR-CALDESC:Events for Iz Prve Ruke - Koncerti u Americi i Kanadi | Lokalna Dešavanja
REFRESH-INTERVAL;VALUE=DURATION:PT1H
X-Robots-Tag:noindex
X-PUBLISHED-TTL:PT1H
BEGIN:VTIMEZONE
TZID:America/Los_Angeles
BEGIN:DAYLIGHT
TZOFFSETFROM:-0800
TZOFFSETTO:-0700
TZNAME:PDT
DTSTART:20230312T100000
END:DAYLIGHT
BEGIN:STANDARD
TZOFFSETFROM:-0700
TZOFFSETTO:-0800
TZNAME:PST
DTSTART:20231105T090000
END:STANDARD
BEGIN:DAYLIGHT
TZOFFSETFROM:-0800
TZOFFSETTO:-0700
TZNAME:PDT
DTSTART:20240310T100000
END:DAYLIGHT
BEGIN:STANDARD
TZOFFSETFROM:-0700
TZOFFSETTO:-0800
TZNAME:PST
DTSTART:20241103T090000
END:STANDARD
BEGIN:DAYLIGHT
TZOFFSETFROM:-0800
TZOFFSETTO:-0700
TZNAME:PDT
DTSTART:20250309T100000
END:DAYLIGHT
BEGIN:STANDARD
TZOFFSETFROM:-0700
TZOFFSETTO:-0800
TZNAME:PST
DTSTART:20251102T090000
END:STANDARD
END:VTIMEZONE
BEGIN:VEVENT
DTSTART;TZID=America/Los_Angeles:20241128T203000
DTEND;TZID=America/Los_Angeles:20241128T235900
DTSTAMP:20260424T091540
CREATED:20241022T013829Z
LAST-MODIFIED:20241022T013833Z
UID:10001410-1732825800-1732838340@izprveruke.com
SUMMARY:Emir Djulovic - Chicago
DESCRIPTION:Emir Djulovic live in Chicago. \n\n\n\nVise informacija 773-425-3911
URL:https://izprveruke.com/event/emir-djulovic-chicago-2/
LOCATION:Holiday Inn\, 5300 W Touhy Ave.\, Skokie\, Illinois\, United States
CATEGORIES:Koncerti
ATTACH;FMTTYPE=image/jpeg:https://izprveruke.com/wp-content/uploads/2023/07/emirdjulovic.jpg
GEO:42.012648;-87.7608039
X-APPLE-STRUCTURED-LOCATION;VALUE=URI;X-ADDRESS=Holiday Inn 5300 W Touhy Ave. Skokie Illinois United States;X-APPLE-RADIUS=500;X-TITLE=5300 W Touhy Ave.:geo:-87.7608039,42.012648
END:VEVENT
END:VCALENDAR