BEGIN:VCALENDAR
VERSION:2.0
PRODID:-//Iz Prve Ruke - Koncerti u Americi i Kanadi | Lokalna Dešavanja - ECPv6.15.20//NONSGML v1.0//EN
CALSCALE:GREGORIAN
METHOD:PUBLISH
X-WR-CALNAME:Iz Prve Ruke - Koncerti u Americi i Kanadi | Lokalna Dešavanja
X-ORIGINAL-URL:https://izprveruke.com
X-WR-CALDESC:Events for Iz Prve Ruke - Koncerti u Americi i Kanadi | Lokalna Dešavanja
REFRESH-INTERVAL;VALUE=DURATION:PT1H
X-Robots-Tag:noindex
X-PUBLISHED-TTL:PT1H
BEGIN:VTIMEZONE
TZID:America/Los_Angeles
BEGIN:DAYLIGHT
TZOFFSETFROM:-0800
TZOFFSETTO:-0700
TZNAME:PDT
DTSTART:20230312T100000
END:DAYLIGHT
BEGIN:STANDARD
TZOFFSETFROM:-0700
TZOFFSETTO:-0800
TZNAME:PST
DTSTART:20231105T090000
END:STANDARD
BEGIN:DAYLIGHT
TZOFFSETFROM:-0800
TZOFFSETTO:-0700
TZNAME:PDT
DTSTART:20240310T100000
END:DAYLIGHT
BEGIN:STANDARD
TZOFFSETFROM:-0700
TZOFFSETTO:-0800
TZNAME:PST
DTSTART:20241103T090000
END:STANDARD
BEGIN:DAYLIGHT
TZOFFSETFROM:-0800
TZOFFSETTO:-0700
TZNAME:PDT
DTSTART:20250309T100000
END:DAYLIGHT
BEGIN:STANDARD
TZOFFSETFROM:-0700
TZOFFSETTO:-0800
TZNAME:PST
DTSTART:20251102T090000
END:STANDARD
END:VTIMEZONE
BEGIN:VEVENT
DTSTART;TZID=America/Los_Angeles:20241123T203000
DTEND;TZID=America/Los_Angeles:20241123T235900
DTSTAMP:20260424T091540
CREATED:20241022T013524Z
LAST-MODIFIED:20241022T013526Z
UID:10001407-1732393800-1732406340@izprveruke.com
SUMMARY:Emir Djulovic - Utica
DESCRIPTION:Emir Djulovic live in Utica. \n\n\n\nVise informacija 315-527-3856
URL:https://izprveruke.com/event/emir-djulovic-utica-2/
LOCATION:Valentino’s Banquet Hall\, 3899 Oneida St.\, New Hartford\, NY\, United States
CATEGORIES:Koncerti
ATTACH;FMTTYPE=image/jpeg:https://izprveruke.com/wp-content/uploads/2023/07/emirdjulovic.jpg
GEO:43.051199;-75.2737
X-APPLE-STRUCTURED-LOCATION;VALUE=URI;X-ADDRESS=Valentino’s Banquet Hall 3899 Oneida St. New Hartford NY United States;X-APPLE-RADIUS=500;X-TITLE=3899 Oneida St.:geo:-75.2737,43.051199
END:VEVENT
END:VCALENDAR