BEGIN:VCALENDAR
VERSION:2.0
PRODID:-//Iz Prve Ruke - Koncerti u Americi i Kanadi | Lokalna Dešavanja - ECPv6.15.20//NONSGML v1.0//EN
CALSCALE:GREGORIAN
METHOD:PUBLISH
X-ORIGINAL-URL:https://izprveruke.com
X-WR-CALDESC:Events for Iz Prve Ruke - Koncerti u Americi i Kanadi | Lokalna Dešavanja
REFRESH-INTERVAL;VALUE=DURATION:PT1H
X-Robots-Tag:noindex
X-PUBLISHED-TTL:PT1H
BEGIN:VTIMEZONE
TZID:America/Los_Angeles
BEGIN:DAYLIGHT
TZOFFSETFROM:-0800
TZOFFSETTO:-0700
TZNAME:PDT
DTSTART:20230312T100000
END:DAYLIGHT
BEGIN:STANDARD
TZOFFSETFROM:-0700
TZOFFSETTO:-0800
TZNAME:PST
DTSTART:20231105T090000
END:STANDARD
BEGIN:DAYLIGHT
TZOFFSETFROM:-0800
TZOFFSETTO:-0700
TZNAME:PDT
DTSTART:20240310T100000
END:DAYLIGHT
BEGIN:STANDARD
TZOFFSETFROM:-0700
TZOFFSETTO:-0800
TZNAME:PST
DTSTART:20241103T090000
END:STANDARD
BEGIN:DAYLIGHT
TZOFFSETFROM:-0800
TZOFFSETTO:-0700
TZNAME:PDT
DTSTART:20250309T100000
END:DAYLIGHT
BEGIN:STANDARD
TZOFFSETFROM:-0700
TZOFFSETTO:-0800
TZNAME:PST
DTSTART:20251102T090000
END:STANDARD
END:VTIMEZONE
BEGIN:VEVENT
DTSTART;TZID=America/Los_Angeles:20241102T210000
DTEND;TZID=America/Los_Angeles:20241103T020000
DTSTAMP:20260424T091634
CREATED:20240927T181640Z
LAST-MODIFIED:20240927T181642Z
UID:10001404-1730581200-1730599200@izprveruke.com
SUMMARY:Almir & Tribune Band - Connecticut
DESCRIPTION:Vise informacija 347-701-3314
URL:https://izprveruke.com/event/almir-tribune-band-connecticut/
LOCATION:Butcher Bros Steakhouse\, Highland Avenue 1410\, Cheshire\, Connecticut\, 06410\, United States
CATEGORIES:Koncerti
ATTACH;FMTTYPE=image/jpeg:https://izprveruke.com/wp-content/uploads/2022/02/tribunband.jpg
GEO:41.5393736;-72.8924769
X-APPLE-STRUCTURED-LOCATION;VALUE=URI;X-ADDRESS=Butcher Bros Steakhouse Highland Avenue 1410 Cheshire Connecticut 06410 United States;X-APPLE-RADIUS=500;X-TITLE=Highland Avenue 1410:geo:-72.8924769,41.5393736
END:VEVENT
BEGIN:VEVENT
DTSTART;TZID=America/Los_Angeles:20241103T200000
DTEND;TZID=America/Los_Angeles:20241103T235900
DTSTAMP:20260424T091634
CREATED:20241022T015230Z
LAST-MODIFIED:20241022T015242Z
UID:10001413-1730664000-1730678340@izprveruke.com
SUMMARY:Bajaga & Instruktori - Vancouver
DESCRIPTION:Dodjite da proslavimo zajedno 40 godina ljubavi i muzike uz spektakularanu scenu i zvuk\, i nezaboravno putovanje kroz 40 godina hitova.
URL:https://izprveruke.com/event/bajaga-instruktori-vancouver/
LOCATION:CB Live\, 21001 N Tatum Blvd.\, Phoenix\, AZ\, United States
CATEGORIES:Koncerti
ATTACH;FMTTYPE=image/jpeg:https://izprveruke.com/wp-content/uploads/2024/09/bajaga.jpg
GEO:33.6765082;-111.9761103
X-APPLE-STRUCTURED-LOCATION;VALUE=URI;X-ADDRESS=CB Live 21001 N Tatum Blvd. Phoenix AZ United States;X-APPLE-RADIUS=500;X-TITLE=21001 N Tatum Blvd.:geo:-111.9761103,33.6765082
END:VEVENT
END:VCALENDAR