BEGIN:VCALENDAR
VERSION:2.0
PRODID:-//Iz Prve Ruke - Koncerti u Americi i Kanadi | Lokalna Dešavanja - ECPv6.15.20//NONSGML v1.0//EN
CALSCALE:GREGORIAN
METHOD:PUBLISH
X-WR-CALNAME:Iz Prve Ruke - Koncerti u Americi i Kanadi | Lokalna Dešavanja
X-ORIGINAL-URL:https://izprveruke.com
X-WR-CALDESC:Events for Iz Prve Ruke - Koncerti u Americi i Kanadi | Lokalna Dešavanja
REFRESH-INTERVAL;VALUE=DURATION:PT1H
X-Robots-Tag:noindex
X-PUBLISHED-TTL:PT1H
BEGIN:VTIMEZONE
TZID:America/Los_Angeles
BEGIN:DAYLIGHT
TZOFFSETFROM:-0800
TZOFFSETTO:-0700
TZNAME:PDT
DTSTART:20230312T100000
END:DAYLIGHT
BEGIN:STANDARD
TZOFFSETFROM:-0700
TZOFFSETTO:-0800
TZNAME:PST
DTSTART:20231105T090000
END:STANDARD
BEGIN:DAYLIGHT
TZOFFSETFROM:-0800
TZOFFSETTO:-0700
TZNAME:PDT
DTSTART:20240310T100000
END:DAYLIGHT
BEGIN:STANDARD
TZOFFSETFROM:-0700
TZOFFSETTO:-0800
TZNAME:PST
DTSTART:20241103T090000
END:STANDARD
BEGIN:DAYLIGHT
TZOFFSETFROM:-0800
TZOFFSETTO:-0700
TZNAME:PDT
DTSTART:20250309T100000
END:DAYLIGHT
BEGIN:STANDARD
TZOFFSETFROM:-0700
TZOFFSETTO:-0800
TZNAME:PST
DTSTART:20251102T090000
END:STANDARD
END:VTIMEZONE
BEGIN:VEVENT
DTSTART;TZID=America/Los_Angeles:20240526T193000
DTEND;TZID=America/Los_Angeles:20240526T235900
DTSTAMP:20260424T211247
CREATED:20240513T044845Z
LAST-MODIFIED:20240513T044846Z
UID:10001382-1716751800-1716767940@izprveruke.com
SUMMARY:Djurologija - New York
DESCRIPTION:Djurologija live in New York.
URL:https://izprveruke.com/event/djurologija-new-york/
LOCATION:Cutting Room\, 44 East 32nd Street\, New York\, NY\, United States
CATEGORIES:Predstave
ATTACH;FMTTYPE=image/jpeg:https://izprveruke.com/wp-content/uploads/2024/05/djurologija.jpg
GEO:40.7127753;-74.0059728
X-APPLE-STRUCTURED-LOCATION;VALUE=URI;X-ADDRESS=Cutting Room 44 East 32nd Street New York NY United States;X-APPLE-RADIUS=500;X-TITLE=44 East 32nd Street:geo:-74.0059728,40.7127753
END:VEVENT
BEGIN:VEVENT
DTSTART;TZID=America/Los_Angeles:20240526T203000
DTEND;TZID=America/Los_Angeles:20240526T235900
DTSTAMP:20260424T211247
CREATED:20240513T042350Z
LAST-MODIFIED:20240513T042352Z
UID:10001375-1716755400-1716767940@izprveruke.com
SUMMARY:Breskvica - New York
DESCRIPTION:Breskvica live in New York. Vise informacija 917-568-3496
URL:https://izprveruke.com/event/breskvica-new-york/
LOCATION:Melrose Ballroom\, 36-08 33rd St.\, New York\, NY\, United States
CATEGORIES:Koncerti
ATTACH;FMTTYPE=image/jpeg:https://izprveruke.com/wp-content/uploads/2023/08/breskvica.jpg
GEO:40.7555992;-73.9286147
X-APPLE-STRUCTURED-LOCATION;VALUE=URI;X-ADDRESS=Melrose Ballroom 36-08 33rd St. New York NY United States;X-APPLE-RADIUS=500;X-TITLE=36-08 33rd St.:geo:-73.9286147,40.7555992
END:VEVENT
END:VCALENDAR