BEGIN:VCALENDAR
VERSION:2.0
PRODID:-//Iz Prve Ruke - Koncerti u Americi i Kanadi | Lokalna Dešavanja - ECPv6.15.20//NONSGML v1.0//EN
CALSCALE:GREGORIAN
METHOD:PUBLISH
X-ORIGINAL-URL:https://izprveruke.com
X-WR-CALDESC:Events for Iz Prve Ruke - Koncerti u Americi i Kanadi | Lokalna Dešavanja
REFRESH-INTERVAL;VALUE=DURATION:PT1H
X-Robots-Tag:noindex
X-PUBLISHED-TTL:PT1H
BEGIN:VTIMEZONE
TZID:America/Los_Angeles
BEGIN:DAYLIGHT
TZOFFSETFROM:-0800
TZOFFSETTO:-0700
TZNAME:PDT
DTSTART:20230312T100000
END:DAYLIGHT
BEGIN:STANDARD
TZOFFSETFROM:-0700
TZOFFSETTO:-0800
TZNAME:PST
DTSTART:20231105T090000
END:STANDARD
BEGIN:DAYLIGHT
TZOFFSETFROM:-0800
TZOFFSETTO:-0700
TZNAME:PDT
DTSTART:20240310T100000
END:DAYLIGHT
BEGIN:STANDARD
TZOFFSETFROM:-0700
TZOFFSETTO:-0800
TZNAME:PST
DTSTART:20241103T090000
END:STANDARD
BEGIN:DAYLIGHT
TZOFFSETFROM:-0800
TZOFFSETTO:-0700
TZNAME:PDT
DTSTART:20250309T100000
END:DAYLIGHT
BEGIN:STANDARD
TZOFFSETFROM:-0700
TZOFFSETTO:-0800
TZNAME:PST
DTSTART:20251102T090000
END:STANDARD
END:VTIMEZONE
BEGIN:VEVENT
DTSTART;TZID=America/Los_Angeles:20240521T200000
DTEND;TZID=America/Los_Angeles:20240521T235900
DTSTAMP:20260425T090414
CREATED:20240513T044346Z
LAST-MODIFIED:20240513T044928Z
UID:10001378-1716321600-1716335940@izprveruke.com
SUMMARY:Djurologija - Boston
DESCRIPTION:Djurologija live in Boston.
URL:https://izprveruke.com/event/djurologija-boston/
LOCATION:Scullers Jazz Club\, Soldiers Field Road\, Boston\, Massachusetts\, 02134\, United States
CATEGORIES:Predstave
ATTACH;FMTTYPE=image/jpeg:https://izprveruke.com/wp-content/uploads/2024/05/djurologija.jpg
GEO:42.360259;-71.1183201
X-APPLE-STRUCTURED-LOCATION;VALUE=URI;X-ADDRESS=Scullers Jazz Club Soldiers Field Road Boston Massachusetts 02134 United States;X-APPLE-RADIUS=500;X-TITLE=Soldiers Field Road:geo:-71.1183201,42.360259
END:VEVENT
END:VCALENDAR