BEGIN:VCALENDAR
VERSION:2.0
PRODID:-//Iz Prve Ruke - Koncerti u Americi i Kanadi | Lokalna Dešavanja - ECPv6.15.20//NONSGML v1.0//EN
CALSCALE:GREGORIAN
METHOD:PUBLISH
X-WR-CALNAME:Iz Prve Ruke - Koncerti u Americi i Kanadi | Lokalna Dešavanja
X-ORIGINAL-URL:https://izprveruke.com
X-WR-CALDESC:Events for Iz Prve Ruke - Koncerti u Americi i Kanadi | Lokalna Dešavanja
REFRESH-INTERVAL;VALUE=DURATION:PT1H
X-Robots-Tag:noindex
X-PUBLISHED-TTL:PT1H
BEGIN:VTIMEZONE
TZID:America/Los_Angeles
BEGIN:DAYLIGHT
TZOFFSETFROM:-0800
TZOFFSETTO:-0700
TZNAME:PDT
DTSTART:20230312T100000
END:DAYLIGHT
BEGIN:STANDARD
TZOFFSETFROM:-0700
TZOFFSETTO:-0800
TZNAME:PST
DTSTART:20231105T090000
END:STANDARD
BEGIN:DAYLIGHT
TZOFFSETFROM:-0800
TZOFFSETTO:-0700
TZNAME:PDT
DTSTART:20240310T100000
END:DAYLIGHT
BEGIN:STANDARD
TZOFFSETFROM:-0700
TZOFFSETTO:-0800
TZNAME:PST
DTSTART:20241103T090000
END:STANDARD
BEGIN:DAYLIGHT
TZOFFSETFROM:-0800
TZOFFSETTO:-0700
TZNAME:PDT
DTSTART:20250309T100000
END:DAYLIGHT
BEGIN:STANDARD
TZOFFSETFROM:-0700
TZOFFSETTO:-0800
TZNAME:PST
DTSTART:20251102T090000
END:STANDARD
END:VTIMEZONE
BEGIN:VEVENT
DTSTART;TZID=America/Los_Angeles:20240420T203000
DTEND;TZID=America/Los_Angeles:20240420T235900
DTSTAMP:20260425T090421
CREATED:20240115T231239Z
LAST-MODIFIED:20240115T231651Z
UID:10001335-1713645000-1713657540@izprveruke.com
SUMMARY:Halid Beslic - Des Moines
DESCRIPTION:Halid Beslic live in Des Moines. Vise informacija 515-778-8348
URL:https://izprveruke.com/event/halid-beslic-des-moines/
LOCATION:Val Air Ballroom\, 301 Ashworth Rd.\, West Des Moines\, IA\, United States
CATEGORIES:Koncerti
ATTACH;FMTTYPE=image/jpeg:https://izprveruke.com/wp-content/uploads/2024/01/halidbeslic.jpg
GEO:41.5853429;-93.706468
X-APPLE-STRUCTURED-LOCATION;VALUE=URI;X-ADDRESS=Val Air Ballroom 301 Ashworth Rd. West Des Moines IA United States;X-APPLE-RADIUS=500;X-TITLE=301 Ashworth Rd.:geo:-93.706468,41.5853429
END:VEVENT
BEGIN:VEVENT
DTSTART;TZID=America/Los_Angeles:20240420T203000
DTEND;TZID=America/Los_Angeles:20240420T235900
DTSTAMP:20260425T090421
CREATED:20240330T033755Z
LAST-MODIFIED:20240330T033757Z
UID:10001374-1713645000-1713657540@izprveruke.com
SUMMARY:Zeljko Vasic - Montreal
DESCRIPTION:Zeljko Vasic live in Montreal.
URL:https://izprveruke.com/event/zeljko-vasic-montreal/
LOCATION:Le Cabaret C\, 1600 Rue Robinson\, Laval\, QC\, Canada
CATEGORIES:Koncerti
ATTACH;FMTTYPE=image/jpeg:https://izprveruke.com/wp-content/uploads/2023/12/zeljkovasic.jpg
GEO:45.5498331;-73.7593336
X-APPLE-STRUCTURED-LOCATION;VALUE=URI;X-ADDRESS=Le Cabaret C 1600 Rue Robinson Laval QC Canada;X-APPLE-RADIUS=500;X-TITLE=1600 Rue Robinson:geo:-73.7593336,45.5498331
END:VEVENT
END:VCALENDAR