BEGIN:VCALENDAR
VERSION:2.0
PRODID:-//Iz Prve Ruke - Koncerti u Americi i Kanadi | Lokalna Dešavanja - ECPv6.15.20//NONSGML v1.0//EN
CALSCALE:GREGORIAN
METHOD:PUBLISH
X-WR-CALNAME:Iz Prve Ruke - Koncerti u Americi i Kanadi | Lokalna Dešavanja
X-ORIGINAL-URL:https://izprveruke.com
X-WR-CALDESC:Events for Iz Prve Ruke - Koncerti u Americi i Kanadi | Lokalna Dešavanja
REFRESH-INTERVAL;VALUE=DURATION:PT1H
X-Robots-Tag:noindex
X-PUBLISHED-TTL:PT1H
BEGIN:VTIMEZONE
TZID:America/Los_Angeles
BEGIN:DAYLIGHT
TZOFFSETFROM:-0800
TZOFFSETTO:-0700
TZNAME:PDT
DTSTART:20230312T100000
END:DAYLIGHT
BEGIN:STANDARD
TZOFFSETFROM:-0700
TZOFFSETTO:-0800
TZNAME:PST
DTSTART:20231105T090000
END:STANDARD
BEGIN:DAYLIGHT
TZOFFSETFROM:-0800
TZOFFSETTO:-0700
TZNAME:PDT
DTSTART:20240310T100000
END:DAYLIGHT
BEGIN:STANDARD
TZOFFSETFROM:-0700
TZOFFSETTO:-0800
TZNAME:PST
DTSTART:20241103T090000
END:STANDARD
BEGIN:DAYLIGHT
TZOFFSETFROM:-0800
TZOFFSETTO:-0700
TZNAME:PDT
DTSTART:20250309T100000
END:DAYLIGHT
BEGIN:STANDARD
TZOFFSETFROM:-0700
TZOFFSETTO:-0800
TZNAME:PST
DTSTART:20251102T090000
END:STANDARD
END:VTIMEZONE
BEGIN:VEVENT
DTSTART;TZID=America/Los_Angeles:20240126T203000
DTEND;TZID=America/Los_Angeles:20240126T235900
DTSTAMP:20260425T084851
CREATED:20240115T224601Z
LAST-MODIFIED:20240125T234233Z
UID:10001330-1706301000-1706313540@izprveruke.com
SUMMARY:Darko Lazic - Grand Rapids
DESCRIPTION:Darko Lazic live in Grand Rapids. Vise informacija 616-272-1523
URL:https://izprveruke.com/event/darko-lazic-grand-rapids/
LOCATION:Viewpond Banquet Hall\, 1665 Viewpond Dr. SE\, Grand Rapids\, Michigan\, United States
CATEGORIES:Koncerti
ATTACH;FMTTYPE=image/jpeg:https://izprveruke.com/wp-content/uploads/2024/01/darkolazic.jpg
GEO:42.880743;-85.6240139
X-APPLE-STRUCTURED-LOCATION;VALUE=URI;X-ADDRESS=Viewpond Banquet Hall 1665 Viewpond Dr. SE Grand Rapids Michigan United States;X-APPLE-RADIUS=500;X-TITLE=1665 Viewpond Dr. SE:geo:-85.6240139,42.880743
END:VEVENT
BEGIN:VEVENT
DTSTART;TZID=America/Los_Angeles:20240126T203000
DTEND;TZID=America/Los_Angeles:20240126T235900
DTSTAMP:20260425T084851
CREATED:20240115T232154Z
LAST-MODIFIED:20240115T232156Z
UID:10001339-1706301000-1706313540@izprveruke.com
SUMMARY:Pedja Jovanovic - New York
DESCRIPTION:Pedja Jovanovic live in New York
URL:https://izprveruke.com/event/pedja-jovanovic-new-york/
LOCATION:Melrose Ballroom\, 36-08 33rd St.\, New York\, NY\, United States
CATEGORIES:Koncerti
ATTACH;FMTTYPE=image/jpeg:https://izprveruke.com/wp-content/uploads/2023/10/pedjajovanovic-1.jpg
GEO:40.7555992;-73.9286147
X-APPLE-STRUCTURED-LOCATION;VALUE=URI;X-ADDRESS=Melrose Ballroom 36-08 33rd St. New York NY United States;X-APPLE-RADIUS=500;X-TITLE=36-08 33rd St.:geo:-73.9286147,40.7555992
END:VEVENT
BEGIN:VEVENT
DTSTART;TZID=America/Los_Angeles:20240126T203000
DTEND;TZID=America/Los_Angeles:20240126T235900
DTSTAMP:20260425T084851
CREATED:20240118T033031Z
LAST-MODIFIED:20240118T033033Z
UID:10001341-1706301000-1706313540@izprveruke.com
SUMMARY:Neda Ukraden - Chicago
DESCRIPTION:Neda Ukraden live in Chicago. Vise informacija 773-225-0561
URL:https://izprveruke.com/event/neda-ukraden-chicago-2/
LOCATION:220 Venue\, 7021 W Higgins Ave.\, Chicago\, Illinois\, United States
CATEGORIES:Koncerti
ATTACH;FMTTYPE=image/jpeg:https://izprveruke.com/wp-content/uploads/2022/02/nedaukraden.jpg
GEO:41.9800797;-87.8033436
X-APPLE-STRUCTURED-LOCATION;VALUE=URI;X-ADDRESS=220 Venue 7021 W Higgins Ave. Chicago Illinois United States;X-APPLE-RADIUS=500;X-TITLE=7021 W Higgins Ave.:geo:-87.8033436,41.9800797
END:VEVENT
END:VCALENDAR